Workbook

Sheet ENERO SEGURIDAD 2026
B5: DIRECCION DE SERVICIOS DE ATENCION A EMERGENCIAS EXTRA HOSPITALARIA (DAEH)
B6: NOMINA PERSONAL PERSONAL SEGURIDAD MES ENERO 2026
A11: DIRECCION DE SERVICIOS DE ATENCION A EMERGENCIAS EXTRA HOSPITALARIA
A12: NOMBRE | B12: FUNCION | C12: ESTATUS | D12: GENERO | E12: SDO.BRUTO | F12: OTROS INGR. | G12: TOTAL INGR. | H12: AFP | I12: ISR | J12: SFS | K12: OTROS DESC. | L12: TOTAL DESC. | M12: NETO
A13: BIENVENIDO ENMANUEL RODRIGUEZ | B13: ASESOR | D13: Masculino | E13: 150000 | F13: 0 | G13: 150000 | H13: 0 | I13: 26082.87 | J13: 0 | K13: 0 | L13: 26082.87 | M13: 123917.13
A14: Subtotal | B14: 1 | C14: SEGURIDAD | D14: 1 | E14: =SUM(E13) -> 150000 | F14: =SUM(F13) -> 0 | G14: =SUM(G13) -> 150000 | H14: =SUM(H13) -> 0 | I14: =SUM(I13) -> 26082.87 | J14: =SUM(J13) -> 0 | K14: =SUM(K13) -> 0 | L14: =SUM(L13) -> 26082.87 | M14: =SUM(M13) -> 123917.13
A16: DIVISION DE FISCALIZACION - DAEH
A17: NOMBRE | B17: FUNCION | C17: ESTATUS | D17: GENERO | E17: SDO.BRUTO | F17: OTROS INGR. | G17: TOTAL INGR. | H17: AFP | I17: ISR | J17: SFS | K17: OTROS DESC. | L17: TOTAL DESC. | M17: NETO
A18: ROSA ELENA LAURENCIO BRITO | B18: ENCARGADO | D18: Femenino | E18: 128000 | F18: 0 | G18: 128000 | H18: 0 | I18: 20582.87 | J18: 0 | K18: 0 | L18: 20582.87 | M18: 107417.13
A19: ANDREA TAPIA TAVERAS DE NIN | B19: SEGURIDAD | D19: Femenino | E19: 76000 | F19: 0 | G19: 76000 | H19: 0 | I19: 7582.87 | J19: 0 | K19: 0 | L19: 7582.87 | M19: 68417.13
A20: Subtotal | B20: 2 | D20: 2 | E20: =SUM(E18:E19) -> 204000 | F20: =SUM(F18:F19) -> 0 | G20: =SUM(G18:G19) -> 204000 | H20: =SUM(H18:H19) -> 0 | I20: =SUM(I18:I19) -> 28165.74 | J20: =SUM(J18:J19) -> 0 | K20: =SUM(K18:K19) -> 0 | L20: =SUM(L18:L19) -> 28165.74 | M20: =SUM(M18:M19) -> 175834.26
A23: DEPARTAMENTO ADMINISTRATIVO FINANCIERO- DAEH
A24: NOMBRE | B24: FUNCION | C24: ESTATUS | D24: GENERO | E24: SDO.BRUTO | F24: OTROS INGR. | G24: TOTAL INGR. | H24: AFP | I24: ISR | J24: SFS | K24: OTROS DESC. | L24: TOTAL DESC. | M24: NETO
A25: JUAN MANUEL VICENTE LUCIANO | B25: ENCARGADO | C25: SEGURIDAD | D25: Masculino | E25: 150000 | F25: 0 | G25: 150000 | H25: 0 | I25: 26082.87 | J25: 0 | K25: 0 | L25: 26082.87 | M25: 123917.13
A26: JAZMIN ALEXANDRA ENCARNACION DE LOS | B26: COORDINADORA | C26: SEGURIDAD | D26: Femenino | E26: 105000 | F26: 0 | G26: 105000 | H26: 0 | I26: 14832.87 | J26: 0 | K26: 0 | L26: 14832.87 | M26: 90167.13
A27: Subtotal | B27: 2 | D27: 2 | E27: =SUM(E25:E26) -> 255000 | F27: =SUM(F25:F26) -> 0 | G27: =SUM(G25:G26) -> 255000 | H27: =SUM(H25:H26) -> 0 | I27: =SUM(I25:I26) -> 40915.74 | J27: =SUM(J25:J26) -> 0 | K27: =SUM(K25:K26) -> 0 | L27: =SUM(L25:L26) -> 40915.74 | M27: =SUM(M25:M26) -> 214084.26
A29: DIVISION DE COMPRAS Y CONTRATACIONES- DAEH
A30: NOMBRE | B30: FUNCION | C30: ESTATUS | D30: GENERO | E30: SDO.BRUTO | F30: OTROS INGR. | G30: TOTAL INGR. | H30: AFP | I30: ISR | J30: SFS | K30: OTROS DESC. | L30: TOTAL DESC. | M30: NETO
A31: ALTAGRACIA SURIEL SOSA DE GONZALEZ | B31: ENCARGADO | C31: SEGURIDAD | D31: Femenino | E31: 128000 | F31: 0 | G31: 128000 | H31: 0 | I31: 20582.87 | J31: 0 | K31: 0 | L31: 20582.87 | M31: 107417.13
A32: Subtotal | B32: 1 | D32: 1 | E32: =SUM(E31) -> 128000 | F32: =SUM(F31) -> 0 | G32: =SUM(G31) -> 128000 | H32: =SUM(H31) -> 0 | I32: =SUM(I31) -> 20582.87 | J32: =SUM(J31) -> 0 | K32: =SUM(K31) -> 0 | L32: =SUM(L31) -> 20582.87 | M32: =SUM(M31) -> 107417.13
A34: DIVISION DE ALMACEN Y SUMINISTRO -DAEH
A35: NOMBRE | B35: FUNCION | C35: ESTATUS | D35: GENERO | E35: SDO.BRUTO | F35: OTROS INGR. | G35: TOTAL INGR. | H35: AFP | I35: ISR | J35: SFS | K35: OTROS DESC. | L35: TOTAL DESC. | M35: NETO
A36: VICTORIANO CONSTANZA ALCANTARA | B36: ENCARGADO | C36: SEGURIDAD | D36: Masculino | E36: 128000 | F36: 0 | G36: 128000 | H36: 0 | I36: 20582.87 | J36: 0 | K36: 0 | L36: 20582.87 | M36: 107417.13
A37: Subtotal | B37: 1 | D37: 1 | E37: =SUM(E36) -> 128000 | F37: =SUM(F36) -> 0 | G37: =SUM(G36) -> 128000 | H37: =SUM(H36) -> 0 | I37: =SUM(I36) -> 20582.87 | J37: =SUM(J36) -> 0 | K37: =SUM(K36) -> 0 | L37: =SUM(L36) -> 20582.87 | M37: =SUM(M36) -> 107417.13
A39: DEPARTAMENTO DE TECNOLOGIAS DE LA INFORMACION Y COMUNICACION- DAEH
A40: NOMBRE | B40: FUNCION | C40: ESTATUS | D40: GENERO | E40: SDO.BRUTO | F40: OTROS INGR. | G40: TOTAL INGR. | H40: AFP | I40: ISR | J40: SFS | K40: OTROS DESC. | L40: TOTAL DESC. | M40: NETO
A41: TOMAS GARCIA | B41: SUPERVISOR(A) | C41: SEGURIDAD | D41: Masculino | E41: 150000 | F41: 0 | G41: 150000 | H41: 0 | I41: 26082.87 | J41: 0 | K41: 0 | L41: 26082.87 | M41: 123917.13
A42: VICTOR MANUEL ENCARNACION DE LOS SA | B42: SEGURIDAD | C42: SEGURIDAD | D42: Masculino | E42: 55000 | F42: 0 | G42: 55000 | H42: 0 | I42: 3195.88 | J42: 0 | K42: 0 | L42: 3195.88 | M42: 51804.12
A43: Subtotal | B43: 2 | D43: 2 | E43: =SUM(E41:E42) -> 205000 | F43: 0 | G43: 205000 | H43: 0 | I43: 29278.75 | J43: 0 | K43: 0 | L43: 29278.75 | M43: 175721.25
A47: CENTRO DE REGULACION DE URGENCIAS Y EMERGENCIAS GRAN SANTO DOMINGO - DAEH
A48: NOMBRE | B48: FUNCION | C48: ESTATUS | D48: GENERO | E48: SDO.BRUTO | F48: OTROS INGR. | G48: TOTAL INGR. | H48: AFP | I48: ISR | J48: SFS | K48: OTROS DESC. | L48: TOTAL DESC. | M48: NETO
A49: MODESTO HERIBERTO EUSEBIO MONTILLA | B49: ENCARGADO (A) | C49: SEGURIDAD | D49: Masculino | E49: 150000 | F49: 0 | G49: 150000 | H49: 0 | I49: 26082.87 | J49: 0 | K49: 0 | L49: 26082.87 | M49: 123917.13
A50: HENRY FELIX PEREZ | B50: SUPERVISOR DE SEGURIDAD | C50: SEGURIDAD | D50: Masculino | E50: 45000 | F50: 0 | G50: 45000 | H50: 0 | I50: 1547.25 | J50: 0 | K50: 0 | L50: 1547.25 | M50: 43452.75
A51: SIRILO HERNANDEZ LAURENCIO | B51: SUPERVISOR DE SEGURIDAD | C51: SEGURIDAD | D51: Masculino | E51: 35000 | F51: 0 | G51: 35000 | H51: 0 | I51: 47.25 | J51: 0 | K51: 0 | L51: 47.25 | M51: 34952.75
A52: GUSTAVO SANTANA DE LA ROSA | B52: SEGURIDAD | C52: SEGURIDAD | D52: Masculino | E52: 15000 | F52: 0 | G52: 15000 | H52: 0 | I52: 0 | J52: 0 | K52: 0 | L52: 0 | M52: 15000
A53: ANTERO HERRERA ROSARIO | B53: SEGURIDAD | C53: SEGURIDAD | D53: Masculino | E53: 15000 | F53: 0 | G53: 15000 | H53: 0 | I53: 0 | J53: 0 | K53: 0 | L53: 0 | M53: 15000
A54: FERNANDO DE LA ROSA LORENZO | B54: SEGURIDAD | C54: SEGURIDAD | D54: Masculino | E54: 15000 | F54: 0 | G54: 15000 | H54: 0 | I54: 0 | J54: 0 | K54: 0 | L54: 0 | M54: 15000
A55: JOSE LUIS MEJIA ACEVEDO | B55: SEGURIDAD | C55: SEGURIDAD | D55: Masculino | E55: 30000 | F55: 0 | G55: 30000 | H55: 0 | I55: 0 | J55: 0 | K55: 0 | L55: 0 | M55: 30000
A56: MANOLO MORALES CABRERA | B56: SEGURIDAD | C56: SEGURIDAD | D56: Masculino | E56: 15000 | F56: 0 | G56: 15000 | H56: 0 | I56: 0 | J56: 0 | K56: 0 | L56: 0 | M56: 15000
A57: FRANKLIN ROSARIO LUPERON | B57: SEGURIDAD | C57: SEGURIDAD | D57: Masculino | E57: 15000 | F57: 0 | G57: 15000 | H57: 0 | I57: 0 | J57: 0 | K57: 0 | L57: 0 | M57: 15000
A58: ROBERTO RIVERA | B58: SEGURIDAD | C58: SEGURIDAD | D58: Masculino | E58: 15000 | F58: 0 | G58: 15000 | H58: 0 | I58: 0 | J58: 0 | K58: 0 | L58: 0 | M58: 15000
A59: JUAN PEÑA REYES | B59: SEGURIDAD | C59: SEGURIDAD | D59: Masculino | E59: 15000 | F59: 0 | G59: 15000 | H59: 0 | I59: 0 | J59: 0 | K59: 0 | L59: 0 | M59: 15000
A60: VICTOR COLON DE JESUS | B60: SEGURIDAD | C60: SEGURIDAD | D60: Femenino | E60: 15000 | F60: 0 | G60: 15000 | H60: 0 | I60: 0 | J60: 0 | K60: 0 | L60: 0 | M60: 15000
... A67: CARLOS BIENVENIDO SORIANO AQUINO | B67: SEGURIDAD | C67: SEGURIDAD | D67: Masculino | E67: 35000 | F67: 0 | G67: 35000 | H67: 0 | I67: 47.25 | J67: 0 | K67: 0 | L67: 47.25 | M67: 34952.75
A68: Subtotal | B68: 19 | D68: 19 | E68: =SUM(E49:E67) -> 505000 | F68: =SUM(F49:F67) -> 0 | G68: =SUM(G49:G67) -> 505000 | H68: =SUM(H49:H67) -> 0 | I68: =SUM(I49:I67) -> 27724.62 | J68: =SUM(J49:J67) -> 0 | K68: =SUM(K49:K67) -> 14837.15 | L68: =SUM(L49:L67) -> 42561.77 | M68: =SUM(M49:M67) -> 462438.23
A70: CENTRO DE REGULACION DE URGENCIAS Y EMERGENCIAS SAN CRISTOBAL- DAEH
A71: NOMBRE | B71: FUNCION | C71: ESTATUS | D71: GENERO | E71: SDO.BRUTO | F71: OTROS INGR. | G71: TOTAL INGR. | H71: AFP | I71: ISR | J71: SFS | K71: OTROS DESC. | L71: TOTAL DESC. | M71: NETO
A72: ALVARO VINICIO RODRIGUEZ | B72: SUPERVISOR DE SEGURIDAD | C72: SEGURIDAD | D72: Masculino | E72: 35000 | F72: 0 | G72: 35000 | H72: 0 | I72: 47.25 | J72: 0 | K72: 0 | L72: 47.25 | M72: 34952.75
A73: SANTO GARCIA NINA | B73: SEGURIDAD | C73: SEGURIDAD | D73: Masculino | E73: 15000 | F73: 0 | G73: 15000 | H73: 0 | I73: 0 | J73: 0 | K73: 0 | L73: 0 | M73: 15000
A74: MAYCOL SANCHEZ JORGE | B74: SEGURIDAD | C74: SEGURIDAD | D74: Masculino | E74: 15000 | F74: 0 | G74: 15000 | H74: 0 | I74: 0 | J74: 0 | K74: 0 | L74: 0 | M74: 15000
A75: DANIELE AMAURY AMORE HERNANDEZ | B75: SEGURIDAD | C75: SEGURIDAD | D75: Masculino | E75: 15000 | F75: 0 | G75: 15000 | H75: 0 | I75: 0 | J75: 0 | K75: 0 | L75: 0 | M75: 15000
A76: MANAURIS ENCARNACION MONTERO | B76: SEGURIDAD | C76: SEGURIDAD | D76: Masculino | E76: 15000 | F76: 0 | G76: 15000 | H76: 0 | I76: 0 | J76: 0 | K76: 0 | L76: 0 | M76: 15000
A77: Subtotal | B77: 5 | D77: 5 | E77: =SUM(E72:E76) -> 95000 | F77: =SUM(F72:F76) -> 0 | G77: =SUM(G72:G76) -> 95000 | H77: =SUM(H72:H76) -> 0 | I77: =SUM(I72:I76) -> 47.25 | J77: =SUM(J72:J76) -> 0 | K77: =SUM(K72:K76) -> 0 | L77: =SUM(L72:L76) -> 47.25 | M77: =SUM(M72:M76) -> 94952.75
A79: CENTRO DE REGULACION DE URGENCIAS Y EMERGENCIAS PERAVIA- DAEH
A80: NOMBRE | B80: FUNCION | C80: ESTATUS | D80: GENERO | E80: SDO.BRUTO | F80: OTROS INGR. | G80: TOTAL INGR. | H80: AFP | I80: ISR | J80: SFS | K80: OTROS DESC. | L80: TOTAL DESC. | M80: NETO
A81: JAIRO MONTERO ROSARIO | B81: SEGURIDAD | C81: SEGURIDAD | D81: Masculino | E81: 15000 | F81: 0 | G81: 15000 | H81: 0 | I81: 0 | J81: 0 | K81: 0 | L81: 0 | M81: 15000
A82: CARLOS BIENVENIDO DEL ROSARIO | B82: SEGURIDAD | C82: SEGURIDAD | D82: Masculino | E82: 15000 | F82: 0 | G82: 15000 | H82: 0 | I82: 0 | J82: 0 | K82: 0 | L82: 0 | M82: 15000
A83: MIGUEL ARIAS NIVAR | B83: SEGURIDAD | C83: SEGURIDAD | D83: Masculino | E83: 15000 | F83: 0 | G83: 15000 | H83: 0 | I83: 0 | J83: 0 | K83: 0 | L83: 0 | M83: 15000
A84: Subtotal | B84: 3 | D84: 3 | E84: =SUM(E81:E83) -> 45000 | F84: =SUM(F81:F83) -> 0 | G84: =SUM(G81:G83) -> 45000 | H84: =SUM(H81:H83) -> 0 | I84: =SUM(I81:I83) -> 0 | J84: =SUM(J81:J83) -> 0 | K84: =SUM(K81:K83) -> 0 | L84: =SUM(L81:L83) -> 0 | M84: =SUM(M81:M83) -> 45000
A86: CENTRO DE REGULACION DE URGENCIAS Y EMERGENCIAS SAN JOSE DE OCOA- DAEH
A87: NOMBRE | B87: FUNCION | C87: ESTATUS | D87: GENERO | E87: SDO.BRUTO | F87: OTROS INGR. | G87: TOTAL INGR. | H87: AFP | I87: ISR | J87: SFS | K87: OTROS DESC. | L87: TOTAL DESC. | M87: NETO
A88: YEURIS MORILLO MONTERO | B88: SEGURIDAD | C88: SEGURIDAD | D88: Masculino | E88: 15000 | F88: 0 | G88: 15000 | H88: 0 | I88: 0 | J88: 0 | K88: 0 | L88: 0 | M88: 15000
A89: Subtotal | B89: 1 | D89: 1 | E89: =SUM(E88) -> 15000 | F89: =SUM(F88) -> 0 | G89: =SUM(G88) -> 15000 | H89: =SUM(H88) -> 0 | I89: =SUM(I88) -> 0 | J89: =SUM(J88) -> 0 | K89: =SUM(K88) -> 0 | L89: =SUM(L88) -> 0 | M89: =SUM(M88) -> 15000
A91: CENTRO DE REGULACION DE URGENCIAS Y EMERGENCIAS SANTIAGO DE LOS CABALLEROS- DAEH
A92: NOMBRE | B92: FUNCION | C92: ESTATUS | D92: GENERO | E92: SDO.BRUTO | F92: OTROS INGR. | G92: TOTAL INGR. | H92: AFP | I92: ISR | J92: SFS | K92: OTROS DESC. | L92: TOTAL DESC. | M92: NETO
A93: DARIO SEGURA SAMBOY | B93: SEGURIDAD | C93: SEGURIDAD | D93: Masculino | E93: 15000 | F93: 0 | G93: 15000 | H93: 0 | I93: 0 | J93: 0 | K93: 0 | L93: 0 | M93: 15000
A94: ALEXANDER ROSARIO FRANCO | B94: SEGURIDAD | C94: SEGURIDAD | D94: Masculino | E94: 15000 | F94: 0 | G94: 15000 | H94: 0 | I94: 0 | J94: 0 | K94: 8670.48 | L94: 8670.48 | M94: 6329.52
A95: Subtotal | B95: 2 | D95: 2 | E95: =SUM(E93:E94) -> 30000 | F95: =SUM(F93:F94) -> 0 | G95: =SUM(G93:G94) -> 30000 | H95: =SUM(H93:H94) -> 0 | I95: =SUM(I93:I94) -> 0 | J95: =SUM(J93:J94) -> 0 | K95: =SUM(K93:K94) -> 8670.48 | L95: =SUM(L93:L94) -> 8670.48 | M95: =SUM(M93:M94) -> 21329.52
A97: CENTRO DE REGULACION DE URGENCIAS Y EMERGENCIAS PUERTO PLATA- DAEH
A98: NOMBRE | B98: FUNCION | C98: ESTATUS | D98: GENERO | E98: SDO.BRUTO | F98: OTROS INGR. | G98: TOTAL INGR. | H98: AFP | I98: ISR | J98: SFS | K98: OTROS DESC. | L98: TOTAL DESC. | M98: NETO
A99: FELIX JOEL RODRIGUEZ FERNANDEZ | B99: SUPERVISOR DE SEGURIDAD | C99: SEGURIDAD | D99: Masculino | E99: 35000 | F99: 0 | G99: 35000 | H99: 0 | I99: 47.25 | J99: 0 | K99: 0 | L99: 47.25 | M99: 34952.75
A100: MIGUEL ANGEL RODRIGUEZ BERA | B100: SEGURIDAD | C100: SEGURIDAD | D100: Masculino | E100: 15000 | F100: 0 | G100: 15000 | H100: 0 | I100: 0 | J100: 0 | K100: 0 | L100: 0 | M100: 15000
A101: Subtotal | B101: 2 | D101: 2 | E101: =SUM(E99:E100) -> 50000 | F101: =SUM(F99:F100) -> 0 | G101: =SUM(G99:G100) -> 50000 | H101: =SUM(H99:H100) -> 0 | I101: =SUM(I99:I100) -> 47.25 | J101: =SUM(J99:J100) -> 0 | K101: =SUM(K99:K100) -> 0 | L101: =SUM(L99:L100) -> 47.25 | M101: =SUM(M99:M100) -> 49952.75
A103: CENTRO DE REGULACION DE URGENCIAS Y EMERGENCIAS ESPAILLAT- DAEH
A104: NOMBRE | B104: FUNCION | C104: ESTATUS | D104: GENERO | E104: SDO.BRUTO | F104: OTROS INGR. | G104: TOTAL INGR. | H104: AFP | I104: ISR | J104: SFS | K104: OTROS DESC. | L104: TOTAL DESC. | M104: NETO
A105: YODALIS FLORENTINO | B105: SEGURIDAD | C105: SEGURIDAD | D105: Masculino | E105: 15000 | F105: 0 | G105: 15000 | H105: 0 | I105: 0 | J105: 0 | K105: 0 | L105: 0 | M105: 15000
A106: RAFAEL FELIZ | B106: SEGURIDAD | C106: SEGURIDAD | D106: Masculino | E106: 15000 | F106: 0 | G106: 15000 | H106: 0 | I106: 0 | J106: 0 | K106: 0 | L106: 0 | M106: 15000
A107: Subtotal | B107: 2 | D107: 2 | E107: =SUM(E105:E106) -> 30000 | F107: =SUM(F105:F106) -> 0 | G107: =SUM(G105:G106) -> 30000 | H107: =SUM(H105:H106) -> 0 | I107: =SUM(I105:I106) -> 0 | J107: =SUM(J105:J106) -> 0 | K107: =SUM(K105:K106) -> 0 | L107: =SUM(L105:L106) -> 0 | M107: =SUM(M105:M106) -> 30000
A109: CENTRO DE REGULACION DE URGENCIAS Y EMERGENCIAS DUARTE- DAEH
A110: NOMBRE | B110: FUNCION | C110: ESTATUS | D110: GENERO | E110: SDO.BRUTO | F110: OTROS INGR. | G110: TOTAL INGR. | H110: AFP | I110: ISR | J110: SFS | K110: OTROS DESC. | L110: TOTAL DESC. | M110: NETO
A111: DEIVY VALENTIN SANTANA ENCARNACION | B111: SUPERVISOR DE SEGURIDAD | C111: SEGURIDAD | D111: Masculino | E111: 35000 | F111: 0 | G111: 35000 | H111: 0 | I111: 47.25 | J111: 0 | K111: 0 | L111: 47.25 | M111: 34952.75
A112: SANTO NOLBERTO PERALTA VALERIO | B112: SEGURIDAD | C112: SEGURIDAD | D112: Masculino | E112: 15000 | F112: 0 | G112: 15000 | H112: 0 | I112: 0 | J112: 0 | K112: 0 | L112: 0 | M112: 15000
A113: JUAN DE LA ROSA | B113: SEGURIDAD | C113: SEGURIDAD | D113: Masculino | E113: 15000 | F113: 0 | G113: 15000 | H113: 0 | I113: 0 | J113: 0 | K113: 0 | L113: 0 | M113: 15000
A114: Subtotal | B114: 3 | D114: 3 | E114: =SUM(E111:E113) -> 65000 | F114: =SUM(F111:F113) -> 0 | G114: =SUM(G111:G113) -> 65000 | H114: =SUM(H111:H113) -> 0 | I114: =SUM(I111:I113) -> 47.25 | J114: =SUM(J111:J113) -> 0 | K114: =SUM(K111:K113) -> 0 | L114: =SUM(L111:L113) -> 47.25 | M114: =SUM(M111:M113) -> 64952.75
A116: CENTRO DE REGULACION DE URGENCIAS Y EMERGENCIAS HERMANAS MIRABAL- DAEH
A117: NOMBRE | B117: FUNCION | C117: ESTATUS | D117: GENERO | E117: SDO.BRUTO | F117: OTROS INGR. | G117: TOTAL INGR. | H117: AFP | I117: ISR | J117: SFS | K117: OTROS DESC. | L117: TOTAL DESC. | M117: NETO
A118: AMAURIS MARIA FRIAS | B118: SEGURIDAD | C118: SEGURIDAD | D118: Masculino | E118: 15000 | F118: 0 | G118: 15000 | H118: 0 | I118: 0 | J118: 0 | K118: 0 | L118: 0 | M118: 15000
A119: SILVIO PERDOMO AQUINO | B119: SEGURIDAD | C119: SEGURIDAD | D119: Masculino | E119: 15000 | F119: 0 | G119: 15000 | H119: 0 | I119: 0 | J119: 0 | K119: 0 | L119: 0 | M119: 15000
A120: Subtotal | B120: 2 | D120: 2 | E120: =SUM(E118:E119) -> 30000 | F120: =SUM(F118:F119) -> 0 | G120: =SUM(G118:G119) -> 30000 | H120: =SUM(H118:H119) -> 0 | I120: =SUM(I118:I119) -> 0 | J120: =SUM(J118:J119) -> 0 | K120: =SUM(K118:K119) -> 0 | L120: =SUM(L118:L119) -> 0 | M120: =SUM(M118:M119) -> 30000
A122: CENTRO DE REGULACION DE URGENCIAS Y EMERGENCIAS MARIA TRINIDAD SANCHEZ- DAEH
A123: NOMBRE | B123: FUNCION | C123: ESTATUS | D123: GENERO | E123: SDO.BRUTO | F123: OTROS INGR. | G123: TOTAL INGR. | H123: AFP | I123: ISR | J123: SFS | K123: OTROS DESC. | L123: TOTAL DESC. | M123: NETO
A124: YOHANSEL GOMEZ | B124: SEGURIDAD | C124: SEGURIDAD | D124: Masculino | E124: 15000 | F124: 0 | G124: 15000 | H124: 0 | I124: 0 | J124: 0 | K124: 0 | L124: 0 | M124: 15000
A125: Subtotal | B125: 1 | D125: 1 | E125: =SUM(E124) -> 15000 | F125: =SUM(F124) -> 0 | G125: =SUM(G124) -> 15000 | H125: =SUM(H124) -> 0 | I125: =SUM(I124) -> 0 | J125: =SUM(J124) -> 0 | K125: =SUM(K124) -> 0 | L125: =SUM(L124) -> 0 | M125: =SUM(M124) -> 15000
A127: CENTRO DE REGULACION DE URGENCIAS Y EMERGENCIAS SAMANA - DAEH
A128: NOMBRE | B128: FUNCION | C128: ESTATUS | D128: GENERO | E128: SDO.BRUTO | F128: OTROS INGR. | G128: TOTAL INGR. | H128: AFP | I128: ISR | J128: SFS | K128: OTROS DESC. | L128: TOTAL DESC. | M128: NETO
A129: ONASIS DE JESUS PEÑA MENDEZ | B129: SEGURIDAD | C129: SEGURIDAD | D129: Masculino | E129: 15000 | F129: 0 | G129: 15000 | H129: 0 | I129: 0 | J129: 0 | K129: 0 | L129: 0 | M129: 15000
A130: FRANKELIS MARCELO REYES | B130: SEGURIDAD | C130: SEGURIDAD | D130: Masculino | E130: 15000 | F130: 0 | G130: 15000 | H130: 0 | I130: 0 | J130: 0 | K130: 0 | L130: 0 | M130: 15000
A131: JOSE MANUEL ABREU VASQUEZ | B131: VIGILANTE | C131: SEGURIDAD | D131: Masculino | E131: 15000 | F131: 0 | G131: 15000 | H131: 0 | I131: 0 | J131: 0 | K131: 0 | L131: 0 | M131: 15000
A132: Subtotal | B132: 3 | D132: 3 | E132: =SUM(E129:E131) -> 45000 | F132: =SUM(F129:F131) -> 0 | G132: =SUM(G129:G131) -> 45000 | H132: =SUM(H129:H131) -> 0 | I132: =SUM(I129:I131) -> 0 | J132: =SUM(J129:J131) -> 0 | K132: =SUM(K129:K131) -> 0 | L132: =SUM(L129:L131) -> 0 | M132: =SUM(M129:M131) -> 45000
A134: CENTRO DE REGULACION DE URGENCIAS Y EMERGENCIAS BARAHONA- DAEH
...

Sheet Hoja1
A4: =+A6-A9 -> 0 | B4: =+B6-B9 -> 0 | C4: =+C6-C9 -> 0 | D4: =+D6-D9 -> 0 | E4: =+E6-E9 -> 0 | F4: =+F6-F9 -> 0 | G4: =+G6-G9 -> 0 | H4: =+H6-H9 -> 0 | I4: =+I6-I9 -> 0
A6: =+'ENERO SEGURIDAD 2026'!E423 -> 8285000 | B6: =+'ENERO SEGURIDAD 2026'!F423 -> 0 | C6: =+'ENERO SEGURIDAD 2026'!G423 -> 8285000 | D6: =+'ENERO SEGURIDAD 2026'!H423 -> 0 | E6: =+'ENERO SEGURIDAD 2026'!I423 -> 416986.13 | F6: =+'ENERO SEGURIDAD 2026'!J423 -> 0 | G6: =+'ENERO SEGURIDAD 2026'!K423 -> 127179.36 | H6: =+'ENERO SEGURIDAD 2026'!L423 -> 544165.49 | I6: =+'ENERO SEGURIDAD 2026'!M423 -> 7740834.5
A9: 8285000 | B9: 0 | C9: 8285000 | D9: 0 | E9: 416986.13 | F9: 0 | G9: 127179.36 | H9: 544165.49 | I9: 7740834.5
