Workbook

Sheet ENERO SEGURIDAD 2026
B5: DIRECCION DE SERVICIOS DE ATENCION A EMERGENCIAS EXTRA HOSPITALARIA (DAEH)
B6: NOMINA PERSONAL PERSONAL SEGURIDAD MES ENERO 2026
A11: DIRECCION DE SERVICIOS DE ATENCION A EMERGENCIAS EXTRA HOSPITALARIA
A12: NOMBRE | B12: FUNCION | C12: ESTATUS | D12: GENERO | E12: SDO.BRUTO | F12: OTROS INGR. | G12: TOTAL INGR. | H12: AFP | I12: ISR | J12: SFS | K12: OTROS DESC. | L12: TOTAL DESC. | M12: NETO
A13: BIENVENIDO ENMANUEL RODRIGUEZ | B13: ASESOR | D13: Masculino | E13: 150000 | F13: 0 | G13: 150000 | H13: 0 | I13: 26082.87 | J13: 0 | K13: 0 | L13: 26082.87 | M13: 123917.13
A14: Subtotal | B14: 1 | C14: SEGURIDAD | D14: 1 | E14: =SUM(E13) -> 150000 | F14: =SUM(F13) -> 0 | G14: =SUM(G13) -> 150000 | H14: =SUM(H13) -> 0 | I14: =SUM(I13) -> 26082.87 | J14: =SUM(J13) -> 0 | K14: =SUM(K13) -> 0 | L14: =SUM(L13) -> 26082.87 | M14: =SUM(M13) -> 123917.13
A16: DIVISION DE FISCALIZACION - DAEH
A17: NOMBRE | B17: FUNCION | C17: ESTATUS | D17: GENERO | E17: SDO.BRUTO | F17: OTROS INGR. | G17: TOTAL INGR. | H17: AFP | I17: ISR | J17: SFS | K17: OTROS DESC. | L17: TOTAL DESC. | M17: NETO
A18: ROSA ELENA LAURENCIO BRITO | B18: ENCARGADO | D18: Femenino | E18: 128000 | F18: 0 | G18: 128000 | H18: 0 | I18: 20582.87 | J18: 0 | K18: 0 | L18: 20582.87 | M18: 107417.13
A19: ANDREA TAPIA TAVERAS DE NIN | B19: SEGURIDAD | D19: Femenino | E19: 76000 | F19: 0 | G19: 76000 | H19: 0 | I19: 7582.87 | J19: 0 | K19: 0 | L19: 7582.87 | M19: 68417.13
A20: Subtotal | B20: 2 | D20: 2 | E20: =SUM(E18:E19) -> 204000 | F20: =SUM(F18:F19) -> 0 | G20: =SUM(G18:G19) -> 204000 | H20: =SUM(H18:H19) -> 0 | I20: =SUM(I18:I19) -> 28165.74 | J20: =SUM(J18:J19) -> 0 | K20: =SUM(K18:K19) -> 0 | L20: =SUM(L18:L19) -> 28165.74 | M20: =SUM(M18:M19) -> 175834.26
A23: DEPARTAMENTO ADMINISTRATIVO FINANCIERO- DAEH
A24: NOMBRE | B24: FUNCION | C24: ESTATUS | D24: GENERO | E24: SDO.BRUTO | F24: OTROS INGR. | G24: TOTAL INGR. | H24: AFP | I24: ISR | J24: SFS | K24: OTROS DESC. | L24: TOTAL DESC. | M24: NETO
A25: JUAN MANUEL VICENTE LUCIANO | B25: ENCARGADO | C25: SEGURIDAD | D25: Masculino | E25: 150000 | F25: 0 | G25: 150000 | H25: 0 | I25: 26082.87 | J25: 0 | K25: 0 | L25: 26082.87 | M25: 123917.13
A26: JAZMIN ALEXANDRA ENCARNACION DE LOS | B26: COORDINADORA | C26: SEGURIDAD | D26: Femenino | E26: 105000 | F26: 0 | G26: 105000 | H26: 0 | I26: 14832.87 | J26: 0 | K26: 0 | L26: 14832.87 | M26: 90167.13
A27: Subtotal | B27: 2 | D27: 2 | E27: =SUM(E25:E26) -> 255000 | F27: =SUM(F25:F26) -> 0 | G27: =SUM(G25:G26) -> 255000 | H27: =SUM(H25:H26) -> 0 | I27: =SUM(I25:I26) -> 40915.74 | J27: =SUM(J25:J26) -> 0 | K27: =SUM(K25:K26) -> 0 | L27: =SUM(L25:L26) -> 40915.74 | M27: =SUM(M25:M26) -> 214084.26
A29: DIVISION DE COMPRAS Y CONTRATACIONES- DAEH
A30: NOMBRE | B30: FUNCION | C30: ESTATUS | D30: GENERO | E30: SDO.BRUTO | F30: OTROS INGR. | G30: TOTAL INGR. | H30: AFP | I30: ISR | J30: SFS | K30: OTROS DESC. | L30: TOTAL DESC. | M30: NETO
A31: ALTAGRACIA SURIEL SOSA DE GONZALEZ | B31: ENCARGADO | C31: SEGURIDAD | D31: Femenino | E31: 128000 | F31: 0 | G31: 128000 | H31: 0 | I31: 20582.87 | J31: 0 | K31: 0 | L31: 20582.87 | M31: 107417.13
A32: Subtotal | B32: 1 | D32: 1 | E32: =SUM(E31) -> 128000 | F32: =SUM(F31) -> 0 | G32: =SUM(G31) -> 128000 | H32: =SUM(H31) -> 0 | I32: =SUM(I31) -> 20582.87 | J32: =SUM(J31) -> 0 | K32: =SUM(K31) -> 0 | L32: =SUM(L31) -> 20582.87 | M32: =SUM(M31) -> 107417.13
A34: DIVISION DE ALMACEN Y SUMINISTRO -DAEH
A35: NOMBRE | B35: FUNCION | C35: ESTATUS | D35: GENERO | E35: SDO.BRUTO | F35: OTROS INGR. | G35: TOTAL INGR. | H35: AFP | I35: ISR | J35: SFS | K35: OTROS DESC. | L35: TOTAL DESC. | M35: NETO
A36: VICTORIANO CONSTANZA ALCANTARA | B36: ENCARGADO | C36: SEGURIDAD | D36: Masculino | E36: 128000 | F36: 0 | G36: 128000 | H36: 0 | I36: 20582.87 | J36: 0 | K36: 0 | L36: 20582.87 | M36: 107417.13
A37: Subtotal | B37: 1 | D37: 1 | E37: =SUM(E36) -> 128000 | F37: =SUM(F36) -> 0 | G37: =SUM(G36) -> 128000 | H37: =SUM(H36) -> 0 | I37: =SUM(I36) -> 20582.87 | J37: =SUM(J36) -> 0 | K37: =SUM(K36) -> 0 | L37: =SUM(L36) -> 20582.87 | M37: =SUM(M36) -> 107417.13
A39: DEPARTAMENTO DE TECNOLOGIAS DE LA INFORMACION Y COMUNICACION- DAEH
A40: NOMBRE | B40: FUNCION | C40: ESTATUS | D40: GENERO | E40: SDO.BRUTO | F40: OTROS INGR. | G40: TOTAL INGR. | H40: AFP | I40: ISR | J40: SFS | K40: OTROS DESC. | L40: TOTAL DESC. | M40: NETO
A41: TOMAS GARCIA | B41: SUPERVISOR(A) | C41: SEGURIDAD | D41: Masculino | E41: 150000 | F41: 0 | G41: 150000 | H41: 0 | I41: 26082.87 | J41: 0 | K41: 0 | L41: 26082.87 | M41: 123917.13
A42: VICTOR MANUEL ENCARNACION DE LOS SA | B42: SEGURIDAD | C42: SEGURIDAD | D42: Masculino | E42: 55000 | F42: 0 | G42: 55000 | H42: 0 | I42: 3195.88 | J42: 0 | K42: 0 | L42: 3195.88 | M42: 51804.12
A43: Subtotal | B43: 2 | D43: 2 | E43: =SUM(E41:E42) -> 205000 | F43: 0 | G43: 205000 | H43: 0 | I43: 29278.75 | J43: 0 | K43: 0 | L43: 29278.75 | M43: 175721.25
A47: CENTRO DE REGULACION DE URGENCIAS Y EMERGENCIAS GRAN SANTO DOMINGO - DAEH
A48: NOMBRE | B48: FUNCION | C48: ESTATUS | D48: GENERO | E48: SDO.BRUTO | F48: OTROS INGR. | G48: TOTAL INGR. | H48: AFP | I48: ISR | J48: SFS | K48: OTROS DESC. | L48: TOTAL DESC. | M48: NETO
A49: MODESTO HERIBERTO EUSEBIO MONTILLA | B49: ENCARGADO (A) | C49: SEGURIDAD | D49: Masculino | E49: 150000 | F49: 0 | G49: 150000 | H49: 0 | I49: 26082.87 | J49: 0 | K49: 0 | L49: 26082.87 | M49: 123917.13
A50: HENRY FELIX PEREZ | B50: SUPERVISOR DE SEGURIDAD | C50: SEGURIDAD | D50: Masculino | E50: 45000 | F50: 0 | G50: 45000 | H50: 0 | I50: 1547.25 | J50: 0 | K50: 0 | L50: 1547.25 | M50: 43452.75
A51: SIRILO HERNANDEZ LAURENCIO | B51: SUPERVISOR DE SEGURIDAD | C51: SEGURIDAD | D51: Masculino | E51: 35000 | F51: 0 | G51: 35000 | H51: 0 | I51: 47.25 | J51: 0 | K51: 0 | L51: 47.25 | M51: 34952.75
A52: GUSTAVO SANTANA DE LA ROSA | B52: SEGURIDAD | C52: SEGURIDAD | D52: Masculino | E52: 15000 | F52: 0 | G52: 15000 | H52: 0 | I52: 0 | J52: 0 | K52: 0 | L52: 0 | M52: 15000
A53: ANTERO HERRERA ROSARIO | B53: SEGURIDAD | C53: SEGURIDAD | D53: Masculino | E53: 15000 | F53: 0 | G53: 15000 | H53: 0 | I53: 0 | J53: 0 | K53: 0 | L53: 0 | M53: 15000
A54: FERNANDO DE LA ROSA LORENZO | B54: SEGURIDAD | C54: SEGURIDAD | D54: Masculino | E54: 15000 | F54: 0 | G54: 15000 | H54: 0 | I54: 0 | J54: 0 | K54: 0 | L54: 0 | M54: 15000
A55: JOSE LUIS MEJIA ACEVEDO | B55: SEGURIDAD | C55: SEGURIDAD | D55: Masculino | E55: 30000 | F55: 0 | G55: 30000 | H55: 0 | I55: 0 | J55: 0 | K55: 0 | L55: 0 | M55: 30000
A56: MANOLO MORALES CABRERA | B56: SEGURIDAD | C56: SEGURIDAD | D56: Masculino | E56: 15000 | F56: 0 | G56: 15000 | H56: 0 | I56: 0 | J56: 0 | K56: 0 | L56: 0 | M56: 15000
A57: FRANKLIN ROSARIO LUPERON | B57: SEGURIDAD | C57: SEGURIDAD | D57: Masculino | E57: 15000 | F57: 0 | G57: 15000 | H57: 0 | I57: 0 | J57: 0 | K57: 0 | L57: 0 | M57: 15000
...

Sheet Hoja1
A4: =+A6-A9 -> 0 | B4: =+B6-B9 -> 0 | C4: =+C6-C9 -> 0 | D4: =+D6-D9 -> 0 | E4: =+E6-E9 -> 0 | F4: =+F6-F9 -> 0 | G4: =+G6-G9 -> 0 | H4: =+H6-H9 -> 0 | I4: =+I6-I9 -> 0
A6: =+'ENERO SEGURIDAD 2026'!E423 -> 8285000 | B6: =+'ENERO SEGURIDAD 2026'!F423 -> 0 | C6: =+'ENERO SEGURIDAD 2026'!G423 -> 8285000 | D6: =+'ENERO SEGURIDAD 2026'!H423 -> 0 | E6: =+'ENERO SEGURIDAD 2026'!I423 -> 416986.13 | F6: =+'ENERO SEGURIDAD 2026'!J423 -> 0 | G6: =+'ENERO SEGURIDAD 2026'!K423 -> 127179.36 | H6: =+'ENERO SEGURIDAD 2026'!L423 -> 544165.49 | I6: =+'ENERO SEGURIDAD 2026'!M423 -> 7740834.5
A9: 8285000 | B9: 0 | C9: 8285000 | D9: 0 | E9: 416986.13 | F9: 0 | G9: 127179.36 | H9: 544165.49 | I9: 7740834.5
