Workbook

Sheet TEMPORAL TRANSP
B2: DIRECCION DE SERVICIOS DE ATENCION A EMERGENCIAS EXTRA HOSPITALARIA (DAEH)
B3: NOMINA PERSONAL TEMPORAL MES DE AGOSTO 2025
A6: DIRECCION DE SERVICIOS DE ATENCION A EMERGENCIAS EXTRA HOSPITALARIA
A7: NOMBRE | B7: FUNCION | C7: ESTATUS | D7: GENERO | E7: FECHA DESIG. | F7: FECHA TERMINO | G7: SDO.BRUTO | H7: OTROS INGR. | I7: TOTAL INGR. | J7: AFP | K7: ISR | L7: SFS | M7: OTROS DESC. | N7: TOTAL DESC. | O7: NETO
A8: CARMEN MARIA VALDEZ | B8: ASESOR(A) | C8: TEMPORALES | D8: Femenino | E8: 45870 | F8: 46054 | G8: 150000 | H8: 0 | I8: 150000 | J8: 4305 | K8: 23866.62 | L8: 4560 | M8: 25 | N8: =+J8+K8+M8+L8 -> 32756.62 | O8: =+I8-N8 -> 117243.38
A9: CARLOS RAFAEL HENRIQUEZ PEÑA | B9: ENCARGADO | C9: TEMPORALES | D9: Masculino | E9: 45870 | F9: 46054 | G9: 150000 | I9: =+G9+H9 -> 150000 | J9: 4305 | K9: 23866.62 | L9: 4560 | M9: 25 | N9: =+J9+K9+M9+L9 -> 32756.62 | O9: =+I9-N9 -> 117243.38
A10: DIOMEL ALEXIS GARCIA GARCIA | B10: ENCARGADO DIV. CALIDAD EN LA GESTION | C10: TEMPORALES | D10: Masculino | E10: 45748 | F10: 45931 | G10: 128000 | H10: 0 | I10: =+G10+H10 -> 128000 | J10: 3673.6 | K10: 18262.8 | L10: 3891.2 | M10: 1740.46 | N10: =+J10+K10+M10+L10 -> 27568.06 | O10: =+I10-N10 -> 100431.94
A11: CARMEN ANTONIA GUTIERREZ UREÑA | B11: ASISTENTE EJECUTIVA | C11: TEMPORALES | D11: Femenino | E11: 45870 | F11: 46054 | G11: 105000 | H11: 0 | I11: =+G11+H11 -> 105000 | J11: 3013.5 | K11: 13281.49 | L11: 3192 | M11: 3624.02 | N11: =+J11+K11+L11+M11 -> 23111.01 | O11: =+I11-N11 -> 81888.99
A12: NATALIA BEATRIZ MATEO SANTOS | B12: ANALISTA | C12: TEMPORALES | D12: Femenino | E12: 45870 | F12: 46054 | G12: 76000 | I12: =+G12+H12 -> 76000 | J12: 2181.2 | K12: 6497.56 | L12: 2310.4 | M12: 25 | N12: =+J12+K12+M12+L12 -> 11014.16 | O12: =+I12-N12 -> 64985.84
A13: GISSEL NATHALIE ALMANZAR CARO | B13: ANALISTA DE COMPRAS Y CONTRATACIONES | C13: TEMPORALES | D13: Femenino | E13: 45839 | F13: 46023 | G13: 76000 | I13: =+G13+H13 -> 76000 | J13: 2181.2 | K13: 6497.56 | L13: 2310.4 | M13: 25 | N13: =+J13+K13+M13+L13 -> 11014.16 | O13: =+I13-N13 -> 64985.84
A14: DONATO TEJADA QUIÑONES | B14: FACILITADOR | C14: TEMPORALES | D14: Masculino | E14: 45717 | F14: 45901 | G14: 50000 | H14: 0 | I14: =+G14+H14 -> 50000 | J14: 1435 | K14: 1854 | L14: 1520 | M14: 25 | N14: =+J14+K14+M14+L14 -> 4834 | O14: =+I14-N14 -> 45166
A15: CATHERINE DIHMES FLORES | B15: TECNICO ADMINISTRATIVO | C15: TEMPORALES | D15: Femenino | E15: 45839 | F15: 46023 | G15: 45000 | I15: =+G15+H15 -> 45000 | J15: 1291.5 | K15: 1148.33 | L15: 1368 | M15: 25 | N15: =+J15+K15+M15+L15 -> 3832.83 | O15: =+I15-N15 -> 41167.17
A16: AGUSTIN JOEL FELIZ LUNA | B16: TECNICO | C16: TEMPORALES | D16: Masculino | E16: 45748 | F16: 45931 | G16: 55000 | H16: 0 | I16: =+G16+H16 -> 55000 | J16: 1578.5 | K16: 2559.68 | L16: 1672 | M16: 25 | N16: =+J16+K16+M16+L16 -> 5835.18 | O16: =+I16-N16 -> 49164.82
A17: EDUARD JESUS MARIA HENRIQUEZ VARGAS | B17: TECNICO | C17: TEMPORALES | D17: Masculino | E17: 45717 | F17: 45901 | G17: 55000 | I17: =+G17+H17 -> 55000 | J17: 1578.5 | K17: 2559.68 | L17: 1672 | M17: 25 | N17: =+J17+K17+M17+L17 -> 5835.18 | O17: =+I17-N17 -> 49164.82
A18: ELIZABETH MATEO AMANCIO | B18: TECNICO | C18: TEMPORALES | D18: Femenino | E18: 45717 | F18: 45901 | G18: 55000 | H18: 0 | I18: =+G18+H18 -> 55000 | J18: 1578.5 | K18: 2559.68 | L18: 1672 | M18: 25 | N18: =+J18+K18+M18+L18 -> 5835.18 | O18: =+I18-N18 -> 49164.82
D19: 11 | G19: =SUM(G8:G18) -> 945000 | H19: =SUM(H8:H18) -> 0 | I19: =SUM(I8:I18) -> 945000 | J19: =SUM(J8:J18) -> 27121.5 | K19: =SUM(K8:K18) -> 102954.02 | L19: =SUM(L8:L18) -> 28728 | M19: =SUM(M8:M18) -> 5589.48 | N19: =SUM(N8:N18) -> 164393 | O19: =SUM(O8:O18) -> 780607
A23: DEPARTAMENTO DE RECURSOS HUMANOS - DAEH
A24: NOMBRE | B24: FUNCION | C24: ESTATUS | D24: GENERO | E24: FECHA DESIG. | F24: FECHA TERMINO | G24: SDO.BRUTO | H24: OTROS INGR. | I24: TOTAL INGR. | J24: AFP | K24: ISR | L24: SFS | M24: OTROS DESC. | N24: TOTAL DESC. | O24: NETO
A25: ALINA GUZMAN HUMA | B25: ENCARGADO DE RECURSOS HUMANOS | C25: TEMPORALES | D25: Femenino | E25: 45839 | F25: 46023 | G25: 150000 | H25: 0 | I25: 150000 | J25: 4305 | K25: 23866.62 | L25: 4560 | M25: 25 | N25: =+J25+K25+M25+L25 -> 32756.62 | O25: =+I25-N25 -> 117243.38
A26: DERLIN JASSER PAULINO PIMENTEL | B26: ENC. OFIC. LIBRE ACCESO INFORM | C26: TEMPORALES | D26: Masculino | E26: 45778 | F26: 45962 | G26: 128000 | H26: 0 | I26: =+G26+H26 -> 128000 | J26: 3673.6 | K26: 18691.67 | L26: 3891.2 | M26: 2586.96 | N26: =+J26+K26+M26+L26 -> 28843.43 | O26: =+I26-N26 -> 99156.57
A27: ANTONIO FRANCISCO MARTINEZ GARRIDO | B27: ENCARGADO (A) DE NOMINA | C27: TEMPORALES | D27: Masculino | E27: 45839 | F27: 46023 | G27: 128000 | H27: 0 | I27: =+G27+H27 -> 128000 | J27: 3673.6 | K27: 18691.67 | L27: 3891.2 | M27: 25 | N27: =+J27+K27+M27+L27 -> 26281.47 | O27: =+I27-N27 -> 101718.53
A28: BRYAN JESUS SUAREZ DE PEÑA | B28: ENC. DIV. DESEMEÑO Y CAPACIT. | C28: TEMPORALES | D28: Masculino | E28: 45839 | F28: 46023 | G28: 128000 | H28: 0 | I28: =+G28+H28 -> 128000 | J28: 3673.6 | K28: 18691.67 | L28: 3891.2 | M28: 665.49 | N28: =+J28+K28+M28+L28 -> 26921.96 | O28: =+I28-N28 -> 101078.04
A29: JULIA MARGARITA NUÑEZ DE DE LOS SAN | B29: ENC. DIVISION RELACIONALES LABORALES | C29: TEMPORALES | D29: Femenino | E29: 45809 | F29: 45992 | G29: 128000 | H29: 0 | I29: =+G29+H29 -> 128000 | J29: 3673.6 | K29: 18262.8 | L29: 3891.2 | M29: 1740.46 | N29: =+J29+K29+M29+L29 -> 27568.06 | O29: =+I29-N29 -> 100431.94
A30: ZULEIKA MARBELYS VASQUEZ RIJO | B30: ENC. DIV. DE ORGANIZACION DEL TRAB.Y COMPENSACION | C30: TEMPORALES | D30: Femenino | E30: 45809 | F30: 45993 | G30: 128000 | H30: 0 | I30: =+G30+H30 -> 128000 | J30: 3673.6 | K30: 18691.67 | L30: 3891.2 | M30: 20914.89 | N30: =+J30+K30+M30+L30 -> 47171.36 | O30: =+I30-N30 -> 80828.64
A31: NIURVIS HENRIQUEZ GARCIA | B31: COORDINADORA | C31: TEMPORALES | D31: Femenino | E31: 45870 | F31: 46054 | G31: 105000 | H31: 0 | I31: 105000 | J31: 3013.5 | K31: 13281.49 | L31: 3192 | M31: 25 | N31: =+J31+K31+M31+L31 -> 19511.99 | O31: =+I31-N31 -> 85488.01
A32: GRECIA MARIA GOMEZ CRISOSTOMO | B32: ANALISTA | C32: TEMPORALES | D32: Femenino | E32: 45809 | F32: 45994 | G32: 76000 | H32: 0 | I32: =+G32+H32 -> 76000 | J32: 2181.2 | K32: 6497.56 | L32: 2310.4 | M32: 665.49 | N32: =+J32+K32+M32+L32 -> 11654.65 | O32: =+I32-N32 -> 64345.35
A33: VANESSA OGANDO SUERO | B33: ANALISTA | C33: TEMPORALES | D33: Femenino | E33: 45839 | F33: 46023 | G33: 76000 | H33: 0 | I33: =+G33+H33 -> 76000 | J33: 2181.2 | K33: 6154.46 | L33: 2310.4 | M33: 1740.46 | N33: =+J33+K33+M33+L33 -> 12386.52 | O33: =+I33-N33 -> 63613.48
A34: YISSEL ALTAGRACIA SANCHEZ ORTIZ | B34: ANALISTA | C34: TEMPORALES | D34: Femenino | E34: 45809 | F34: 45992 | G34: 76000 | H34: 0 | I34: =+G34+H34 -> 76000 | J34: 2181.2 | K34: 6497.56 | L34: 2310.4 | M34: 10025 | N34: =+J34+K34+M34+L34 -> 21014.16 | O34: =+I34-N34 -> 54985.84
A35: MOISES ARIEL DAVILA RUIZ | B35: ANALISTA DE SISTEMAS INFORMAT | C35: TEMPORALES | D35: Masculino | E35: 45870 | F35: 46054 | G35: 76000 | H35: 0 | I35: =+G35+H35 -> 76000 | J35: 2181.2 | K35: 6497.56 | L35: 2310.4 | M35: 25 | N35: =+J35+K35+M35+L35 -> 11014.16 | O35: =+I35-N35 -> 64985.84
A36: JENNY MONEGRO LIRIANO | B36: ANALISTA DE CAPACITACION Y DE | C36: TEMPORALES | D36: Femenino | E36: 45778 | F36: 45962 | G36: 76000 | H36: 0 | I36: =+G36+H36 -> 76000 | J36: 2181.2 | K36: 6497.56 | L36: 2310.4 | M36: 25 | N36: =+J36+K36+M36+L36 -> 11014.16 | O36: =+I36-N36 -> 64985.84
A37: MAYERLIN JORGE ESCOTO | B37: ANALISTA DE RECLUTAMIENTO Y S | C37: TEMPORALES | D37: Femenino | E37: 45717 | F37: 45901 | G37: 76000 | H37: 0 | I37: =+G37+H37 -> 76000 | J37: 2181.2 | K37: 6497.56 | L37: 2310.4 | M37: 12561.43 | N37: =+J37+K37+M37+L37 -> 23550.59 | O37: =+I37-N37 -> 52449.41
A38: VICKIANA MARISOL MEJIA GONZALEZ | B38: ANALISTA DE RECLUTAMIENTO Y S | C38: TEMPORALES | D38: Femenino | E38: 45717 | F38: 45901 | G38: 76000 | H38: 0 | I38: =+G38+H38 -> 76000 | J38: 2181.2 | K38: 6497.56 | L38: 2310.4 | M38: 25 | N38: =+J38+K38+M38+L38 -> 11014.16 | O38: =+I38-N38 -> 64985.84
A39: ADALGISA DE LA CRUZ HERNANDEZ | B39: ANALISTA DE RECURSOS HUMANOS | C39: TEMPORALES | D39: Femenino | E39: 45839 | F39: 46023 | G39: 76000 | H39: 0 | I39: =+G39+H39 -> 76000 | J39: 2181.2 | K39: 6497.56 | L39: 2310.4 | M39: 25 | N39: =+J39+K39+M39+L39 -> 11014.16 | O39: =+I39-N39 -> 64985.84
A40: ALEJANDRINA PEÑA LEBRON | B40: ANALISTA DE RECURSOS HUMANOS | C40: TEMPORALES | D40: Femenino | E40: 45870 | F40: 46054 | G40: 66000 | H40: 0 | I40: =+G40+H40 -> 66000 | J40: 1894.2 | K40: 4615.76 | L40: 2006.4 | M40: 25 | N40: =+J40+K40+M40+L40 -> 8541.36 | O40: =+I40-N40 -> 57458.64
A41: CARLENY MASSIEL MATOS LUIS | B41: ANALISTA DE RECURSOS HUMANOS | C41: TEMPORALES | D41: Femenino | E41: 45839 | F41: 46023 | G41: 76000 | H41: 0 | I41: =+G41+H41 -> 76000 | J41: 2181.2 | K41: 6497.56 | L41: 2310.4 | M41: 25 | N41: =+J41+K41+M41+L41 -> 11014.16 | O41: =+I41-N41 -> 64985.84
A42: CARMEN ALTAGRACIA GERMAN DIAZ | B42: ANALISTA DE RECURSOS HUMANOS | C42: TEMPORALES | D42: Femenino | E42: 45717 | F42: 45901 | G42: 76000 | H42: 0 | I42: =+G42+H42 -> 76000 | J42: 2181.2 | K42: 6497.56 | L42: 2310.4 | M42: 31339.43 | N42: =+J42+K42+M42+L42 -> 42328.59 | O42: =+I42-N42 -> 33671.41
A43: YAHAIRA CASTILLO CORDERO | B43: ANALISTA DE RECURSOS HUMANOS | C43: TEMPORALES | D43: Femenino | E43: 45870 | F43: 46054 | G43: 76000 | I43: =+G43+H43 -> 76000 | J43: 2181.2 | K43: 6497.56 | L43: 2310.4 | M43: 25 | N43: =+J43+K43+M43+L43 -> 11014.16 | O43: =+I43-N43 -> 64985.84
A44: CARMEN DEL ROSARIO VERAS ENCARNACIO | B44: ANALISTA DE RECURSOS HUMANOS | C44: TEMPORALES | D44: Femenino | E44: 45717 | F44: 45901 | G44: 76000 | H44: 0 | I44: =+G44+H44 -> 76000 | J44: 2181.2 | K44: 6154.46 | L44: 2310.4 | M44: 7380.95 | N44: =+J44+K44+M44+L44 -> 18027.01 | O44: =+I44-N44 -> 57972.99
A45: GENESIS ARLEEN PAULINO REYES | B45: ANALISTA DE RECURSOS HUMANOS | C45: TEMPORALES | D45: Femenino | E45: 45870 | F45: 46054 | G45: 76000 | H45: 0 | I45: =+G45+H45 -> 76000 | J45: 2181.2 | K45: 6497.56 | L45: 2310.4 | M45: 25 | N45: =+J45+K45+M45+L45 -> 11014.16 | O45: =+I45-N45 -> 64985.84
A46: JULIO CESAR GONZALEZ | B46: ANALISTA DE RECURSOS HUMANOS | C46: TEMPORALES | D46: Masculino | E46: 45748 | F46: 45931 | G46: 65000 | H46: 0 | I46: =+G46+H46 -> 65000 | J46: 1865.5 | K46: 4427.58 | L46: 1976 | M46: 25 | N46: =+J46+K46+M46+L46 -> 8294.08 | O46: =+I46-N46 -> 56705.92
A47: CRISTIAN FERNANDA LIRIANO VALERA | B47: ANALISTA DE RECURSOS HUMANOS | C47: TEMPORALES | D47: Femenino | E47: 45839 | F47: 46023 | G47: 76000 | I47: =+G47+H47 -> 76000 | J47: 2181.2 | K47: 6497.56 | L47: 2310.4 | M47: 25 | N47: =+J47+K47+M47+L47 -> 11014.16 | O47: =+I47-N47 -> 64985.84
A48: RAMON IGNACIO DIAZ RODRIGUEZ | B48: ANALISTA DE RECURSOS HUMANOS | C48: TEMPORALES | D48: Masculino | E48: 45717 | F48: 45901 | G48: 76000 | H48: 0 | I48: =+G48+H48 -> 76000 | J48: 2181.2 | K48: 6154.46 | L48: 2310.4 | M48: 29665.79 | N48: =+J48+K48+M48+L48 -> 40311.85 | O48: =+I48-N48 -> 35688.15
A49: YOKAIRA CARIDAD GUZMAN REYES | B49: ANALISTA DE RECURSOS HUMANOS | C49: TEMPORALES | D49: Femenino | E49: 45717 | F49: 45901 | G49: 76000 | H49: 0 | I49: =+G49+H49 -> 76000 | J49: 2181.2 | K49: 6497.56 | L49: 2310.4 | M49: 25 | N49: =+J49+K49+M49+L49 -> 11014.16 | O49: =+I49-N49 -> 64985.84
A50: SOLANLLY GUILLERMINA CACERES PAULIN | B50: ANALISTA DE RECURSOS HUMANOS | C50: TEMPORALES | D50: Femenino | E50: 45870 | F50: 46054 | G50: 76000 | H50: 0 | I50: =+G50+H50 -> 76000 | J50: 2181.2 | K50: 6497.56 | L50: 2310.4 | M50: 25 | N50: =+J50+K50+M50+L50 -> 11014.16 | O50: =+I50-N50 -> 64985.84
A51: DARIANA PEREZ ABREU | B51: TECNICO DE RECURSOS HUMANOS | C51: TEMPORALES | D51: Femenino | E51: 45748 | F51: 45931 | G51: 55000 | H51: 0 | I51: =+G51+H51 -> 55000 | J51: 1578.5 | K51: 2559.68 | L51: 1672 | M51: 25 | N51: =+J51+K51+M51+L51 -> 5835.18 | O51: =+I51-N51 -> 49164.82
A52: YAMAIRIS JIMENEZ HERNANDEZ | B52: TECNICO DE RECURSOS HUMANOS | C52: TEMPORALES | D52: Femenino | E52: 45717 | F52: 45901 | G52: 55000 | H52: 0 | I52: =+G52+H52 -> 55000 | J52: 1578.5 | K52: 2559.68 | L52: 1672 | M52: 25 | N52: =+J52+K52+M52+L52 -> 5835.18 | O52: =+I52-N52 -> 49164.82
A53: LUIS JEREMY VALDEZ BENITEZ | B53: TECNICO ADMINISTRATIVO | C53: TEMPORALES | D53: Masculino | E53: 45839 | F53: 46023 | G53: 55000 | H53: 0 | I53: =+G53+H53 -> 55000 | J53: 1578.5 | K53: 2559.68 | L53: 1672 | M53: 20946.9 | N53: =+J53+K53+M53+L53 -> 26757.08 | O53: =+I53-N53 -> 28242.92
A54: LUZ ELVIRA OZUNA LAUTERIO | B54: TECNICO ADMINISTRATIVO | C54: TEMPORALES | D54: Femenino | E54: 45870 | F54: 46054 | G54: 55000 | H54: 0 | I54: =+G54+H54 -> 55000 | J54: 1578.5 | K54: 2559.68 | L54: 1672 | M54: 6097.31 | N54: =+J54+K54+M54+L54 -> 11907.49 | O54: =+I54-N54 -> 43092.51
A55: YAELMI CAMILLE LOPEZ FERNANDEZ | B55: TECNICO ADMINISTRATIVO | C55: TEMPORALES | D55: Femenino | E55: 45717 | F55: 45901 | G55: 40000 | H55: 0 | I55: =+G55+H55 -> 40000 | J55: 1148 | K55: 442.65 | L55: 1216 | M55: 25 | N55: =+J55+K55+M55+L55 -> 2831.65 | O55: =+I55-N55 -> 37168.35
D56: 31 | G56: =SUM(G25:G55) -> 2578000 | H56: =SUM(H25:H55) -> 0 | I56: =SUM(I25:I55) -> 2578000 | J56: =SUM(J25:J55) -> 73988.6 | K56: =SUM(K25:K55) -> 259331.52 | L56: =SUM(L25:L55) -> 78371.2 | M56: =SUM(M25:M55) -> 146780.56 | N56: =SUM(N25:N55) -> 558471.88 | O56: =SUM(O25:O55) -> 2019528.1
A60: DEPARTAMENTO JURIDICO- DAEH
A61: NOMBRE | B61: FUNCION | C61: ESTATUS | D61: GENERO | E61: FECHA DESIG. | F61: FECHA TERMINO | G61: SDO.BRUTO | H61: OTROS INGR. | I61: TOTAL INGR. | J61: AFP | K61: ISR | L61: SFS | M61: OTROS DESC. | N61: TOTAL DESC. | O61: NETO
A62: ADOLFO PEREZ PEREZ | B62: ENCARGADO | C62: TEMPORALES | D62: Masculino | E62: 45870 | F62: 46054 | G62: 150000 | H62: 0 | I62: =+G62+H62 -> 150000 | J62: 4305 | K62: 23866.62 | L62: 4560 | M62: 3624.02 | N62: =+J62+K62+M62+L62 -> 36355.64 | O62: =+I62-N62 -> 113644.36
A63: ADDERLY ROBERCYS PEREZ MEDRANO | B63: ANALISTA LEGAL | C63: TEMPORALES | D63: Femenino | E63: 45778 | F63: 45962 | G63: 76000 | H63: 0 | I63: =+G63+H63 -> 76000 | J63: 2181.2 | K63: 6154.46 | L63: 2310.4 | M63: 2380.95 | N63: =+J63+K63+M63+L63 -> 13027.01 | O63: =+I63-N63 -> 62972.99
A64: CAROLINA ALEJANDRA CRISOSTOMO FERNA | B64: ANALISTA LEGAL | C64: TEMPORALES | D64: Femenino | E64: 45870 | F64: 46054 | G64: 75000 | H64: 0 | I64: =+G64+H64 -> 75000 | J64: 2152.5 | K64: 6309.38 | L64: 2280 | M64: 25 | N64: =+J64+K64+M64+L64 -> 10766.88 | O64: =+I64-N64 -> 64233.12
A65: DARIEL GONZALEZ SEPULVEDA | B65: ANALISTA LEGAL | C65: TEMPORALES | D65: Masculino | E65: 45870 | F65: 46054 | G65: 76000 | H65: 0 | I65: =+G65+H65 -> 76000 | J65: 2181.2 | K65: 6497.56 | L65: 2310.4 | M65: 25 | N65: =+J65+K65+M65+L65 -> 11014.16 | O65: =+I65-N65 -> 64985.84
A66: ELEAZAR TOMAS DISLA MAYI | B66: ANALISTA LEGAL | C66: TEMPORALES | D66: Masculino | E66: 45778 | F66: 45962 | G66: 76000 | H66: 0 | I66: =+G66+H66 -> 76000 | J66: 2181.2 | K66: 6497.56 | L66: 2310.4 | M66: 25 | N66: =+J66+K66+M66+L66 -> 11014.16 | O66: =+I66-N66 -> 64985.84
A67: HENRY SMIL OGANDO PEREZ | B67: ANALISTA LEGAL | C67: TEMPORALES | D67: Masculino | E67: 45778 | F67: 45962 | G67: 76000 | H67: 0 | I67: =+G67+H67 -> 76000 | J67: 2181.2 | K67: 6497.56 | L67: 2310.4 | M67: 25 | N67: =+J67+K67+M67+L67 -> 11014.16 | O67: =+I67-N67 -> 64985.84
A68: JOSE OSCAR MARTE PEREZ | B68: ANALISTA LEGAL | C68: TEMPORALES | D68: Masculino | E68: 45778 | F68: 45962 | G68: 76000 | H68: 0 | I68: =+G68+H68 -> 76000 | J68: 2181.2 | K68: 6497.56 | L68: 2310.4 | M68: 20034.42 | N68: =+J68+K68+M68+L68 -> 31023.58 | O68: =+I68-N68 -> 44976.42
A69: LEONARDO NATANAEL MARCANO DE LA ROS | B69: ANALISTA LEGAL | C69: TEMPORALES | D69: Masculino | E69: 45839 | F69: 46023 | G69: 76000 | H69: 0 | I69: =+G69+H69 -> 76000 | J69: 2181.2 | K69: 6497.56 | L69: 2310.4 | M69: 25 | N69: =+J69+K69+M69+L69 -> 11014.16 | O69: =+I69-N69 -> 64985.84
A70: PEDRO CRESCENCIO PAYANO SANTANA | B70: ANALISTA LEGAL | C70: TEMPORALES | D70: Masculino | E70: 45839 | F70: 46023 | G70: 76000 | H70: 0 | I70: =+G70+H70 -> 76000 | J70: 2181.2 | K70: 6497.56 | L70: 2310.4 | M70: 25 | N70: =+J70+K70+M70+L70 -> 11014.16 | O70: =+I70-N70 -> 64985.84
A71: LLOVISNA NATALI PUJOLS PEREYRA | B71: ANALISTA LEGAL | C71: TEMPORALES | D71: Femenino | E71: 45809 | F71: 45992 | G71: 76000 | H71: 0 | I71: =+G71+H71 -> 76000 | J71: 2181.2 | K71: 6497.56 | L71: 2310.4 | M71: 25 | N71: =+J71+K71+M71+L71 -> 11014.16 | O71: =+I71-N71 -> 64985.84
A72: MARIA FERMINA RODRIGUEZ LOPEZ | B72: ANALISTA LEGAL | C72: TEMPORALES | D72: Femenino | E72: 45870 | F72: 46054 | G72: 50000 | H72: 0 | I72: =+G72+H72 -> 50000 | J72: 1435 | K72: 1854 | L72: 1520 | M72: 25 | N72: =+J72+K72+M72+L72 -> 4834 | O72: =+I72-N72 -> 45166
A73: MARIANELA VALDEZ | B73: ANALISTA LEGAL | C73: TEMPORALES | D73: Femenino | E73: 45778 | F73: 45962 | G73: 76000 | H73: 0 | I73: =+G73+H73 -> 76000 | J73: 2181.2 | K73: 6497.56 | L73: 2310.4 | M73: 665.49 | N73: =+J73+K73+M73+L73 -> 11654.65 | O73: =+I73-N73 -> 64345.35
A74: CARLOS MANUEL HERNANDEZ SANCHEZ | B74: ANALISTA LEGAL | C74: TEMPORALES | D74: Masculino | E74: 45839 | F74: 46023 | G74: 76000 | H74: 0 | I74: 76000 | J74: 2181.2 | K74: 6497.56 | L74: 2310.4 | M74: 25 | N74: =+J74+K74+M74+L74 -> 11014.16 | O74: =+I74-N74 -> 64985.84
A75: KARLA YAMEL OLIVARES NUÑEZ | B75: ANALISTA LEGAL | C75: TEMPORALES | D75: Femenino | E75: 45839 | F75: 46023 | G75: 76000 | H75: 0 | I75: 76000 | J75: 2181.2 | K75: 6497.56 | L75: 2310.4 | M75: 25 | N75: =+J75+K75+M75+L75 -> 11014.16 | O75: =+I75-N75 -> 64985.84
A76: QUILINO DE LOS SANTOS CARABALLO | B76: ANALISTA LEGAL | C76: TEMPORALES | D76: Masculino | E76: 45778 | F76: 45962 | G76: 76000 | H76: 0 | I76: =+G76+H76 -> 76000 | J76: 2181.2 | K76: 6497.56 | L76: 2310.4 | M76: 25 | N76: =+J76+K76+M76+L76 -> 11014.16 | O76: =+I76-N76 -> 64985.84
A77: RADHAMES JIMENEZ RAMIREZ | B77: ANALISTA LEGAL | C77: TEMPORALES | D77: Masculino | E77: 45809 | F77: 45992 | G77: 76000 | H77: 0 | I77: =+G77+H77 -> 76000 | J77: 2181.2 | K77: 6497.56 | L77: 2310.4 | M77: 25 | N77: =+J77+K77+M77+L77 -> 11014.16 | O77: =+I77-N77 -> 64985.84
A78: ROSANNA ISABEL PEREZ HEREDIA | B78: ANALISTA LEGAL | C78: TEMPORALES | D78: Femenino | E78: 45717 | F78: 45901 | G78: 50000 | H78: 0 | I78: =+G78+H78 -> 50000 | J78: 1435 | K78: 0 | L78: 1520 | M78: 25 | N78: =+J78+K78+M78+L78 -> 2980 | O78: =+I78-N78 -> 47020
A79: SORIBEL MENDEZ SANCHEZ | B79: ANALISTA LEGAL | C79: TEMPORALES | D79: Femenino | E79: 45809 | F79: 45992 | G79: 76000 | H79: 0 | I79: =+G79+H79 -> 76000 | J79: 2181.2 | K79: 6497.56 | L79: 2310.4 | M79: 25 | N79: =+J79+K79+M79+L79 -> 11014.16 | O79: =+I79-N79 -> 64985.84
A80: VIRGINIA MARIA CRUZ FERNANDEZ | B80: ANALISTA LEGAL | C80: TEMPORALES | D80: Femenino | E80: 45778 | F80: 45962 | G80: 76000 | H80: 0 | I80: =+G80+H80 -> 76000 | J80: 2181.2 | K80: 6497.56 | L80: 2310.4 | M80: 685 | N80: =+J80+K80+M80+L80 -> 11674.16 | O80: =+I80-N80 -> 64325.84
A81: XEUSY MERCEDES ARAUJO CORNIELLE | B81: TECNICO ADMINISTRATIVO | C81: TEMPORALES | D81: Femenino | E81: 45870 | F81: 46054 | G81: 35000 | H81: 0 | I81: =+G81+H81 -> 35000 | J81: 1004.5 | K81: 0 | L81: 1064 | M81: 25 | N81: =+J81+K81+M81+L81 -> 2093.5 | O81: =+I81-N81 -> 32906.5
A82: SULLMAN CAROLINA OLIVARES LANTIGUA | B82: TECNICO ADMINISTRATIVO | C82: TEMPORALES | D82: Masculino | E82: 45839 | F82: 46023 | G82: 55000 | H82: 0 | I82: 55000 | J82: 1578.5 | K82: 2559.68 | L82: 1672 | M82: 25 | N82: =+J82+K82+M82+L82 -> 5835.18 | O82: =+I82-N82 -> 49164.82
A83: CLAUDETT CARRASCO MARTINEZ | B83: TECNICO ADMINISTRATIVO | C83: TEMPORALES | D83: Femenino | E83: 45839 | F83: 46023 | G83: 55000 | H83: 0 | I83: 55000 | J83: 1578.5 | K83: 2559.68 | L83: 1672 | M83: 25 | N83: =+J83+K83+M83+L83 -> 5835.18 | O83: =+I83-N83 -> 49164.82
D84: 22 | G84: =SUM(G62:G83) -> 1610000 | H84: =SUM(H62:H83) -> 0 | I84: =SUM(I62:I83) -> 1610000 | J84: =SUM(J62:J83) -> 46207 | K84: =SUM(K62:K83) -> 134269.66 | L84: =SUM(L62:L83) -> 48944 | M84: =SUM(M62:M83) -> 27814.88 | N84: =SUM(N62:N83) -> 257235.54 | O84: =SUM(O62:O83) -> 1352764.5
A87: DEPARTAMENTO DE PLANIFICACION Y DESARROLLO- DAEH
A88: NOMBRE | B88: FUNCION | C88: ESTATUS | D88: GENERO | E88: FECHA DESIG. | F88: FECHA TERMINO | G88: SDO.BRUTO | H88: OTROS INGR. | I88: TOTAL INGR. | J88: AFP | K88: ISR | L88: SFS | M88: OTROS DESC. | N88: TOTAL DESC. | O88: NETO
A89: BERTHA PATRICIA LAHOZ BANKS DE ADAM | B89: ENCARGADO (A) DE PLANIFICACIO | C89: TEMPORALES | D89: Femenino | E89: 45717 | F89: 45901 | G89: 150000 | H89: 0 | I89: =+G89+H89 -> 150000 | J89: 4305 | K89: 23437.75 | L89: 4560 | M89: 2740.46 | N89: =+J89+K89+M89+L89 -> 35043.21 | O89: =+I89-N89 -> 114956.79
A90: LUIS ANDRES ROSARIO LUNA | B90: TECNICO DE CALIDAD EN LA GEST | C90: TEMPORALES | D90: Masculino | E90: 45839 | F90: 46023 | G90: 55000 | H90: 0 | I90: 55000 | J90: 1578.5 | K90: 2559.68 | L90: 1672 | M90: 25 | N90: =+J90+K90+M90+L90 -> 5835.18 | O90: =+I90-N90 -> 49164.82
A91: ALEXIS MORILLO MORILLO | B91: TECNICO DE CALIDAD EN LA GEST | C91: TEMPORALES | D91: Femenino | E91: 45839 | F91: 46023 | G91: 55000 | H91: 0 | I91: 55000 | J91: 1578.5 | K91: 2559.68 | L91: 1672 | M91: 25 | N91: =+J91+K91+M91+L91 -> 5835.18 | O91: =+I91-N91 -> 49164.82
D92: 3 | G92: =SUM(G89:G91) -> 260000 | H92: =SUM(H89:H91) -> 0 | I92: =SUM(I89:I91) -> 260000 | J92: =SUM(J89:J91) -> 7462 | K92: =SUM(K89:K91) -> 28557.11 | L92: =SUM(L89:L91) -> 7904 | M92: =SUM(M89:M91) -> 2790.46 | N92: =SUM(N89:N91) -> 46713.57 | O92: =SUM(O89:O91) -> 213286.43
A95: DIVISION DE CALIDAD EN LA GESTION -DAEH
A96: NOMBRE | B96: FUNCION | C96: ESTATUS | D96: GENERO | E96: FECHA DESIG. | F96: FECHA TERMINO | G96: SDO.BRUTO | H96: OTROS INGR. | I96: TOTAL INGR. | J96: AFP | K96: ISR | L96: SFS | M96: OTROS DESC. | N96: TOTAL DESC. | O96: NETO
A97: SHEYLA CONSUEGRA GONZALEZ | B97: ENCARGADO DE CALIDAD EN LA GE | C97: TEMPORALES | D97: Femenino | E97: 45717 | F97: 45901 | G97: 128000 | H97: 0 | I97: =+G97+H97 -> 128000 | J97: 3673.6 | K97: 18691.67 | L97: 3891.2 | M97: 25 | N97: =+J97+K97+M97+L97 -> 26281.47 | O97: =+I97-N97 -> 101718.53
A98: MARIO ANTONIO SANCHEZ RAMIREZ | B98: TECNICO DE CALIDAD EN LA GEST | C98: TEMPORALES | D98: Masculino | E98: 45778 | F98: 45962 | G98: 55000 | H98: 0 | I98: =+G98+H98 -> 55000 | J98: 1578.5 | K98: 2559.68 | L98: 1672 | M98: 25 | N98: =+J98+K98+M98+L98 -> 5835.18 | O98: =+I98-N98 -> 49164.82
D99: 2 | G99: =SUM(G97:G98) -> 183000 | H99: =SUM(H97:H98) -> 0 | I99: =SUM(I97:I98) -> 183000 | J99: =SUM(J97:J98) -> 5252.1 | K99: =SUM(K97:K98) -> 21251.35 | L99: =SUM(L97:L98) -> 5563.2 | M99: =SUM(M97:M98) -> 50 | N99: =SUM(N97:N98) -> 32116.65 | O99: =SUM(O97:O98) -> 150883.35
A102: DEPARTAMENTO DE TECNOLOGIAS DE LA INFORMACION Y COMUNICACION- DAEH
A103: NOMBRE | B103: FUNCION | C103: ESTATUS | D103: GENERO | E103: FECHA DESIG. | F103: FECHA TERMINO | G103: SDO.BRUTO | H103: OTROS INGR. | I103: TOTAL INGR. | J103: AFP | K103: ISR | L103: SFS | M103: OTROS DESC. | N103: TOTAL DESC. | O103: NETO
A104: JOSE ANIBAL GUILAMO HIRUJO | B104: ENCARGADO DE TECNOLOGIA DE LA | C104: TEMPORALES | D104: Masculino | E104: 45870 | F104: 46054 | G104: 150000 | H104: 0 | I104: =+G104+H104 -> 150000 | J104: 4305 | K104: 23866.62 | L104: 4560 | M104: 25 | N104: =+J104+K104+M104+L104 -> 32756.62 | O104: =+I104-N104 -> 117243.38
A105: YULISSA JOSEFINA REYES GARCIA | B105: PERIODISTA | C105: TEMPORALES | D105: Femenino | E105: 45778 | F105: 45962 | G105: 76000 | H105: 0 | I105: =+G105+H105 -> 76000 | J105: 2181.2 | K105: 6497.56 | L105: 2310.4 | M105: 25 | N105: =+J105+K105+M105+L105 -> 11014.16 | O105: =+I105-N105 -> 64985.84
A106: VICNER NATALIS OGANDO MENDOZA | B106: PERIODISTA | C106: TEMPORALES | D106: Femenino | E106: 45809 | F106: 45992 | G106: 76000 | H106: 0 | I106: =+G106+H106 -> 76000 | J106: 2181.2 | K106: 6497.56 | L106: 2310.4 | M106: 25 | N106: =+J106+K106+M106+L106 -> 11014.16 | O106: =+I106-N106 -> 64985.84
A107: CAROLINA MONTERO MONTERO | B107: PERIODISTA | C107: TEMPORALES | D107: Femenino | E107: 45839 | F107: 46023 | G107: 76000 | H107: 0 | I107: =+G107+H107 -> 76000 | J107: 2181.2 | K107: 6497.56 | L107: 2310.4 | M107: 37306.38 | N107: =+J107+K107+M107+L107 -> 48295.54 | O107: =+I107-N107 -> 27704.46
A108: ESTARLIN JAVIER CANELO DEL ROSARIO | B108: PERIODISTA | C108: TEMPORALES | D108: Masculino | E108: 45839 | F108: 46023 | G108: 76000 | H108: 0 | I108: =+G108+H108 -> 76000 | J108: 2181.2 | K108: 6497.56 | L108: 2310.4 | M108: 25 | N108: =+J108+K108+M108+L108 -> 11014.16 | O108: =+I108-N108 -> 64985.84
A109: MARIA ALEJANDRA LAZALA BONILLA | B109: PERIODISTA | C109: TEMPORALES | D109: Femenino | E109: 45839 | F109: 46023 | G109: 60000 | H109: 0 | I109: =+G109+H109 -> 60000 | J109: 1722 | K109: 3486.68 | L109: 1824 | M109: 25 | N109: =+J109+K109+M109+L109 -> 7057.68 | O109: =+I109-N109 -> 52942.32
A110: YADILIS GUILLEN BRITO | B110: ANALISTA | C110: TEMPORALES | D110: Femenino | E110: 45839 | F110: 46023 | G110: 60000 | H110: 0 | I110: =+G110+H110 -> 60000 | J110: 1722 | K110: 3486.68 | L110: 1824 | M110: 25 | N110: =+J110+K110+M110+L110 -> 7057.68 | O110: =+I110-N110 -> 52942.32
A111: MABEL PEREZ MONERO | B111: ANALISTA | C111: TEMPORALES | D111: Femenino | E111: 45839 | F111: 46023 | G111: 60000 | H111: 0 | I111: =+G111+H111 -> 60000 | J111: 1722 | K111: 3486.68 | L111: 1824 | M111: 25 | N111: =+J111+K111+M111+L111 -> 7057.68 | O111: =+I111-N111 -> 52942.32
A112: ANGEL MARIA LINARES PEREZ | B112: ANALISTA DE SISTEMAS INFORMAT | C112: TEMPORALES | D112: Masculino | E112: 45870 | F112: 46054 | G112: 76000 | H112: 0 | I112: =+G112+H112 -> 76000 | J112: 2181.2 | K112: 6497.56 | L112: 2310.4 | M112: 25 | N112: =+J112+K112+M112+L112 -> 11014.16 | O112: =+I112-N112 -> 64985.84
A113: RUBEN DAVID SANCHEZ SEVERINO | B113: ANALISTA DE SISTEMAS INFORMAT | C113: TEMPORALES | D113: Masculino | E113: 45870 | F113: 46054 | G113: 76000 | H113: 0 | I113: =+G113+H113 -> 76000 | J113: 2181.2 | K113: 6497.56 | L113: 2310.4 | M113: 25 | N113: =+J113+K113+M113+L113 -> 11014.16 | O113: =+I113-N113 -> 64985.84
A114: EDWARD FRANCISCO CABRERA PELAEZ | B114: ANALISTA DE SISTEMAS INFORMAT | C114: TEMPORALES | D114: Masculino | E114: 45839 | F114: 46023 | G114: 76000 | I114: =+G114+H114 -> 76000 | J114: 2181.2 | K114: 6497.56 | L114: 2310.4 | M114: 25 | N114: =+J114+K114+M114+L114 -> 11014.16 | O114: =+I114-N114 -> 64985.84
A115: ISMAEL RODRIGUEZ FELIZ | B115: ANALISTA DE SISTEMAS INFORMAT | C115: TEMPORALES | D115: Masculino | E115: 45717 | F115: 45901 | G115: 76000 | H115: 0 | I115: =+G115+H115 -> 76000 | J115: 2181.2 | K115: 6497.56 | L115: 2310.4 | M115: 25 | N115: =+J115+K115+M115+L115 -> 11014.16 | O115: =+I115-N115 -> 64985.84
...

Sheet Sheet1
A3: =+'TEMPORAL TRANSP'!D489 -> 287 | B3: =+'TEMPORAL TRANSP'!E489 -> 0 | C3: =+'TEMPORAL TRANSP'!F489 -> 0 | D3: =+'TEMPORAL TRANSP'!G489 -> 19606156 | E3: =+'TEMPORAL TRANSP'!H489 -> 0 | F3: =+'TEMPORAL TRANSP'!I489 -> 19606156 | G3: =+'TEMPORAL TRANSP'!J489 -> 562696.68 | H3: =+'TEMPORAL TRANSP'!K489 -> 1566645 | ... L3: =+'TEMPORAL TRANSP'!O489 -> 16170109
D5: 19606156 | E5: 0 | F5: 19606156 | G5: 562696.68 | H5: 1566645 | I5: 596027.14 | J5: 710686.54 | K5: 3432448.9 | L5: 16170109
D8: =+D5-D3 -> 0 | E8: =+E5-E3 -> 0 | F8: =+F5-F3 -> 0 | G8: =+G5-G3 -> 0 | H8: =+H5-H3 -> 0 | I8: =+I5-I3 -> 0 | J8: =+J5-J3 -> 0 | K8: =+K5-K3 -> 0 | L8: =+L5-L3 -> 0
