Workbook

Sheet TEMPORAL TRANSP
B2: DIRECCION DE SERVICIOS DE ATENCION A EMERGENCIAS EXTRA HOSPITALARIA (DAEH)
B3: NOMINA PERSONAL TEMPORAL MES DE AGOSTO 2025
A6: DIRECCION DE SERVICIOS DE ATENCION A EMERGENCIAS EXTRA HOSPITALARIA
A7: NOMBRE | B7: FUNCION | C7: ESTATUS | D7: GENERO | E7: FECHA DESIG. | F7: FECHA TERMINO | G7: SDO.BRUTO | H7: OTROS INGR. | I7: TOTAL INGR. | J7: AFP | K7: ISR | L7: SFS | M7: OTROS DESC. | N7: TOTAL DESC. | O7: NETO
A8: CARMEN MARIA VALDEZ | B8: ASESOR(A) | C8: TEMPORALES | D8: Femenino | E8: 45870 | F8: 46054 | G8: 150000 | H8: 0 | I8: 150000 | J8: 4305 | K8: 23866.62 | L8: 4560 | M8: 25 | N8: =+J8+K8+M8+L8 -> 32756.62 | O8: =+I8-N8 -> 117243.38
A9: CARLOS RAFAEL HENRIQUEZ PEÑA | B9: ENCARGADO | C9: TEMPORALES | D9: Masculino | E9: 45870 | F9: 46054 | G9: 150000 | I9: =+G9+H9 -> 150000 | J9: 4305 | K9: 23866.62 | L9: 4560 | M9: 25 | N9: =+J9+K9+M9+L9 -> 32756.62 | O9: =+I9-N9 -> 117243.38
A10: DIOMEL ALEXIS GARCIA GARCIA | B10: ENCARGADO DIV. CALIDAD EN LA GESTION | C10: TEMPORALES | D10: Masculino | E10: 45748 | F10: 45931 | G10: 128000 | H10: 0 | I10: =+G10+H10 -> 128000 | J10: 3673.6 | K10: 18262.8 | L10: 3891.2 | M10: 1740.46 | N10: =+J10+K10+M10+L10 -> 27568.06 | O10: =+I10-N10 -> 100431.94
A11: CARMEN ANTONIA GUTIERREZ UREÑA | B11: ASISTENTE EJECUTIVA | C11: TEMPORALES | D11: Femenino | E11: 45870 | F11: 46054 | G11: 105000 | H11: 0 | I11: =+G11+H11 -> 105000 | J11: 3013.5 | K11: 13281.49 | L11: 3192 | M11: 3624.02 | N11: =+J11+K11+L11+M11 -> 23111.01 | O11: =+I11-N11 -> 81888.99
A12: NATALIA BEATRIZ MATEO SANTOS | B12: ANALISTA | C12: TEMPORALES | D12: Femenino | E12: 45870 | F12: 46054 | G12: 76000 | I12: =+G12+H12 -> 76000 | J12: 2181.2 | K12: 6497.56 | L12: 2310.4 | M12: 25 | N12: =+J12+K12+M12+L12 -> 11014.16 | O12: =+I12-N12 -> 64985.84
A13: GISSEL NATHALIE ALMANZAR CARO | B13: ANALISTA DE COMPRAS Y CONTRATACIONES | C13: TEMPORALES | D13: Femenino | E13: 45839 | F13: 46023 | G13: 76000 | I13: =+G13+H13 -> 76000 | J13: 2181.2 | K13: 6497.56 | L13: 2310.4 | M13: 25 | N13: =+J13+K13+M13+L13 -> 11014.16 | O13: =+I13-N13 -> 64985.84
A14: DONATO TEJADA QUIÑONES | B14: FACILITADOR | C14: TEMPORALES | D14: Masculino | E14: 45717 | F14: 45901 | G14: 50000 | H14: 0 | I14: =+G14+H14 -> 50000 | J14: 1435 | K14: 1854 | L14: 1520 | M14: 25 | N14: =+J14+K14+M14+L14 -> 4834 | O14: =+I14-N14 -> 45166
A15: CATHERINE DIHMES FLORES | B15: TECNICO ADMINISTRATIVO | C15: TEMPORALES | D15: Femenino | E15: 45839 | F15: 46023 | G15: 45000 | I15: =+G15+H15 -> 45000 | J15: 1291.5 | K15: 1148.33 | L15: 1368 | M15: 25 | N15: =+J15+K15+M15+L15 -> 3832.83 | O15: =+I15-N15 -> 41167.17
A16: AGUSTIN JOEL FELIZ LUNA | B16: TECNICO | C16: TEMPORALES | D16: Masculino | E16: 45748 | F16: 45931 | G16: 55000 | H16: 0 | I16: =+G16+H16 -> 55000 | J16: 1578.5 | K16: 2559.68 | L16: 1672 | M16: 25 | N16: =+J16+K16+M16+L16 -> 5835.18 | O16: =+I16-N16 -> 49164.82
A17: EDUARD JESUS MARIA HENRIQUEZ VARGAS | B17: TECNICO | C17: TEMPORALES | D17: Masculino | E17: 45717 | F17: 45901 | G17: 55000 | I17: =+G17+H17 -> 55000 | J17: 1578.5 | K17: 2559.68 | L17: 1672 | M17: 25 | N17: =+J17+K17+M17+L17 -> 5835.18 | O17: =+I17-N17 -> 49164.82
A18: ELIZABETH MATEO AMANCIO | B18: TECNICO | C18: TEMPORALES | D18: Femenino | E18: 45717 | F18: 45901 | G18: 55000 | H18: 0 | I18: =+G18+H18 -> 55000 | J18: 1578.5 | K18: 2559.68 | L18: 1672 | M18: 25 | N18: =+J18+K18+M18+L18 -> 5835.18 | O18: =+I18-N18 -> 49164.82
D19: 11 | G19: =SUM(G8:G18) -> 945000 | H19: =SUM(H8:H18) -> 0 | I19: =SUM(I8:I18) -> 945000 | J19: =SUM(J8:J18) -> 27121.5 | K19: =SUM(K8:K18) -> 102954.02 | L19: =SUM(L8:L18) -> 28728 | M19: =SUM(M8:M18) -> 5589.48 | N19: =SUM(N8:N18) -> 164393 | O19: =SUM(O8:O18) -> 780607
A23: DEPARTAMENTO DE RECURSOS HUMANOS - DAEH
A24: NOMBRE | B24: FUNCION | C24: ESTATUS | D24: GENERO | E24: FECHA DESIG. | F24: FECHA TERMINO | G24: SDO.BRUTO | H24: OTROS INGR. | I24: TOTAL INGR. | J24: AFP | K24: ISR | L24: SFS | M24: OTROS DESC. | N24: TOTAL DESC. | O24: NETO
A25: ALINA GUZMAN HUMA | B25: ENCARGADO DE RECURSOS HUMANOS | C25: TEMPORALES | D25: Femenino | E25: 45839 | F25: 46023 | G25: 150000 | H25: 0 | I25: 150000 | J25: 4305 | K25: 23866.62 | L25: 4560 | M25: 25 | N25: =+J25+K25+M25+L25 -> 32756.62 | O25: =+I25-N25 -> 117243.38
A26: DERLIN JASSER PAULINO PIMENTEL | B26: ENC. OFIC. LIBRE ACCESO INFORM | C26: TEMPORALES | D26: Masculino | E26: 45778 | F26: 45962 | G26: 128000 | H26: 0 | I26: =+G26+H26 -> 128000 | J26: 3673.6 | K26: 18691.67 | L26: 3891.2 | M26: 2586.96 | N26: =+J26+K26+M26+L26 -> 28843.43 | O26: =+I26-N26 -> 99156.57
A27: ANTONIO FRANCISCO MARTINEZ GARRIDO | B27: ENCARGADO (A) DE NOMINA | C27: TEMPORALES | D27: Masculino | E27: 45839 | F27: 46023 | G27: 128000 | H27: 0 | I27: =+G27+H27 -> 128000 | J27: 3673.6 | K27: 18691.67 | L27: 3891.2 | M27: 25 | N27: =+J27+K27+M27+L27 -> 26281.47 | O27: =+I27-N27 -> 101718.53
A28: BRYAN JESUS SUAREZ DE PEÑA | B28: ENC. DIV. DESEMEÑO Y CAPACIT. | C28: TEMPORALES | D28: Masculino | E28: 45839 | F28: 46023 | G28: 128000 | H28: 0 | I28: =+G28+H28 -> 128000 | J28: 3673.6 | K28: 18691.67 | L28: 3891.2 | M28: 665.49 | N28: =+J28+K28+M28+L28 -> 26921.96 | O28: =+I28-N28 -> 101078.04
A29: JULIA MARGARITA NUÑEZ DE DE LOS SAN | B29: ENC. DIVISION RELACIONALES LABORALES | C29: TEMPORALES | D29: Femenino | E29: 45809 | F29: 45992 | G29: 128000 | H29: 0 | I29: =+G29+H29 -> 128000 | J29: 3673.6 | K29: 18262.8 | L29: 3891.2 | M29: 1740.46 | N29: =+J29+K29+M29+L29 -> 27568.06 | O29: =+I29-N29 -> 100431.94
A30: ZULEIKA MARBELYS VASQUEZ RIJO | B30: ENC. DIV. DE ORGANIZACION DEL TRAB.Y COMPENSACION | C30: TEMPORALES | D30: Femenino | E30: 45809 | F30: 45993 | G30: 128000 | H30: 0 | I30: =+G30+H30 -> 128000 | J30: 3673.6 | K30: 18691.67 | L30: 3891.2 | M30: 20914.89 | N30: =+J30+K30+M30+L30 -> 47171.36 | O30: =+I30-N30 -> 80828.64
A31: NIURVIS HENRIQUEZ GARCIA | B31: COORDINADORA | C31: TEMPORALES | D31: Femenino | E31: 45870 | F31: 46054 | G31: 105000 | H31: 0 | I31: 105000 | J31: 3013.5 | K31: 13281.49 | L31: 3192 | M31: 25 | N31: =+J31+K31+M31+L31 -> 19511.99 | O31: =+I31-N31 -> 85488.01
A32: GRECIA MARIA GOMEZ CRISOSTOMO | B32: ANALISTA | C32: TEMPORALES | D32: Femenino | E32: 45809 | F32: 45994 | G32: 76000 | H32: 0 | I32: =+G32+H32 -> 76000 | J32: 2181.2 | K32: 6497.56 | L32: 2310.4 | M32: 665.49 | N32: =+J32+K32+M32+L32 -> 11654.65 | O32: =+I32-N32 -> 64345.35
A33: VANESSA OGANDO SUERO | B33: ANALISTA | C33: TEMPORALES | D33: Femenino | E33: 45839 | F33: 46023 | G33: 76000 | H33: 0 | I33: =+G33+H33 -> 76000 | J33: 2181.2 | K33: 6154.46 | L33: 2310.4 | M33: 1740.46 | N33: =+J33+K33+M33+L33 -> 12386.52 | O33: =+I33-N33 -> 63613.48
A34: YISSEL ALTAGRACIA SANCHEZ ORTIZ | B34: ANALISTA | C34: TEMPORALES | D34: Femenino | E34: 45809 | F34: 45992 | G34: 76000 | H34: 0 | I34: =+G34+H34 -> 76000 | J34: 2181.2 | K34: 6497.56 | L34: 2310.4 | M34: 10025 | N34: =+J34+K34+M34+L34 -> 21014.16 | O34: =+I34-N34 -> 54985.84
A35: MOISES ARIEL DAVILA RUIZ | B35: ANALISTA DE SISTEMAS INFORMAT | C35: TEMPORALES | D35: Masculino | E35: 45870 | F35: 46054 | G35: 76000 | H35: 0 | I35: =+G35+H35 -> 76000 | J35: 2181.2 | K35: 6497.56 | L35: 2310.4 | M35: 25 | N35: =+J35+K35+M35+L35 -> 11014.16 | O35: =+I35-N35 -> 64985.84
A36: JENNY MONEGRO LIRIANO | B36: ANALISTA DE CAPACITACION Y DE | C36: TEMPORALES | D36: Femenino | E36: 45778 | F36: 45962 | G36: 76000 | H36: 0 | I36: =+G36+H36 -> 76000 | J36: 2181.2 | K36: 6497.56 | L36: 2310.4 | M36: 25 | N36: =+J36+K36+M36+L36 -> 11014.16 | O36: =+I36-N36 -> 64985.84
A37: MAYERLIN JORGE ESCOTO | B37: ANALISTA DE RECLUTAMIENTO Y S | C37: TEMPORALES | D37: Femenino | E37: 45717 | F37: 45901 | G37: 76000 | H37: 0 | I37: =+G37+H37 -> 76000 | J37: 2181.2 | K37: 6497.56 | L37: 2310.4 | M37: 12561.43 | N37: =+J37+K37+M37+L37 -> 23550.59 | O37: =+I37-N37 -> 52449.41
A38: VICKIANA MARISOL MEJIA GONZALEZ | B38: ANALISTA DE RECLUTAMIENTO Y S | C38: TEMPORALES | D38: Femenino | E38: 45717 | F38: 45901 | G38: 76000 | H38: 0 | I38: =+G38+H38 -> 76000 | J38: 2181.2 | K38: 6497.56 | L38: 2310.4 | M38: 25 | N38: =+J38+K38+M38+L38 -> 11014.16 | O38: =+I38-N38 -> 64985.84
A39: ADALGISA DE LA CRUZ HERNANDEZ | B39: ANALISTA DE RECURSOS HUMANOS | C39: TEMPORALES | D39: Femenino | E39: 45839 | F39: 46023 | G39: 76000 | H39: 0 | I39: =+G39+H39 -> 76000 | J39: 2181.2 | K39: 6497.56 | L39: 2310.4 | M39: 25 | N39: =+J39+K39+M39+L39 -> 11014.16 | O39: =+I39-N39 -> 64985.84
A40: ALEJANDRINA PEÑA LEBRON | B40: ANALISTA DE RECURSOS HUMANOS | C40: TEMPORALES | D40: Femenino | E40: 45870 | F40: 46054 | G40: 66000 | H40: 0 | I40: =+G40+H40 -> 66000 | J40: 1894.2 | K40: 4615.76 | L40: 2006.4 | M40: 25 | N40: =+J40+K40+M40+L40 -> 8541.36 | O40: =+I40-N40 -> 57458.64
A41: CARLENY MASSIEL MATOS LUIS | B41: ANALISTA DE RECURSOS HUMANOS | C41: TEMPORALES | D41: Femenino | E41: 45839 | F41: 46023 | G41: 76000 | H41: 0 | I41: =+G41+H41 -> 76000 | J41: 2181.2 | K41: 6497.56 | L41: 2310.4 | M41: 25 | N41: =+J41+K41+M41+L41 -> 11014.16 | O41: =+I41-N41 -> 64985.84
A42: CARMEN ALTAGRACIA GERMAN DIAZ | B42: ANALISTA DE RECURSOS HUMANOS | C42: TEMPORALES | D42: Femenino | E42: 45717 | F42: 45901 | G42: 76000 | H42: 0 | I42: =+G42+H42 -> 76000 | J42: 2181.2 | K42: 6497.56 | L42: 2310.4 | M42: 31339.43 | N42: =+J42+K42+M42+L42 -> 42328.59 | O42: =+I42-N42 -> 33671.41
A43: YAHAIRA CASTILLO CORDERO | B43: ANALISTA DE RECURSOS HUMANOS | C43: TEMPORALES | D43: Femenino | E43: 45870 | F43: 46054 | G43: 76000 | I43: =+G43+H43 -> 76000 | J43: 2181.2 | K43: 6497.56 | L43: 2310.4 | M43: 25 | N43: =+J43+K43+M43+L43 -> 11014.16 | O43: =+I43-N43 -> 64985.84
A44: CARMEN DEL ROSARIO VERAS ENCARNACIO | B44: ANALISTA DE RECURSOS HUMANOS | C44: TEMPORALES | D44: Femenino | E44: 45717 | F44: 45901 | G44: 76000 | H44: 0 | I44: =+G44+H44 -> 76000 | J44: 2181.2 | K44: 6154.46 | L44: 2310.4 | M44: 7380.95 | N44: =+J44+K44+M44+L44 -> 18027.01 | O44: =+I44-N44 -> 57972.99
A45: GENESIS ARLEEN PAULINO REYES | B45: ANALISTA DE RECURSOS HUMANOS | C45: TEMPORALES | D45: Femenino | E45: 45870 | F45: 46054 | G45: 76000 | H45: 0 | I45: =+G45+H45 -> 76000 | J45: 2181.2 | K45: 6497.56 | L45: 2310.4 | M45: 25 | N45: =+J45+K45+M45+L45 -> 11014.16 | O45: =+I45-N45 -> 64985.84
A46: JULIO CESAR GONZALEZ | B46: ANALISTA DE RECURSOS HUMANOS | C46: TEMPORALES | D46: Masculino | E46: 45748 | F46: 45931 | G46: 65000 | H46: 0 | I46: =+G46+H46 -> 65000 | J46: 1865.5 | K46: 4427.58 | L46: 1976 | M46: 25 | N46: =+J46+K46+M46+L46 -> 8294.08 | O46: =+I46-N46 -> 56705.92
...

Sheet Sheet1
A3: =+'TEMPORAL TRANSP'!D489 -> 287 | B3: =+'TEMPORAL TRANSP'!E489 -> 0 | C3: =+'TEMPORAL TRANSP'!F489 -> 0 | D3: =+'TEMPORAL TRANSP'!G489 -> 19606156 | E3: =+'TEMPORAL TRANSP'!H489 -> 0 | F3: =+'TEMPORAL TRANSP'!I489 -> 19606156 | G3: =+'TEMPORAL TRANSP'!J489 -> 562696.68 | H3: =+'TEMPORAL TRANSP'!K489 -> 1566645 | ... L3: =+'TEMPORAL TRANSP'!O489 -> 16170109
D5: 19606156 | E5: 0 | F5: 19606156 | G5: 562696.68 | H5: 1566645 | I5: 596027.14 | J5: 710686.54 | K5: 3432448.9 | L5: 16170109
D8: =+D5-D3 -> 0 | E8: =+E5-E3 -> 0 | F8: =+F5-F3 -> 0 | G8: =+G5-G3 -> 0 | H8: =+H5-H3 -> 0 | I8: =+I5-I3 -> 0 | J8: =+J5-J3 -> 0 | K8: =+K5-K3 -> 0 | L8: =+L5-L3 -> 0
