Workbook

Sheet reportenominatemporalnoviembre
B4: DIRECCION DE SERVICIOS DE ATENCION A EMERGENCIAS EXTRA HOSPITALARIA (DAEH)
B5: NOMINA PERSONAL TEMPORAL MES DE NOVIEMBRE 2025
A9: DIRECCION DE SERVICIOS DE ATENCION A EMERGENCIAS EXTRA HOSPITALARIA
A10: Nombre | B10: FUNCION | C10: ESTATUS | D10: GENERO | E10: FECHA DESIG | F10: FECHA TERMINO | G10: Ingreso Bruto | H10: Otros Ing. | I10: Total Ing. | J10: AFP | K10: ISR | L10: SFS | M10: Otros Desc. | N10: Total Desc. | O10: Neto
A11: CARMEN MARIA VALDEZ | B11: ASESOR(A) | C11: TEMPORALES | D11: Femenino | E11: 45870 | F11: 46054 | G11: 150000 | H11: 0 | I11: =+G11+H11 -> 150000 | J11: 4305 | K11: 23866.62 | L11: 4560 | M11: 25 | N11: =+M11+L11+K11+J11 -> 32756.62 | O11: =+I11-N11 -> 117243.38
A12: CARLOS RAFAEL HENRIQUEZ PEÑA | B12: ENCARGADO | C12: TEMPORALES | D12: Masculino | E12: 45870 | F12: 46054 | G12: 150000 | H12: 0 | I12: =+G12+H12 -> 150000 | J12: 4305 | K12: 23866.62 | L12: 4560 | M12: 25 | N12: =+M12+L12+K12+J12 -> 32756.62 | O12: =+I12-N12 -> 117243.38
A13: DIOMEL ALEXIS GARCIA GARCIA | B13: ENCARGADO DE CALIDAD EN LA GE | C13: TEMPORALES | D13: Masculino | E13: 45931 | F13: 46113 | G13: 128000 | H13: 0 | I13: =+G13+H13 -> 128000 | J13: 3673.6 | K13: 18211.72 | L13: 3891.2 | M13: 1944.78 | N13: =+M13+L13+K13+J13 -> 27721.3 | O13: =+I13-N13 -> 100278.7
A14: CARMEN ANTONIA GUTIERREZ UREÑA | B14: ASISTENTE EJECUTIVA | C14: TEMPORALES | D14: Femenino | E14: 45870 | F14: 46054 | G14: 105000 | H14: 0 | I14: =+G14+H14 -> 105000 | J14: 3013.5 | K14: 13281.49 | L14: 3192 | M14: 3624.02 | N14: =+M14+L14+K14+J14 -> 23111.01 | O14: =+I14-N14 -> 81888.99
A15: GISSEL NATHALIE ALMANZAR CARO | B15: ANALISTA DE COMPRAS Y CONTRAT | C15: TEMPORALES | D15: Femenino | E15: 45839 | F15: 46023 | G15: 76000 | H15: 0 | I15: =+G15+H15 -> 76000 | J15: 2181.2 | K15: 6497.56 | L15: 2310.4 | M15: 25 | N15: =+M15+L15+K15+J15 -> 11014.16 | O15: =+I15-N15 -> 64985.84
A16: DONATO TEJADA QUIÑONES | B16: FACILITADOR | C16: TEMPORALES | D16: Masculino | E16: 45901 | F16: 46082 | G16: 50000 | H16: 0 | I16: =+G16+H16 -> 50000 | J16: 1435 | K16: 1854 | L16: 1520 | M16: 25 | N16: =+M16+L16+K16+J16 -> 4834 | O16: =+I16-N16 -> 45166
A17: CATHERINE DIHMES FLORES | B17: TECNICO ADMINISTRATIVO | C17: TEMPORALES | D17: Femenino | E17: 45839 | F17: 46023 | G17: 45000 | H17: 0 | I17: =+G17+H17 -> 45000 | J17: 1291.5 | K17: 1148.33 | L17: 1368 | M17: 25 | N17: =+M17+L17+K17+J17 -> 3832.83 | O17: =+I17-N17 -> 41167.17
A18: EDUARD JESUS MARIA HENRIQUEZ VARGAS | B18: TECNICO | C18: TEMPORALES | D18: Masculino | E18: 45901 | F18: 46082 | G18: 55000 | H18: 0 | I18: =+G18+H18 -> 55000 | J18: 1578.5 | K18: 2559.68 | L18: 1672 | M18: 25 | N18: =+M18+L18+K18+J18 -> 5835.18 | O18: =+I18-N18 -> 49164.82
A19: ELIZABETH MATEO AMANCIO | B19: TECNICO | C19: TEMPORALES | D19: Femenino | E19: 45901 | F19: 46082 | G19: 55000 | H19: 0 | I19: =+G19+H19 -> 55000 | J19: 1578.5 | K19: 2559.68 | L19: 1672 | M19: 25 | N19: =+M19+L19+K19+J19 -> 5835.18 | O19: =+I19-N19 -> 49164.82
A20: AGUSTIN JOEL FELIZ LUNA | B20: TECNICO | C20: TEMPORALES | D20: Masculino | E20: 45931 | F20: 46113 | G20: 55000 | H20: 0 | I20: =+G20+H20 -> 55000 | J20: 1578.5 | K20: 2559.68 | L20: 1672 | M20: 25 | N20: =+M20+L20+K20+J20 -> 5835.18 | O20: =+I20-N20 -> 49164.82
D21: 10 | G21: =SUM(G11:G20) -> 869000 | H21: =SUM(H11:H20) -> 0 | I21: =SUM(I11:I20) -> 869000 | J21: =SUM(J11:J20) -> 24940.3 | K21: =SUM(K11:K20) -> 96405.38 | L21: =SUM(L11:L20) -> 26417.6 | M21: =SUM(M11:M20) -> 5768.8 | N21: =SUM(N11:N20) -> 153532.08 | O21: =SUM(O11:O20) -> 715467.92
A23: DEPARTAMENTO DE RECURSOS HUMANOS - DAEH
A24: Nombre | B24: FUNCION | C24: ESTATUS | D24: GENERO | E24: FECHA DESIG | F24: FECHA TERMINO | G24: Ingreso Bruto | H24: Otros Ing. | I24: Total Ing. | J24: AFP | K24: ISR | L24: SFS | M24: Otros Desc. | N24: Total Desc. | O24: Neto
A25: ALINA GUZMAN HUMA | B25: ENCARGADO DE RECURSOS HUMANOS | C25: TEMPORALES | D25: Femenino | E25: 45839 | F25: 46023 | G25: 150000 | H25: 0 | I25: =+G25+H25 -> 150000 | J25: 4305 | K25: 23866.62 | L25: 4560 | M25: 25 | N25: =+M25+L25+K25+J25 -> 32756.62 | O25: =+I25-N25 -> 117243.38
A26: DERLIN JASSER PAULINO PIMENTEL | B26: ENCARGADO OFICINA DE ACCESO A | C26: TEMPORALES | D26: Masculino | E26: 45962 | F26: 46143 | G26: 128000 | H26: 0 | I26: =+G26+H26 -> 128000 | J26: 3673.6 | K26: 18691.67 | L26: 3891.2 | M26: 2586.96 | N26: =+M26+L26+K26+J26 -> 28843.43 | O26: =+I26-N26 -> 99156.57
A27: ZULEIKA MARBELYS VASQUEZ RIJO | B27: ENCARGADO (A) | C27: TEMPORALES | D27: Femenino | E27: 45992 | F27: 46174 | G27: 128000 | H27: 0 | I27: =+G27+H27 -> 128000 | J27: 3673.6 | K27: 18691.67 | L27: 3891.2 | M27: 20914.89 | N27: =+M27+L27+K27+J27 -> 47171.36 | O27: =+I27-N27 -> 80828.64
A28: JULIA MARGARITA NUÑEZ DE DE LOS SAN | B28: ENCARGADO (A) | C28: TEMPORALES | D28: Femenino | E28: 45992 | F28: 46174 | G28: 128000 | H28: 0 | I28: =+G28+H28 -> 128000 | J28: 3673.6 | K28: 18211.72 | L28: 3891.2 | M28: 1944.78 | N28: =+M28+L28+K28+J28 -> 27721.3 | O28: =+I28-N28 -> 100278.7
A29: BRYAN JESUS SUAREZ DE PEÑA | B29: ENCARGADO (A) DE EVALUACION D | C29: TEMPORALES | D29: Masculino | E29: 45839 | F29: 46023 | G29: 128000 | H29: 0 | I29: =+G29+H29 -> 128000 | J29: 3673.6 | K29: 18691.67 | L29: 3891.2 | M29: 665.49 | N29: =+M29+L29+K29+J29 -> 26921.96 | O29: =+I29-N29 -> 101078.04
A30: ANTONIO FRANCISCO MARTINEZ GARRIDO | B30: ENCARGADO (A) DE NOMINA | C30: TEMPORALES | D30: Masculino | E30: 45839 | F30: 46023 | G30: 128000 | H30: 0 | I30: =+G30+H30 -> 128000 | J30: 3673.6 | K30: 18691.67 | L30: 3891.2 | M30: 25 | N30: =+M30+L30+K30+J30 -> 26281.47 | O30: =+I30-N30 -> 101718.53
A31: NIURVIS HENRIQUEZ GARCIA | B31: COORDINADORA | C31: TEMPORALES | D31: Femenino | E31: 45870 | F31: 46054 | G31: 105000 | H31: 0 | I31: =+G31+H31 -> 105000 | J31: 3013.5 | K31: 13281.49 | L31: 3192 | M31: 25 | N31: =+M31+L31+K31+J31 -> 19511.99 | O31: =+I31-N31 -> 85488.01
A32: MAYERLIN JORGE ESCOTO | B32: COORDINADOR (A) DE RECURSOS H | C32: TEMPORALES | D32: Femenino | E32: 45901 | F32: 46082 | G32: 105000 | H32: 0 | I32: =+G32+H32 -> 105000 | J32: 3013.5 | K32: 13281.49 | L32: 3192 | M32: =25+5000+5398.53 -> 10423.53 | N32: =+M32+L32+K32+J32 -> 29910.52 | O32: =+I32-N32 -> 75089.48
A33: YISSEL ALTAGRACIA SANCHEZ ORTIZ | B33: ANALISTA | C33: TEMPORALES | D33: Femenino | E33: 45992 | F33: 46174 | G33: 76000 | H33: 0 | I33: =+G33+H33 -> 76000 | J33: 2181.2 | K33: 6497.56 | L33: 2310.4 | M33: 10025 | N33: =+M33+L33+K33+J33 -> 21014.16 | O33: =+I33-N33 -> 54985.84
A34: GRECIA MARIA GOMEZ CRISOSTOMO | B34: ANALISTA | C34: TEMPORALES | D34: Femenino | E34: 45992 | F34: 46174 | G34: 76000 | H34: 0 | I34: =+G34+H34 -> 76000 | J34: 2181.2 | K34: 6497.56 | L34: 2310.4 | M34: 665.49 | N34: =+M34+L34+K34+J34 -> 11654.65 | O34: =+I34-N34 -> 64345.35
A35: VANESSA OGANDO SUERO | B35: ANALISTA | C35: TEMPORALES | D35: Femenino | E35: 45839 | F35: 46023 | G35: 76000 | H35: 0 | I35: =+G35+H35 -> 76000 | J35: 2181.2 | K35: 6113.6 | L35: 2310.4 | M35: 1944.78 | N35: =+M35+L35+K35+J35 -> 12549.98 | O35: =+I35-N35 -> 63450.02
A36: JENNY MONEGRO LIRIANO | B36: ANALISTA DE CAPACITACION Y DE | C36: TEMPORALES | D36: Femenino | E36: 45962 | F36: 46143 | G36: 76000 | H36: 0 | I36: =+G36+H36 -> 76000 | J36: 2181.2 | K36: 6497.56 | L36: 2310.4 | M36: 25 | N36: =+M36+L36+K36+J36 -> 11014.16 | O36: =+I36-N36 -> 64985.84
A37: VICKIANA MARISOL MEJIA GONZALEZ | B37: ANALISTA DE RECLUTAMIENTO Y S | C37: TEMPORALES | D37: Femenino | E37: 45901 | F37: 46082 | G37: 76000 | H37: 0 | I37: =+G37+H37 -> 76000 | J37: 2181.2 | K37: 6497.56 | L37: 2310.4 | M37: 25 | N37: =+M37+L37+K37+J37 -> 11014.16 | O37: =+I37-N37 -> 64985.84
A38: YOKAIRA CARIDAD GUZMAN REYES | B38: ANALISTA DE RECURSOS HUMANOS | C38: TEMPORALES | D38: Femenino | E38: 45901 | F38: 46082 | G38: 76000 | H38: 0 | I38: =+G38+H38 -> 76000 | J38: 2181.2 | K38: 6497.56 | L38: 2310.4 | M38: 25 | N38: =+M38+L38+K38+J38 -> 11014.16 | O38: =+I38-N38 -> 64985.84
A39: CARLENY MASSIEL MATOS LUIS | B39: ANALISTA DE RECURSOS HUMANOS | C39: TEMPORALES | D39: Femenino | E39: 45839 | F39: 46023 | G39: 76000 | H39: 0 | I39: =+G39+H39 -> 76000 | J39: 2181.2 | K39: 6497.56 | L39: 2310.4 | M39: 11754.8 | N39: =+M39+L39+K39+J39 -> 22743.96 | O39: =+I39-N39 -> 53256.04
A40: GENESIS ARLEEN PAULINO REYES | B40: ANALISTA DE RECURSOS HUMANOS | C40: TEMPORALES | D40: Femenino | E40: 45870 | F40: 46054 | G40: 76000 | H40: 0 | I40: =+G40+H40 -> 76000 | J40: 2181.2 | K40: 6497.56 | L40: 2310.4 | M40: 25 | N40: =+M40+L40+K40+J40 -> 11014.16 | O40: =+I40-N40 -> 64985.84
A41: ALEJANDRINA PEÑA LEBRON | B41: ANALISTA DE RECURSOS HUMANOS | C41: TEMPORALES | D41: Femenino | E41: 45870 | F41: 46054 | G41: 66000 | H41: 0 | I41: =+G41+H41 -> 66000 | J41: 1894.2 | K41: 4615.76 | L41: 2006.4 | M41: 25 | N41: =+M41+L41+K41+J41 -> 8541.36 | O41: =+I41-N41 -> 57458.64
A42: RAMON IGNACIO DIAZ RODRIGUEZ | B42: ANALISTA DE RECURSOS HUMANOS | C42: TEMPORALES | D42: Masculino | E42: 45901 | F42: 46082 | G42: 76000 | H42: 0 | I42: =+G42+H42 -> 76000 | J42: 2181.2 | K42: 6113.6 | L42: 2310.4 | M42: 29870.11 | N42: =+M42+L42+K42+J42 -> 40475.31 | O42: =+I42-N42 -> 35524.69
A43: CARMEN DEL ROSARIO VERAS ENCARNACIO | B43: ANALISTA DE RECURSOS HUMANOS | C43: TEMPORALES | D43: Femenino | E43: 45901 | F43: 46082 | G43: 76000 | H43: 0 | I43: =+G43+H43 -> 76000 | J43: 2181.2 | K43: 6113.6 | L43: 2310.4 | M43: 7585.27 | N43: =+M43+L43+K43+J43 -> 18190.47 | O43: =+I43-N43 -> 57809.53
A44: JULIO CESAR GONZALEZ | B44: ANALISTA DE RECURSOS HUMANOS | C44: TEMPORALES | D44: Masculino | E44: 45931 | F44: 46113 | G44: 65000 | H44: 0 | I44: =+G44+H44 -> 65000 | J44: 1865.5 | K44: 4427.58 | L44: 1976 | M44: 25 | N44: =+M44+L44+K44+J44 -> 8294.08 | O44: =+I44-N44 -> 56705.92
... A54: DARIANA PEREZ ABREU | B54: TECNICO DE RECURSOS HUMANOS | C54: TEMPORALES | D54: Femenino | E54: 45931 | F54: 46113 | G54: 55000 | H54: 0 | I54: =+G54+H54 -> 55000 | J54: 1578.5 | K54: 2559.68 | L54: 1672 | M54: 25 | N54: =+M54+L54+K54+J54 -> 5835.18 | O54: =+I54-N54 -> 49164.82
D55: 30 | G55: =SUM(G25:G54) -> 2531000 | H55: =SUM(H25:H54) -> 0 | I55: =SUM(I25:I54) -> 2531000 | J55: =SUM(J25:J54) -> 72639.7 | K55: =SUM(K25:K54) -> 259444.23 | L55: =SUM(L25:L54) -> 76942.4 | M55: =SUM(M25:M54) -> 165452.67 | N55: =SUM(N25:N54) -> 574479 | O55: =SUM(O25:O54) -> 1956521
A58: DEPARTAMENTO JURIDICO- DAEH
A59: Nombre | B59: FUNCION | C59: ESTATUS | D59: GENERO | E59: FECHA DESIG | F59: FECHA TERMINO | G59: Ingreso Bruto | H59: Otros Ing. | I59: Total Ing. | J59: AFP | K59: ISR | L59: SFS | M59: Otros Desc. | N59: Total Desc. | O59: Neto
A60: ADOLFO PEREZ PEREZ | B60: ENCARGADO | C60: TEMPORALES | D60: Masculino | E60: 45870 | F60: 46054 | G60: 150000 | H60: 0 | I60: =+G60+H60 -> 150000 | J60: 4305 | K60: 23866.62 | L60: 4560 | M60: 3624.02 | N60: =+M60+L60+K60+J60 -> 36355.64 | O60: =+I60-N60 -> 113644.36
A61: VIRGINIA MARIA CRUZ FERNANDEZ | B61: ANALISTA LEGAL | C61: TEMPORALES | D61: Femenino | E61: 45962 | F61: 46143 | G61: 76000 | H61: 0 | I61: =+G61+H61 -> 76000 | J61: 2181.2 | K61: 6497.56 | L61: 2310.4 | M61: 685 | N61: =+M61+L61+K61+J61 -> 11674.16 | O61: =+I61-N61 -> 64325.84
A62: JOSE OSCAR MARTE PEREZ | B62: ANALISTA LEGAL | C62: TEMPORALES | D62: Masculino | E62: 45962 | F62: 46143 | G62: 76000 | H62: 0 | I62: =+G62+H62 -> 76000 | J62: 2181.2 | K62: 6497.56 | L62: 2310.4 | M62: 625 | N62: =+M62+L62+K62+J62 -> 11614.16 | O62: =+I62-N62 -> 64385.84
A63: MARIA FERMINA RODRIGUEZ LOPEZ | B63: ANALISTA LEGAL | C63: TEMPORALES | D63: Femenino | E63: 45901 | F63: 46082 | G63: 50000 | H63: 0 | I63: =+G63+H63 -> 50000 | J63: 1435 | K63: 1854 | L63: 1520 | M63: 25 | N63: =+M63+L63+K63+J63 -> 4834 | O63: =+I63-N63 -> 45166
A64: CAROLINA ALEJANDRA CRISOSTOMO FERNA | B64: ANALISTA LEGAL | C64: TEMPORALES | D64: Femenino | E64: 45870 | F64: 46054 | G64: 75000 | H64: 0 | I64: =+G64+H64 -> 75000 | J64: 2152.5 | K64: 6309.38 | L64: 2280 | M64: 25 | N64: =+M64+L64+K64+J64 -> 10766.88 | O64: =+I64-N64 -> 64233.12
A65: QUILINO DE LOS SANTOS CARABALLO | B65: ANALISTA LEGAL | C65: TEMPORALES | D65: Masculino | E65: 45962 | F65: 46143 | G65: 76000 | H65: 0 | I65: =+G65+H65 -> 76000 | J65: 2181.2 | K65: 6497.56 | L65: 2310.4 | M65: 25 | N65: =+M65+L65+K65+J65 -> 11014.16 | O65: =+I65-N65 -> 64985.84
A66: HENRY SMIL OGANDO PEREZ | B66: ANALISTA LEGAL | C66: TEMPORALES | D66: Masculino | E66: 45962 | F66: 46143 | G66: 76000 | H66: 0 | I66: =+G66+H66 -> 76000 | J66: 2181.2 | K66: 6497.56 | L66: 2310.4 | M66: 25 | N66: =+M66+L66+K66+J66 -> 11014.16 | O66: =+I66-N66 -> 64985.84
A67: ROSANNA ISABEL PEREZ HEREDIA | B67: ANALISTA LEGAL | C67: TEMPORALES | D67: Femenino | E67: 45901 | F67: 46082 | G67: 50000 | H67: 0 | I67: =+G67+H67 -> 50000 | J67: 1435 | K67: 1077.75 | L67: 1520 | M67: 25 | N67: =+M67+L67+K67+J67 -> 4057.75 | O67: =+I67-N67 -> 45942.25
A68: ELEAZAR TOMAS DISLA MAYI | B68: ANALISTA LEGAL | C68: TEMPORALES | D68: Masculino | E68: 45962 | F68: 46143 | G68: 76000 | H68: 0 | I68: =+G68+H68 -> 76000 | J68: 2181.2 | K68: 6497.56 | L68: 2310.4 | M68: 25 | N68: =+M68+L68+K68+J68 -> 11014.16 | O68: =+I68-N68 -> 64985.84
A69: LLOVISNA NATALI PUJOLS PEREYRA | B69: ANALISTA LEGAL | C69: TEMPORALES | D69: Femenino | E69: 45992 | F69: 46174 | G69: 76000 | H69: 0 | I69: =+G69+H69 -> 76000 | J69: 2181.2 | K69: 6497.56 | L69: 2310.4 | M69: 25 | N69: =+M69+L69+K69+J69 -> 11014.16 | O69: =+I69-N69 -> 64985.84
A70: RADHAMES JIMENEZ RAMIREZ | B70: ANALISTA LEGAL | C70: TEMPORALES | D70: Masculino | E70: 45992 | F70: 46174 | G70: 76000 | H70: 0 | I70: =+G70+H70 -> 76000 | J70: 2181.2 | K70: 6497.56 | L70: 2310.4 | M70: 25 | N70: =+M70+L70+K70+J70 -> 11014.16 | O70: =+I70-N70 -> 64985.84
A71: SORIBEL MENDEZ SANCHEZ | B71: ANALISTA LEGAL | C71: TEMPORALES | D71: Femenino | E71: 45992 | F71: 46174 | G71: 76000 | H71: 0 | I71: =+G71+H71 -> 76000 | J71: 2181.2 | K71: 6497.56 | L71: 2310.4 | M71: 25 | N71: =+M71+L71+K71+J71 -> 11014.16 | O71: =+I71-N71 -> 64985.84
... A80: CLAUDETT CARRASCO MARTINEZ | B80: TECNICO ADMINISTRATIVO | C80: TEMPORALES | D80: Femenino | E80: 45839 | F80: 46023 | G80: 55000 | H80: 0 | I80: =+G80+H80 -> 55000 | J80: 1578.5 | K80: 2559.68 | L80: 1672 | M80: 25 | N80: =+M80+L80+K80+J80 -> 5835.18 | O80: =+I80-N80 -> 49164.82
D81: 21 | G81: =SUM(G60:G80) -> 1507166.7 | H81: =SUM(H60:H80) -> 0 | I81: =SUM(I60:I80) -> 1507166.7 | J81: =SUM(J60:J80) -> 43255.68 | K81: =SUM(K60:K80) -> 128808.99 | L81: =SUM(L60:L80) -> 45817.87 | M81: =SUM(M60:M80) -> 8584.78 | N81: =SUM(N60:N80) -> 226467.32 | O81: =SUM(O60:O80) -> 1280699.3
A84: DEPARTAMENTO DE TECNOLOGIAS DE LA INFORMACION Y COMUNICACION- DAEH
A85: Nombre | B85: FUNCION | C85: ESTATUS | D85: GENERO | E85: FECHA DESIG | F85: FECHA TERMINO | G85: Ingreso Bruto | H85: Otros Ing. | I85: Total Ing. | J85: AFP | K85: ISR | L85: SFS | M85: Otros Desc. | N85: Total Desc. | O85: Neto
A86: YADILIS GUILLEN BRITO | B86: ANALISTA | C86: TEMPORALES | D86: Femenino | E86: 45839 | F86: 46023 | G86: 60000 | H86: 0 | I86: =+G86+H86 -> 60000 | J86: 1722 | K86: 3486.68 | L86: 1824 | M86: 25 | N86: =+M86+L86+K86+J86 -> 7057.68 | O86: =+I86-N86 -> 52942.32
A87: MABEL PEREZ MONERO | B87: ANALISTA | C87: TEMPORALES | D87: Femenino | E87: 45839 | F87: 46023 | G87: 60000 | H87: 0 | I87: =+G87+H87 -> 60000 | J87: 1722 | K87: 3486.68 | L87: 1824 | M87: 25 | N87: =+M87+L87+K87+J87 -> 7057.68 | O87: =+I87-N87 -> 52942.32
A88: ISMAEL RODRIGUEZ FELIZ | B88: ANALISTA DE SISTEMAS INFORMAT | C88: TEMPORALES | D88: Masculino | E88: 45901 | F88: 46082 | G88: 76000 | H88: 0 | I88: =+G88+H88 -> 76000 | J88: 2181.2 | K88: 6497.56 | L88: 2310.4 | M88: 25 | N88: =+M88+L88+K88+J88 -> 11014.16 | O88: =+I88-N88 -> 64985.84
A89: ANGEL MARIA LINARES PEREZ | B89: ANALISTA DE SISTEMAS INFORMAT | C89: TEMPORALES | D89: Masculino | E89: 45870 | F89: 46054 | G89: 76000 | H89: 0 | I89: =+G89+H89 -> 76000 | J89: 2181.2 | K89: 6497.56 | L89: 2310.4 | M89: 25 | N89: =+M89+L89+K89+J89 -> 11014.16 | O89: =+I89-N89 -> 64985.84
A90: RUBEN DAVID SANCHEZ SEVERINO | B90: ANALISTA DE SISTEMAS INFORMAT | C90: TEMPORALES | D90: Masculino | E90: 45870 | F90: 46054 | G90: 76000 | H90: 0 | I90: =+G90+H90 -> 76000 | J90: 2181.2 | K90: 6497.56 | L90: 2310.4 | M90: 25 | N90: =+M90+L90+K90+J90 -> 11014.16 | O90: =+I90-N90 -> 64985.84
A91: EDWARD FRANCISCO CABRERA PELAEZ | B91: ANALISTA DE SISTEMAS INFORMAT | C91: TEMPORALES | D91: Masculino | E91: 45839 | F91: 46023 | G91: 76000 | H91: 0 | I91: =+G91+H91 -> 76000 | J91: 2181.2 | K91: 6497.56 | L91: 2310.4 | M91: 25 | N91: =+M91+L91+K91+J91 -> 11014.16 | O91: =+I91-N91 -> 64985.84
A92: MARCOS ABRAHAM PILAR MEDINA | B92: ANALISTA INFORMATICO | C92: TEMPORALES | D92: Masculino | E92: 45962 | F92: 46143 | G92: 76000 | H92: 0 | I92: =+G92+H92 -> 76000 | J92: 2181.2 | K92: 6497.56 | L92: 2310.4 | M92: 1025 | N92: =+M92+L92+K92+J92 -> 12014.16 | O92: =+I92-N92 -> 63985.84
A93: DEYVI DE LEON ULLOA | B93: ANALISTA INFORMATICO | C93: TEMPORALES | D93: Femenino | E93: 45901 | F93: 46082 | G93: 76000 | H93: 0 | I93: =+G93+H93 -> 76000 | J93: 2181.2 | K93: 6497.56 | L93: 2310.4 | M93: 25 | N93: =+M93+L93+K93+J93 -> 11014.16 | O93: =+I93-N93 -> 64985.84
A94: DARIO ALEXANDER GOMEZ PIÑA | B94: ANALISTA INFORMATICO | C94: TEMPORALES | D94: Masculino | E94: 45962 | F94: 46143 | G94: 76000 | H94: 0 | I94: =+G94+H94 -> 76000 | J94: 2181.2 | K94: 6497.56 | L94: 2310.4 | M94: 25 | N94: =+M94+L94+K94+J94 -> 11014.16 | O94: =+I94-N94 -> 64985.84
A95: CAROLINA MONTERO MONTERO | B95: PERIODISTA | C95: TEMPORALES | D95: Femenino | E95: 45839 | F95: 46023 | G95: 76000 | H95: 0 | I95: =+G95+H95 -> 76000 | J95: 2181.2 | K95: 6497.56 | L95: 2310.4 | M95: 37556.49 | N95: =+M95+L95+K95+J95 -> 48545.65 | O95: =+I95-N95 -> 27454.35
A96: VICNER NATALIS OGANDO MENDOZA | B96: PERIODISTA | C96: TEMPORALES | D96: Femenino | E96: 45992 | F96: 46174 | G96: 76000 | H96: 0 | I96: =+G96+H96 -> 76000 | J96: 2181.2 | K96: 6497.56 | L96: 2310.4 | M96: 25 | N96: =+M96+L96+K96+J96 -> 11014.16 | O96: =+I96-N96 -> 64985.84
A97: YULISSA JOSEFINA REYES GARCIA | B97: PERIODISTA | C97: TEMPORALES | D97: Femenino | E97: 45962 | F97: 46143 | G97: 76000 | H97: 0 | I97: =+G97+H97 -> 76000 | J97: 2181.2 | K97: 6497.56 | L97: 2310.4 | M97: 25 | N97: =+M97+L97+K97+J97 -> 11014.16 | O97: =+I97-N97 -> 64985.84
... A113: GRECIA MERCEDES FLORIAN PEREZ | B113: TECNICO DE COMUNICACIONES | C113: TEMPORALES | D113: Femenino | E113: 45901 | F113: 46082 | G113: 30000 | H113: 0 | I113: =+G113+H113 -> 30000 | J113: 861 | K113: 0 | L113: 912 | M113: 25 | N113: =+M113+L113+K113+J113 -> 1798 | O113: =+I113-N113 -> 28202
D114: 28 | G114: =SUM(G86:G113) -> 1671000 | H114: =SUM(H86:H113) -> 0 | I114: =SUM(I86:I113) -> 1671000 | J114: =SUM(J86:J113) -> 47957.7 | K114: =SUM(K86:K113) -> 104156.29 | L114: =SUM(L86:L113) -> 50798.4 | M114: =SUM(M86:M113) -> 41151.27 | N114: =SUM(N86:N113) -> 244063.66 | O114: =SUM(O86:O113) -> 1426936.3
A117: DEPARTAMENTO DE PLANIFICACION Y DESARROLLO- DAEH
A118: Nombre | B118: FUNCION | C118: ESTATUS | D118: GENERO | E118: FECHA DESIG | F118: FECHA TERMINO | G118: Ingreso Bruto | H118: Otros Ing. | I118: Total Ing. | J118: AFP | K118: ISR | L118: SFS | M118: Otros Desc. | N118: Total Desc. | O118: Neto
A119: BERTHA PATRICIA LAHOZ BANKS DE ADAM | B119: ENCARGADO (A) DE PLANIFICACIO | C119: TEMPORALES | D119: Femenino | E119: 45870 | F119: 46054 | G119: 150000 | H119: 0 | I119: =+G119+H119 -> 150000 | J119: 4305 | K119: 23386.67 | L119: 4560 | M119: 2944.78 | N119: =+M119+L119+K119+J119 -> 35196.45 | O119: =+I119-N119 -> 114803.55
A120: LUIS ANDRES ROSARIO LUNA | B120: TECNICO DE CALIDAD EN LA GEST | C120: TEMPORALES | D120: Masculino | E120: 45839 | F120: 46023 | G120: 55000 | H120: 0 | I120: =+G120+H120 -> 55000 | J120: 1578.5 | K120: 2559.68 | L120: 1672 | M120: 25 | N120: =+M120+L120+K120+J120 -> 5835.18 | O120: =+I120-N120 -> 49164.82
A121: ALEXIS MORILLO MORILLO | B121: TECNICO DE CALIDAD EN LA GEST | C121: TEMPORALES | D121: Femenino | E121: 45839 | F121: 46023 | G121: 55000 | H121: 0 | I121: =+G121+H121 -> 55000 | J121: 1578.5 | K121: 2559.68 | L121: 1672 | M121: 25 | N121: =+M121+L121+K121+J121 -> 5835.18 | O121: =+I121-N121 -> 49164.82
A122: LESLIE SAI DAVID PAYANO | B122: TECNICO DE CALIDAD EN LA GEST | C122: TEMPORALES | D122: Femenino | E122: 45901 | F122: 46082 | G122: 55000 | H122: 0 | I122: =+G122+H122 -> 55000 | J122: 1578.5 | K122: 2559.68 | L122: 1672 | M122: 25 | N122: =+M122+L122+K122+J122 -> 5835.18 | O122: =+I122-N122 -> 49164.82
D123: 4 | G123: =SUM(G119:G122) -> 315000 | H123: =SUM(H119:H122) -> 0 | I123: =SUM(I119:I122) -> 315000 | J123: =SUM(J119:J122) -> 9040.5 | K123: =SUM(K119:K122) -> 31065.71 | L123: =SUM(L119:L122) -> 9576 | M123: =SUM(M119:M122) -> 3019.78 | N123: =SUM(N119:N122) -> 52701.99 | O123: =SUM(O119:O122) -> 262298.01
A125: DIVISION DE CALIDAD EN LA GESTION -DAEH
A126: Nombre | B126: FUNCION | C126: ESTATUS | D126: GENERO | E126: FECHA DESIG | F126: FECHA TERMINO | G126: Ingreso Bruto | H126: Otros Ing. | I126: Total Ing. | J126: AFP | K126: ISR | L126: SFS | M126: Otros Desc. | N126: Total Desc. | O126: Neto
A127: SHEYLA CONSUEGRA GONZALEZ | B127: ENCARGADO DE CALIDAD EN LA GE | C127: TEMPORALES | D127: Femenino | E127: 45901 | F127: 46082 | G127: 128000 | H127: 0 | I127: =+G127+H127 -> 128000 | J127: 3673.6 | K127: 18691.67 | L127: 3891.2 | M127: 25 | N127: =+M127+L127+K127+J127 -> 26281.47 | O127: =+I127-N127 -> 101718.53
A128: MARIO ANTONIO SANCHEZ RAMIREZ | B128: TECNICO DE CALIDAD EN LA GEST | C128: TEMPORALES | D128: Masculino | E128: 45962 | F128: 46143 | G128: 55000 | H128: 0 | I128: =+G128+H128 -> 55000 | J128: 1578.5 | K128: 2559.68 | L128: 1672 | M128: 25 | N128: =+M128+L128+K128+J128 -> 5835.18 | O128: =+I128-N128 -> 49164.82
D129: 2 | G129: =SUM(G127:G128) -> 183000 | H129: =SUM(H127:H128) -> 0 | I129: =SUM(I127:I128) -> 183000 | J129: =SUM(J127:J128) -> 5252.1 | K129: =SUM(K127:K128) -> 21251.35 | L129: =SUM(L127:L128) -> 5563.2 | M129: =SUM(M127:M128) -> 50 | N129: =SUM(N127:N128) -> 32116.65 | O129: =SUM(O127:O128) -> 150883.35
A131: DEPARTAMENTO ADMINISTRATIVO FINANCIERO- DAEH
A132: Nombre | B132: FUNCION | C132: ESTATUS | D132: GENERO | E132: FECHA DESIG | F132: FECHA TERMINO | G132: Ingreso Bruto | H132: Otros Ing. | I132: Total Ing. | J132: AFP | K132: ISR | L132: SFS | M132: Otros Desc. | N132: Total Desc. | O132: Neto
A133: ERIS ANTONIO FELIZ FELIZ | B133: ENCARGADO | C133: TEMPORALES | D133: Masculino | E133: 45931 | F133: 46113 | G133: 150000 | H133: 0 | I133: =+G133+H133 -> 150000 | J133: 4305 | K133: 23866.62 | L133: 4560 | M133: 25 | N133: =+M133+L133+K133+J133 -> 32756.62 | O133: =+I133-N133 -> 117243.38
A134: DAIRY ANTONIA DE AZA ALVARADO | B134: ENCARGADO (A) DE DEPARTAMENTO | C134: TEMPORALES | D134: Femenino | E134: 45992 | F134: 46174 | G134: 128000 | H134: 0 | I134: =+G134+H134 -> 128000 | J134: 3673.6 | K134: 18691.67 | L134: 3891.2 | M134: 25 | N134: =+M134+L134+K134+J134 -> 26281.47 | O134: =+I134-N134 -> 101718.53
A135: SOLANLLY GUILLERMINA CACERES PAULIN | B135: COORDINADOR (A) REGIONAL | C135: TEMPORALES | D135: Femenino | E135: 45870 | F135: 46054 | G135: 105000 | H135: 0 | I135: =+G135+H135 -> 105000 | J135: 3013.5 | K135: 13281.49 | L135: 3192 | M135: 25 | N135: =+M135+L135+K135+J135 -> 19511.99 | O135: =+I135-N135 -> 85488.01
A136: PABLO ENMANUEL GOMEZ MALLOL | B136: COORDINADOR (A) ADMINISTRATIV | C136: TEMPORALES | D136: Masculino | E136: 45839 | F136: 46023 | G136: 105000 | H136: 0 | I136: =+G136+H136 -> 105000 | J136: 3013.5 | K136: 13281.49 | L136: 3192 | M136: 25 | N136: =+M136+L136+K136+J136 -> 19511.99 | O136: =+I136-N136 -> 85488.01
A137: LAURA YANET PINALES MANCEBO | B137: COORDINADOR PROVINCIAL | C137: TEMPORALES | D137: Femenino | E137: 45870 | F137: 46054 | G137: 105000 | H137: 0 | I137: =+G137+H137 -> 105000 | J137: 3013.5 | K137: 13281.49 | L137: 3192 | M137: 25 | N137: =+M137+L137+K137+J137 -> 19511.99 | O137: =+I137-N137 -> 85488.01
A138: GINAIRY PEREZ PEREZ | B138: COORDINADOR PROVINCIAL | C138: TEMPORALES | D138: Femenino | E138: 45839 | F138: 46023 | G138: 105000 | H138: 0 | I138: =+G138+H138 -> 105000 | J138: 3013.5 | K138: 13281.49 | L138: 3192 | M138: 25 | N138: =+M138+L138+K138+J138 -> 19511.99 | O138: =+I138-N138 -> 85488.01
A139: MAYELIN PEGUERO ROMERO | B139: ANALISTA | C139: TEMPORALES | D139: Femenino | E139: 45870 | F139: 46054 | G139: 60000 | H139: 0 | I139: =+G139+H139 -> 60000 | J139: 1722 | K139: 3486.68 | L139: 1824 | M139: 25 | N139: =+M139+L139+K139+J139 -> 7057.68 | O139: =+I139-N139 -> 52942.32
A140: LUIS OCTAVIO PEÑA RODRIGUEZ | B140: ANALISTA | C140: TEMPORALES | D140: Masculino | E140: 45931 | F140: 46113 | G140: 76000 | H140: 0 | I140: =+G140+H140 -> 76000 | J140: 2181.2 | K140: 6497.56 | L140: 2310.4 | M140: 25 | N140: =+M140+L140+K140+J140 -> 11014.16 | O140: =+I140-N140 -> 64985.84
A141: EDICKSON DE JESUS MARTINEZ RODRIGUE | B141: ANALISTA | C141: TEMPORALES | D141: Masculino | E141: 45992 | F141: 46174 | G141: 76000 | H141: 0 | I141: =+G141+H141 -> 76000 | J141: 2181.2 | K141: 6497.56 | L141: 2310.4 | M141: 25 | N141: =+M141+L141+K141+J141 -> 11014.16 | O141: =+I141-N141 -> 64985.84
A142: ELAYNE DE LOS MILAGROS BAEZ TIRADO | B142: ANALISTA DE SISTEMAS INFORMAT | C142: TEMPORALES | D142: Femenino | E142: 45901 | F142: 46082 | G142: 76000 | H142: 0 | I142: =+G142+H142 -> 76000 | J142: 2181.2 | K142: 6497.56 | L142: 2310.4 | M142: 25 | N142: =+M142+L142+K142+J142 -> 11014.16 | O142: =+I142-N142 -> 64985.84
A143: NEDALAN YENIFER ORTIZ BENITEZ | B143: ANALISTA FINANCIERO | C143: TEMPORALES | D143: Femenino | E143: 45901 | F143: 46082 | G143: 76000 | H143: 0 | I143: =+G143+H143 -> 76000 | J143: 2181.2 | K143: 6497.56 | L143: 2310.4 | M143: 25 | N143: =+M143+L143+K143+J143 -> 11014.16 | O143: =+I143-N143 -> 64985.84
A144: ORFELINA SANTANA CESPEDES | B144: ANALISTA FINANCIERO | C144: TEMPORALES | D144: Femenino | E144: 45962 | F144: 46143 | G144: 76000 | H144: 0 | I144: =+G144+H144 -> 76000 | J144: 2181.2 | K144: 5729.64 | L144: 2310.4 | M144: 4505.05 | N144: =+M144+L144+K144+J144 -> 14726.29 | O144: =+I144-N144 -> 61273.71
... A152: GABRIELA ALEXANDRA SOSA CONCEPCION | B152: TECNICO ADMINISTRATIVO | C152: TEMPORALES | D152: Femenino | E152: 45870 | F152: 46054 | G152: 55000 | H152: 0 | I152: =+G152+H152 -> 55000 | J152: 1578.5 | K152: 2559.68 | L152: 1672 | M152: 25 | N152: =+M152+L152+K152+J152 -> 5835.18 | O152: =+I152-N152 -> 49164.82
D153: 20 | G153: =SUM(G133:G152) -> 1594000 | H153: =SUM(H133:H152) -> 0 | I153: =SUM(I133:I152) -> 1594000 | J153: =SUM(J133:J152) -> 45747.8 | K153: =SUM(K133:K152) -> 154312.48 | L153: =SUM(L133:L152) -> 48457.6 | M153: =SUM(M133:M152) -> 8180.81 | N153: =SUM(N133:N152) -> 256698.69 | O153: =SUM(O133:O152) -> 1337301.3
A155: DIVISION DE TRANSPORTACION Y MANTENIMIENTO -DAEH
...

Sheet Hoja1
A2: =+reportenominatemporalnoviembre!G485 -> 20084323 | B2: =+reportenominatemporalnoviembre!H485 -> 0 | C2: =+reportenominatemporalnoviembre!I485 -> 20084323 | D2: =+reportenominatemporalnoviembre!J485 -> 576420.06 | E2: =+reportenominatemporalnoviembre!K485 -> 1595839.3 | F2: =+reportenominatemporalnoviembre!L485 -> 610563.41 | G2: =+reportenominatemporalnoviembre!M485 -> 773340.22 | H2: =+reportenominatemporalnoviembre!N485 -> 3556163 | I2: =+reportenominatemporalnoviembre!O485 -> 16528160
A4: 20084323 | B4: 0 | C4: 20084323 | D4: 576420.06 | E4: 1595839.3 | F4: 610563.41 | G4: 773340.22 | H4: 3556163 | I4: 16528160
A7: =+A4-A2 -> 0 | B7: =+B4-B2 -> 0 | C7: =+C4-C2 -> 0 | D7: =+D4-D2 -> 0 | E7: =+E4-E2 -> 3.0267984e-09 | F7: =+F4-F2 -> 1.1641532e-09 | G7: =+G4-G2 -> 0 | H7: =+H4-H2 -> 9.3132257e-09 | I7: =+I4-I2 -> 0
