Workbook

Sheet reportenominatemporalnoviembre
B4: DIRECCION DE SERVICIOS DE ATENCION A EMERGENCIAS EXTRA HOSPITALARIA (DAEH)
B5: NOMINA PERSONAL TEMPORAL MES DE NOVIEMBRE 2025
A9: DIRECCION DE SERVICIOS DE ATENCION A EMERGENCIAS EXTRA HOSPITALARIA
A10: Nombre | B10: FUNCION | C10: ESTATUS | D10: GENERO | E10: FECHA DESIG | F10: FECHA TERMINO | G10: Ingreso Bruto | H10: Otros Ing. | I10: Total Ing. | J10: AFP | K10: ISR | L10: SFS | M10: Otros Desc. | N10: Total Desc. | O10: Neto
A11: CARMEN MARIA VALDEZ | B11: ASESOR(A) | C11: TEMPORALES | D11: Femenino | E11: 45870 | F11: 46054 | G11: 150000 | H11: 0 | I11: =+G11+H11 -> 150000 | J11: 4305 | K11: 23866.62 | L11: 4560 | M11: 25 | N11: =+M11+L11+K11+J11 -> 32756.62 | O11: =+I11-N11 -> 117243.38
A12: CARLOS RAFAEL HENRIQUEZ PEÑA | B12: ENCARGADO | C12: TEMPORALES | D12: Masculino | E12: 45870 | F12: 46054 | G12: 150000 | H12: 0 | I12: =+G12+H12 -> 150000 | J12: 4305 | K12: 23866.62 | L12: 4560 | M12: 25 | N12: =+M12+L12+K12+J12 -> 32756.62 | O12: =+I12-N12 -> 117243.38
A13: DIOMEL ALEXIS GARCIA GARCIA | B13: ENCARGADO DE CALIDAD EN LA GE | C13: TEMPORALES | D13: Masculino | E13: 45931 | F13: 46113 | G13: 128000 | H13: 0 | I13: =+G13+H13 -> 128000 | J13: 3673.6 | K13: 18211.72 | L13: 3891.2 | M13: 1944.78 | N13: =+M13+L13+K13+J13 -> 27721.3 | O13: =+I13-N13 -> 100278.7
A14: CARMEN ANTONIA GUTIERREZ UREÑA | B14: ASISTENTE EJECUTIVA | C14: TEMPORALES | D14: Femenino | E14: 45870 | F14: 46054 | G14: 105000 | H14: 0 | I14: =+G14+H14 -> 105000 | J14: 3013.5 | K14: 13281.49 | L14: 3192 | M14: 3624.02 | N14: =+M14+L14+K14+J14 -> 23111.01 | O14: =+I14-N14 -> 81888.99
A15: GISSEL NATHALIE ALMANZAR CARO | B15: ANALISTA DE COMPRAS Y CONTRAT | C15: TEMPORALES | D15: Femenino | E15: 45839 | F15: 46023 | G15: 76000 | H15: 0 | I15: =+G15+H15 -> 76000 | J15: 2181.2 | K15: 6497.56 | L15: 2310.4 | M15: 25 | N15: =+M15+L15+K15+J15 -> 11014.16 | O15: =+I15-N15 -> 64985.84
A16: DONATO TEJADA QUIÑONES | B16: FACILITADOR | C16: TEMPORALES | D16: Masculino | E16: 45901 | F16: 46082 | G16: 50000 | H16: 0 | I16: =+G16+H16 -> 50000 | J16: 1435 | K16: 1854 | L16: 1520 | M16: 25 | N16: =+M16+L16+K16+J16 -> 4834 | O16: =+I16-N16 -> 45166
A17: CATHERINE DIHMES FLORES | B17: TECNICO ADMINISTRATIVO | C17: TEMPORALES | D17: Femenino | E17: 45839 | F17: 46023 | G17: 45000 | H17: 0 | I17: =+G17+H17 -> 45000 | J17: 1291.5 | K17: 1148.33 | L17: 1368 | M17: 25 | N17: =+M17+L17+K17+J17 -> 3832.83 | O17: =+I17-N17 -> 41167.17
A18: EDUARD JESUS MARIA HENRIQUEZ VARGAS | B18: TECNICO | C18: TEMPORALES | D18: Masculino | E18: 45901 | F18: 46082 | G18: 55000 | H18: 0 | I18: =+G18+H18 -> 55000 | J18: 1578.5 | K18: 2559.68 | L18: 1672 | M18: 25 | N18: =+M18+L18+K18+J18 -> 5835.18 | O18: =+I18-N18 -> 49164.82
A19: ELIZABETH MATEO AMANCIO | B19: TECNICO | C19: TEMPORALES | D19: Femenino | E19: 45901 | F19: 46082 | G19: 55000 | H19: 0 | I19: =+G19+H19 -> 55000 | J19: 1578.5 | K19: 2559.68 | L19: 1672 | M19: 25 | N19: =+M19+L19+K19+J19 -> 5835.18 | O19: =+I19-N19 -> 49164.82
A20: AGUSTIN JOEL FELIZ LUNA | B20: TECNICO | C20: TEMPORALES | D20: Masculino | E20: 45931 | F20: 46113 | G20: 55000 | H20: 0 | I20: =+G20+H20 -> 55000 | J20: 1578.5 | K20: 2559.68 | L20: 1672 | M20: 25 | N20: =+M20+L20+K20+J20 -> 5835.18 | O20: =+I20-N20 -> 49164.82
D21: 10 | G21: =SUM(G11:G20) -> 869000 | H21: =SUM(H11:H20) -> 0 | I21: =SUM(I11:I20) -> 869000 | J21: =SUM(J11:J20) -> 24940.3 | K21: =SUM(K11:K20) -> 96405.38 | L21: =SUM(L11:L20) -> 26417.6 | M21: =SUM(M11:M20) -> 5768.8 | N21: =SUM(N11:N20) -> 153532.08 | O21: =SUM(O11:O20) -> 715467.92
A23: DEPARTAMENTO DE RECURSOS HUMANOS - DAEH
A24: Nombre | B24: FUNCION | C24: ESTATUS | D24: GENERO | E24: FECHA DESIG | F24: FECHA TERMINO | G24: Ingreso Bruto | H24: Otros Ing. | I24: Total Ing. | J24: AFP | K24: ISR | L24: SFS | M24: Otros Desc. | N24: Total Desc. | O24: Neto
A25: ALINA GUZMAN HUMA | B25: ENCARGADO DE RECURSOS HUMANOS | C25: TEMPORALES | D25: Femenino | E25: 45839 | F25: 46023 | G25: 150000 | H25: 0 | I25: =+G25+H25 -> 150000 | J25: 4305 | K25: 23866.62 | L25: 4560 | M25: 25 | N25: =+M25+L25+K25+J25 -> 32756.62 | O25: =+I25-N25 -> 117243.38
A26: DERLIN JASSER PAULINO PIMENTEL | B26: ENCARGADO OFICINA DE ACCESO A | C26: TEMPORALES | D26: Masculino | E26: 45962 | F26: 46143 | G26: 128000 | H26: 0 | I26: =+G26+H26 -> 128000 | J26: 3673.6 | K26: 18691.67 | L26: 3891.2 | M26: 2586.96 | N26: =+M26+L26+K26+J26 -> 28843.43 | O26: =+I26-N26 -> 99156.57
A27: ZULEIKA MARBELYS VASQUEZ RIJO | B27: ENCARGADO (A) | C27: TEMPORALES | D27: Femenino | E27: 45992 | F27: 46174 | G27: 128000 | H27: 0 | I27: =+G27+H27 -> 128000 | J27: 3673.6 | K27: 18691.67 | L27: 3891.2 | M27: 20914.89 | N27: =+M27+L27+K27+J27 -> 47171.36 | O27: =+I27-N27 -> 80828.64
A28: JULIA MARGARITA NUÑEZ DE DE LOS SAN | B28: ENCARGADO (A) | C28: TEMPORALES | D28: Femenino | E28: 45992 | F28: 46174 | G28: 128000 | H28: 0 | I28: =+G28+H28 -> 128000 | J28: 3673.6 | K28: 18211.72 | L28: 3891.2 | M28: 1944.78 | N28: =+M28+L28+K28+J28 -> 27721.3 | O28: =+I28-N28 -> 100278.7
A29: BRYAN JESUS SUAREZ DE PEÑA | B29: ENCARGADO (A) DE EVALUACION D | C29: TEMPORALES | D29: Masculino | E29: 45839 | F29: 46023 | G29: 128000 | H29: 0 | I29: =+G29+H29 -> 128000 | J29: 3673.6 | K29: 18691.67 | L29: 3891.2 | M29: 665.49 | N29: =+M29+L29+K29+J29 -> 26921.96 | O29: =+I29-N29 -> 101078.04
A30: ANTONIO FRANCISCO MARTINEZ GARRIDO | B30: ENCARGADO (A) DE NOMINA | C30: TEMPORALES | D30: Masculino | E30: 45839 | F30: 46023 | G30: 128000 | H30: 0 | I30: =+G30+H30 -> 128000 | J30: 3673.6 | K30: 18691.67 | L30: 3891.2 | M30: 25 | N30: =+M30+L30+K30+J30 -> 26281.47 | O30: =+I30-N30 -> 101718.53
A31: NIURVIS HENRIQUEZ GARCIA | B31: COORDINADORA | C31: TEMPORALES | D31: Femenino | E31: 45870 | F31: 46054 | G31: 105000 | H31: 0 | I31: =+G31+H31 -> 105000 | J31: 3013.5 | K31: 13281.49 | L31: 3192 | M31: 25 | N31: =+M31+L31+K31+J31 -> 19511.99 | O31: =+I31-N31 -> 85488.01
A32: MAYERLIN JORGE ESCOTO | B32: COORDINADOR (A) DE RECURSOS H | C32: TEMPORALES | D32: Femenino | E32: 45901 | F32: 46082 | G32: 105000 | H32: 0 | I32: =+G32+H32 -> 105000 | J32: 3013.5 | K32: 13281.49 | L32: 3192 | M32: =25+5000+5398.53 -> 10423.53 | N32: =+M32+L32+K32+J32 -> 29910.52 | O32: =+I32-N32 -> 75089.48
A33: YISSEL ALTAGRACIA SANCHEZ ORTIZ | B33: ANALISTA | C33: TEMPORALES | D33: Femenino | E33: 45992 | F33: 46174 | G33: 76000 | H33: 0 | I33: =+G33+H33 -> 76000 | J33: 2181.2 | K33: 6497.56 | L33: 2310.4 | M33: 10025 | N33: =+M33+L33+K33+J33 -> 21014.16 | O33: =+I33-N33 -> 54985.84
A34: GRECIA MARIA GOMEZ CRISOSTOMO | B34: ANALISTA | C34: TEMPORALES | D34: Femenino | E34: 45992 | F34: 46174 | G34: 76000 | H34: 0 | I34: =+G34+H34 -> 76000 | J34: 2181.2 | K34: 6497.56 | L34: 2310.4 | M34: 665.49 | N34: =+M34+L34+K34+J34 -> 11654.65 | O34: =+I34-N34 -> 64345.35
A35: VANESSA OGANDO SUERO | B35: ANALISTA | C35: TEMPORALES | D35: Femenino | E35: 45839 | F35: 46023 | G35: 76000 | H35: 0 | I35: =+G35+H35 -> 76000 | J35: 2181.2 | K35: 6113.6 | L35: 2310.4 | M35: 1944.78 | N35: =+M35+L35+K35+J35 -> 12549.98 | O35: =+I35-N35 -> 63450.02
A36: JENNY MONEGRO LIRIANO | B36: ANALISTA DE CAPACITACION Y DE | C36: TEMPORALES | D36: Femenino | E36: 45962 | F36: 46143 | G36: 76000 | H36: 0 | I36: =+G36+H36 -> 76000 | J36: 2181.2 | K36: 6497.56 | L36: 2310.4 | M36: 25 | N36: =+M36+L36+K36+J36 -> 11014.16 | O36: =+I36-N36 -> 64985.84
A37: VICKIANA MARISOL MEJIA GONZALEZ | B37: ANALISTA DE RECLUTAMIENTO Y S | C37: TEMPORALES | D37: Femenino | E37: 45901 | F37: 46082 | G37: 76000 | H37: 0 | I37: =+G37+H37 -> 76000 | J37: 2181.2 | K37: 6497.56 | L37: 2310.4 | M37: 25 | N37: =+M37+L37+K37+J37 -> 11014.16 | O37: =+I37-N37 -> 64985.84
A38: YOKAIRA CARIDAD GUZMAN REYES | B38: ANALISTA DE RECURSOS HUMANOS | C38: TEMPORALES | D38: Femenino | E38: 45901 | F38: 46082 | G38: 76000 | H38: 0 | I38: =+G38+H38 -> 76000 | J38: 2181.2 | K38: 6497.56 | L38: 2310.4 | M38: 25 | N38: =+M38+L38+K38+J38 -> 11014.16 | O38: =+I38-N38 -> 64985.84
A39: CARLENY MASSIEL MATOS LUIS | B39: ANALISTA DE RECURSOS HUMANOS | C39: TEMPORALES | D39: Femenino | E39: 45839 | F39: 46023 | G39: 76000 | H39: 0 | I39: =+G39+H39 -> 76000 | J39: 2181.2 | K39: 6497.56 | L39: 2310.4 | M39: 11754.8 | N39: =+M39+L39+K39+J39 -> 22743.96 | O39: =+I39-N39 -> 53256.04
A40: GENESIS ARLEEN PAULINO REYES | B40: ANALISTA DE RECURSOS HUMANOS | C40: TEMPORALES | D40: Femenino | E40: 45870 | F40: 46054 | G40: 76000 | H40: 0 | I40: =+G40+H40 -> 76000 | J40: 2181.2 | K40: 6497.56 | L40: 2310.4 | M40: 25 | N40: =+M40+L40+K40+J40 -> 11014.16 | O40: =+I40-N40 -> 64985.84
A41: ALEJANDRINA PEÑA LEBRON | B41: ANALISTA DE RECURSOS HUMANOS | C41: TEMPORALES | D41: Femenino | E41: 45870 | F41: 46054 | G41: 66000 | H41: 0 | I41: =+G41+H41 -> 66000 | J41: 1894.2 | K41: 4615.76 | L41: 2006.4 | M41: 25 | N41: =+M41+L41+K41+J41 -> 8541.36 | O41: =+I41-N41 -> 57458.64
A42: RAMON IGNACIO DIAZ RODRIGUEZ | B42: ANALISTA DE RECURSOS HUMANOS | C42: TEMPORALES | D42: Masculino | E42: 45901 | F42: 46082 | G42: 76000 | H42: 0 | I42: =+G42+H42 -> 76000 | J42: 2181.2 | K42: 6113.6 | L42: 2310.4 | M42: 29870.11 | N42: =+M42+L42+K42+J42 -> 40475.31 | O42: =+I42-N42 -> 35524.69
A43: CARMEN DEL ROSARIO VERAS ENCARNACIO | B43: ANALISTA DE RECURSOS HUMANOS | C43: TEMPORALES | D43: Femenino | E43: 45901 | F43: 46082 | G43: 76000 | H43: 0 | I43: =+G43+H43 -> 76000 | J43: 2181.2 | K43: 6113.6 | L43: 2310.4 | M43: 7585.27 | N43: =+M43+L43+K43+J43 -> 18190.47 | O43: =+I43-N43 -> 57809.53
A44: JULIO CESAR GONZALEZ | B44: ANALISTA DE RECURSOS HUMANOS | C44: TEMPORALES | D44: Masculino | E44: 45931 | F44: 46113 | G44: 65000 | H44: 0 | I44: =+G44+H44 -> 65000 | J44: 1865.5 | K44: 4427.58 | L44: 1976 | M44: 25 | N44: =+M44+L44+K44+J44 -> 8294.08 | O44: =+I44-N44 -> 56705.92
... A54: DARIANA PEREZ ABREU | B54: TECNICO DE RECURSOS HUMANOS | C54: TEMPORALES | D54: Femenino | E54: 45931 | F54: 46113 | G54: 55000 | H54: 0 | I54: =+G54+H54 -> 55000 | J54: 1578.5 | K54: 2559.68 | L54: 1672 | M54: 25 | N54: =+M54+L54+K54+J54 -> 5835.18 | O54: =+I54-N54 -> 49164.82
D55: 30 | G55: =SUM(G25:G54) -> 2531000 | H55: =SUM(H25:H54) -> 0 | I55: =SUM(I25:I54) -> 2531000 | J55: =SUM(J25:J54) -> 72639.7 | K55: =SUM(K25:K54) -> 259444.23 | L55: =SUM(L25:L54) -> 76942.4 | M55: =SUM(M25:M54) -> 165452.67 | N55: =SUM(N25:N54) -> 574479 | O55: =SUM(O25:O54) -> 1956521
A58: DEPARTAMENTO JURIDICO- DAEH
...

Sheet Hoja1
A2: =+reportenominatemporalnoviembre!G485 -> 20084323 | B2: =+reportenominatemporalnoviembre!H485 -> 0 | C2: =+reportenominatemporalnoviembre!I485 -> 20084323 | D2: =+reportenominatemporalnoviembre!J485 -> 576420.06 | E2: =+reportenominatemporalnoviembre!K485 -> 1595839.3 | F2: =+reportenominatemporalnoviembre!L485 -> 610563.41 | G2: =+reportenominatemporalnoviembre!M485 -> 773340.22 | H2: =+reportenominatemporalnoviembre!N485 -> 3556163 | I2: =+reportenominatemporalnoviembre!O485 -> 16528160
A4: 20084323 | B4: 0 | C4: 20084323 | D4: 576420.06 | E4: 1595839.3 | F4: 610563.41 | G4: 773340.22 | H4: 3556163 | I4: 16528160
A7: =+A4-A2 -> 0 | B7: =+B4-B2 -> 0 | C7: =+C4-C2 -> 0 | D7: =+D4-D2 -> 0 | E7: =+E4-E2 -> 3.0267984e-09 | F7: =+F4-F2 -> 1.1641532e-09 | G7: =+G4-G2 -> 0 | H7: =+H4-H2 -> 9.3132257e-09 | I7: =+I4-I2 -> 0
