Workbook

Sheet reportedefinitivomilitar
B3: DIRECCION DE SERVICIOS DE ATENCION A EMERGENCIAS EXTRA HOSPITALARIA (DAEH)
B4: NOMINA PERSONAL DE VIGILANCIA MES DE OCTUBRE 2025
A7: DIRECCION DE SERVICIOS DE ATENCION A EMERGENCIAS EXTRA HOSPITALARIA
A8: NOMBRE | B8: FUNCION | C8: ESTATUS | D8: GENERO | E8: SDO.BRUTO | F8: OTROS INGR. | G8: TOTAL INGR. | H8: AFP | I8: ISR | J8: SFS | K8: OTROS DESC. | L8: TOTAL DESC. | M8: NETO
A9: BIENVENIDO ENMANUEL RODRIGUEZ | B9: ASESOR | C9: VIGILANCIA | D9: Masculino | E9: 150000 | F9: 0 | G9: 150000 | H9: 0 | I9: 26082.87 | J9: 0 | K9: 0 | L9: 26082.87 | M9: =+G9-L9 -> 123917.13
C10: 1 | E10: =SUM(E9) -> 150000 | F10: =SUM(F9) -> 0 | G10: =SUM(G9) -> 150000 | H10: =SUM(H9) -> 0 | I10: =SUM(I9) -> 26082.87 | J10: =SUM(J9) -> 0 | K10: =SUM(K9) -> 0 | L10: =SUM(L9) -> 26082.87 | M10: =SUM(M9) -> 123917.13
A12: DEPARTAMENTO DE TECNOLOGIAS DE LA INFORMACION Y COMUNICACION- DAEH
A13: NOMBRE | B13: FUNCION | C13: ESTATUS | D13: GENERO | E13: SDO.BRUTO | F13: OTROS INGR. | G13: TOTAL INGR. | H13: AFP | I13: ISR | J13: SFS | K13: OTROS DESC. | L13: TOTAL DESC. | M13: NETO
A14: TOMAS GARCIA | B14: SUPERVISOR(A) | C14: VIGILANCIA | D14: Masculino | E14: 150000 | F14: 0 | G14: 150000 | H14: 0 | I14: 26082.87 | J14: 0 | K14: 0 | L14: 26082.87 | M14: =+G14-L14 -> 123917.13
C15: 1 | E15: =SUM(E14) -> 150000 | F15: =SUM(F14) -> 0 | G15: =SUM(G14) -> 150000 | H15: =SUM(H14) -> 0 | I15: =SUM(I14) -> 26082.87 | J15: =SUM(J14) -> 0 | K15: =SUM(K14) -> 0 | L15: =SUM(L14) -> 26082.87 | M15: =SUM(M14) -> 123917.13
A17: DIVISION DE FISCALIZACION - DAEH
A18: NOMBRE | B18: FUNCION | C18: ESTATUS | D18: GENERO | E18: SDO.BRUTO | F18: OTROS INGR. | G18: TOTAL INGR. | H18: AFP | I18: ISR | J18: SFS | K18: OTROS DESC. | L18: TOTAL DESC. | M18: NETO
A19: ROSA ELENA LAURENCIO BRITO | B19: ENCARGADO | C19: VIGILANCIA | D19: Femenino | E19: 128000 | F19: 0 | G19: 128000 | H19: 0 | I19: 20582.87 | J19: 0 | K19: 0 | L19: 20582.87 | M19: =+G19-L19 -> 107417.13
A20: ANDREA TAPIA TAVERAS DE NIN | B20: SEGURIDAD | C20: VIGILANCIA | D20: Femenino | E20: 76000 | F20: 0 | G20: 76000 | H20: 0 | I20: 7582.87 | J20: 0 | K20: 0 | L20: 7582.87 | M20: =+G20-L20 -> 68417.13
C21: 2 | E21: =SUM(E19:E20) -> 204000 | F21: =SUM(F19:F20) -> 0 | G21: =SUM(G19:G20) -> 204000 | H21: =SUM(H19:H20) -> 0 | I21: =SUM(I19:I20) -> 28165.74 | J21: =SUM(J19:J20) -> 0 | K21: =SUM(K19:K20) -> 0 | L21: =SUM(L19:L20) -> 28165.74 | M21: =SUM(M19:M20) -> 175834.26
A24: DEPARTAMENTO ADMINISTRATIVO FINANCIERO- DAEH
A25: NOMBRE | B25: FUNCION | C25: ESTATUS | D25: GENERO | E25: SDO.BRUTO | F25: OTROS INGR. | G25: TOTAL INGR. | H25: AFP | I25: ISR | J25: SFS | K25: OTROS DESC. | L25: TOTAL DESC. | M25: NETO
A26: JUAN MANUEL VICENTE LUCIANO | B26: ENCARGADO | C26: VIGILANCIA | D26: Masculino | E26: 150000 | F26: 0 | G26: 150000 | H26: 0 | I26: 26082.87 | J26: 0 | K26: 0 | L26: 26082.87 | M26: =+G26-L26 -> 123917.13
A27: JAZMIN ALEXANDRA ENCARNACION DE LOS | B27: COORDINADORA | C27: VIGILANCIA | D27: Femenino | E27: 105000 | F27: 0 | G27: 105000 | H27: 0 | I27: 14832.87 | J27: 0 | K27: 0 | L27: 14832.87 | M27: =+G27-L27 -> 90167.13
C28: 2 | E28: =SUM(E26:E27) -> 255000 | F28: =SUM(F26:F27) -> 0 | G28: =SUM(G26:G27) -> 255000 | H28: =SUM(H26:H27) -> 0 | I28: =SUM(I26:I27) -> 40915.74 | J28: =SUM(J26:J27) -> 0 | K28: =SUM(K26:K27) -> 0 | L28: =SUM(L26:L27) -> 40915.74 | M28: =SUM(M26:M27) -> 214084.26
A30: DIVISION DE ALMACEN Y SUMINISTRO -DAEH
A31: NOMBRE | B31: FUNCION | C31: ESTATUS | D31: GENERO | E31: SDO.BRUTO | F31: OTROS INGR. | G31: TOTAL INGR. | H31: AFP | I31: ISR | J31: SFS | K31: OTROS DESC. | L31: TOTAL DESC. | M31: NETO
A32: VICTORIANO CONSTANZA ALCANTARA | B32: ENCARGADO | C32: VIGILANCIA | D32: Masculino | E32: 128000 | F32: 0 | G32: 128000 | H32: 0 | I32: 20582.87 | J32: 0 | K32: 0 | L32: 20582.87 | M32: =+G32-L32 -> 107417.13
C33: 1 | E33: =SUM(E32) -> 128000 | F33: =SUM(F32) -> 0 | G33: =SUM(G32) -> 128000 | H33: =SUM(H32) -> 0 | I33: =SUM(I32) -> 20582.87 | J33: =SUM(J32) -> 0 | K33: =SUM(K32) -> 0 | L33: =SUM(L32) -> 20582.87 | M33: =SUM(M32) -> 107417.13
A35: DIVISION DE COMPRAS Y CONTRATACIONES- DAEH
A36: NOMBRE | B36: FUNCION | C36: ESTATUS | D36: GENERO | E36: SDO.BRUTO | F36: OTROS INGR. | G36: TOTAL INGR. | H36: AFP | I36: ISR | J36: SFS | K36: OTROS DESC. | L36: TOTAL DESC. | M36: NETO
A37: ALTAGRACIA SURIEL SOSA DE GONZALEZ | B37: ENCARGADO | C37: VIGILANCIA | D37: Femenino | E37: 128000 | F37: 0 | G37: 128000 | H37: 0 | I37: 20582.87 | J37: 0 | K37: 0 | L37: 20582.87 | M37: =+G37-L37 -> 107417.13
C38: 1 | E38: =SUM(E37) -> 128000 | F38: =SUM(F37) -> 0 | G38: =SUM(G37) -> 128000 | H38: =SUM(H37) -> 0 | I38: =SUM(I37) -> 20582.87 | J38: =SUM(J37) -> 0 | K38: =SUM(K37) -> 0 | L38: =SUM(L37) -> 20582.87 | M38: =SUM(M37) -> 107417.13
A41: CENTRO DE REGULACION DE URGENCIAS Y EMERGENCIAS AZUA DE COMPOSTELA- DAEH
A42: NOMBRE | B42: FUNCION | C42: ESTATUS | D42: GENERO | E42: SDO.BRUTO | F42: OTROS INGR. | G42: TOTAL INGR. | H42: AFP | I42: ISR | J42: SFS | K42: OTROS DESC. | L42: TOTAL DESC. | M42: NETO
A43: ESTALIN BATISTA MORILLO | B43: SEGURIDAD | C43: VIGILANCIA | D43: Masculino | E43: 15000 | F43: 0 | G43: 15000 | H43: 0 | I43: 0 | J43: 0 | K43: 0 | L43: =+H43+I43+J43+K43 -> 0 | M43: =+G43-L43 -> 15000
A44: SANTO MONTAÑO VARGAS | B44: SEGURIDAD | C44: VIGILANCIA | D44: Masculino | E44: 15000 | F44: 0 | G44: 15000 | H44: 0 | I44: 0 | J44: 0 | K44: 0 | L44: 0 | M44: =+G44-L44 -> 15000
A45: ISMAEL CORDERO BELTRE | B45: SEGURIDAD | C45: VIGILANCIA | D45: Masculino | E45: 15000 | F45: 0 | G45: 15000 | H45: 0 | I45: 0 | J45: 0 | K45: 0 | L45: 0 | M45: =+G45-L45 -> 15000
C46: 3 | E46: =SUM(E43:E45) -> 45000 | F46: =SUM(F43:F45) -> 0 | G46: =SUM(G43:G45) -> 45000 | H46: =SUM(H43:H45) -> 0 | I46: =SUM(I43:I45) -> 0 | J46: =SUM(J43:J45) -> 0 | K46: =SUM(K43:K45) -> 0 | L46: =SUM(L43:L45) -> 0 | M46: =SUM(M43:M45) -> 45000
A48: CENTRO DE REGULACION DE URGENCIAS Y EMERGENCIAS BARAHONA- DAEH
A49: NOMBRE | B49: FUNCION | C49: ESTATUS | D49: GENERO | E49: SDO.BRUTO | F49: OTROS INGR. | G49: TOTAL INGR. | H49: AFP | I49: ISR | J49: SFS | K49: OTROS DESC. | L49: TOTAL DESC. | M49: NETO
A50: JAVEL ALINSON ALCANTARA RODRIGUEZ | B50: SUPERVISOR DE SEGURIDAD | C50: VIGILANCIA | D50: Masculino | E50: 35000 | F50: 0 | G50: 35000 | H50: 0 | I50: 47.25 | J50: 0 | K50: 0 | L50: 47.25 | M50: =+G50-L50 -> 34952.75
C51: 1 | E51: =SUM(E50) -> 35000 | F51: =SUM(F50) -> 0 | G51: =SUM(G50) -> 35000 | H51: =SUM(H50) -> 0 | I51: =SUM(I50) -> 47.25 | J51: =SUM(J50) -> 0 | K51: =SUM(K50) -> 0 | L51: =SUM(L50) -> 47.25 | M51: =SUM(M50) -> 34952.75
A53: CENTRO DE REGULACION DE URGENCIAS Y EMERGENCIAS DUARTE- DAEH
A54: NOMBRE | B54: FUNCION | C54: ESTATUS | D54: GENERO | E54: SDO.BRUTO | F54: OTROS INGR. | G54: TOTAL INGR. | H54: AFP | I54: ISR | J54: SFS | K54: OTROS DESC. | L54: TOTAL DESC. | M54: NETO
A55: DEIVY VALENTIN SANTANA ENCARNACION | B55: SUPERVISOR DE SEGURIDAD | C55: VIGILANCIA | D55: Masculino | E55: 35000 | F55: 0 | G55: 35000 | H55: 0 | I55: 47.25 | J55: 0 | K55: 0 | L55: 47.25 | M55: =+G55-L55 -> 34952.75
C56: 1 | E56: =SUM(E55) -> 35000 | F56: =SUM(F55) -> 0 | G56: =SUM(G55) -> 35000 | H56: =SUM(H55) -> 0 | I56: =SUM(I55) -> 47.25 | J56: =SUM(J55) -> 0 | K56: =SUM(K55) -> 0 | L56: =SUM(L55) -> 47.25 | M56: =SUM(M55) -> 34952.75
A58: CENTRO DE REGULACION DE URGENCIAS Y EMERGENCIAS EL SEIBO- DAEH
A59: NOMBRE | B59: FUNCION | C59: ESTATUS | D59: GENERO | E59: SDO.BRUTO | F59: OTROS INGR. | G59: TOTAL INGR. | H59: AFP | I59: ISR | J59: SFS | K59: OTROS DESC. | L59: TOTAL DESC. | M59: NETO
A60: JUAN ISRAEL FELIX | B60: SEGURIDAD | C60: VIGILANCIA | D60: Masculino | E60: 15000 | F60: 0 | G60: 15000 | H60: 0 | I60: 0 | J60: 0 | K60: 0 | L60: 0 | M60: =+G60-L60 -> 15000
A61: MARIA ALTAGRACIA MORDAN LUGO | B61: SEGURIDAD | C61: VIGILANCIA | D61: Femenino | E61: 15000 | F61: 0 | G61: 15000 | H61: 0 | I61: 0 | J61: 0 | K61: 0 | L61: 0 | M61: =+G61-L61 -> 15000
C62: 2 | E62: =SUM(E60:E61) -> 30000 | F62: =SUM(F60:F61) -> 0 | G62: =SUM(G60:G61) -> 30000 | H62: =SUM(H60:H61) -> 0 | I62: =SUM(I60:I61) -> 0 | J62: =SUM(J60:J61) -> 0 | K62: =SUM(K60:K61) -> 0 | L62: =SUM(L60:L61) -> 0 | M62: =SUM(M60:M61) -> 30000
A64: CENTRO DE REGULACION DE URGENCIAS Y EMERGENCIAS ESPAILLAT- DAEH
A65: NOMBRE | B65: FUNCION | C65: ESTATUS | D65: GENERO | E65: SDO.BRUTO | F65: OTROS INGR. | G65: TOTAL INGR. | H65: AFP | I65: ISR | J65: SFS | K65: OTROS DESC. | L65: TOTAL DESC. | M65: NETO
A66: YODALIS FLORENTINO | B66: SEGURIDAD | C66: VIGILANCIA | D66: Masculino | E66: 15000 | F66: 0 | G66: 15000 | H66: 0 | I66: 0 | J66: 0 | K66: 0 | L66: 0 | M66: =+G66-L66 -> 15000
A67: RAFAEL FELIZ | B67: SEGURIDAD | C67: VIGILANCIA | D67: Masculino | E67: 15000 | F67: 0 | G67: 15000 | H67: 0 | I67: 0 | J67: 0 | K67: 0 | L67: 0 | M67: =+G67-L67 -> 15000
C68: 2 | E68: =SUM(E66:E67) -> 30000 | F68: =SUM(F66:F67) -> 0 | G68: =SUM(G66:G67) -> 30000 | H68: =SUM(H66:H67) -> 0 | I68: =SUM(I66:I67) -> 0 | J68: =SUM(J66:J67) -> 0 | K68: =SUM(K66:K67) -> 0 | L68: =SUM(L66:L67) -> 0 | M68: =SUM(M66:M67) -> 30000
A70: CENTRO DE REGULACION DE URGENCIAS Y EMERGENCIAS GRAN SANTO DOMINGO - DAEH
A71: NOMBRE | B71: FUNCION | C71: ESTATUS | D71: GENERO | E71: SDO.BRUTO | F71: OTROS INGR. | G71: TOTAL INGR. | H71: AFP | I71: ISR | J71: SFS | K71: OTROS DESC. | L71: TOTAL DESC. | M71: NETO
A72: MODESTO HERIBERTO EUSEBIO MONTILLA | B72: ENCARGADO (A) | C72: VIGILANCIA | D72: Masculino | E72: 150000 | F72: 0 | G72: 150000 | H72: 0 | I72: 26082.87 | J72: 0 | K72: 0 | L72: 26082.87 | M72: =+G72-L72 -> 123917.13
A73: HENRY FELIX PEREZ | B73: SUPERVISOR DE SEGURIDAD | C73: VIGILANCIA | D73: Masculino | E73: 45000 | F73: 0 | G73: 45000 | H73: 0 | I73: 1547.25 | J73: 0 | K73: 0 | L73: 1547.25 | M73: =+G73-L73 -> 43452.75
A74: SIRILO HERNANDEZ LAURENCIO | B74: SUPERVISOR DE SEGURIDAD | C74: VIGILANCIA | D74: Masculino | E74: 35000 | F74: 0 | G74: 35000 | H74: 0 | I74: 47.25 | J74: 0 | K74: 0 | L74: 47.25 | M74: =+G74-L74 -> 34952.75
A75: GUSTAVO SANTANA DE LA ROSA | B75: SEGURIDAD | C75: VIGILANCIA | D75: Masculino | E75: 15000 | F75: 0 | G75: 15000 | H75: 0 | I75: 0 | J75: 0 | K75: 0 | L75: 0 | M75: =+G75-L75 -> 15000
A76: ANTERO HERRERA ROSARIO | B76: SEGURIDAD | C76: VIGILANCIA | D76: Masculino | E76: 15000 | F76: 0 | G76: 15000 | H76: 0 | I76: 0 | J76: 0 | K76: 0 | L76: 0 | M76: =+G76-L76 -> 15000
A77: RABEL EVARISTO CASTILLO JIMENEZ | B77: SEGURIDAD | C77: VIGILANCIA | D77: Masculino | E77: 15000 | F77: 0 | G77: 15000 | H77: 0 | I77: 0 | J77: 0 | K77: 0 | L77: 0 | M77: =+G77-L77 -> 15000
A78: FERNANDO DE LA ROSA LORENZO | B78: SEGURIDAD | C78: VIGILANCIA | D78: Masculino | E78: 15000 | F78: 0 | G78: 15000 | H78: 0 | I78: 0 | J78: 0 | K78: 0 | L78: 0 | M78: =+G78-L78 -> 15000
A79: JOSE LUIS MEJIA ACEVEDO | B79: SEGURIDAD | C79: VIGILANCIA | D79: Masculino | E79: 30000 | F79: 0 | G79: 30000 | H79: 0 | I79: 0 | J79: 0 | K79: 0 | L79: 0 | M79: =+G79-L79 -> 30000
A80: MANOLO MORALES CABRERA | B80: SEGURIDAD | C80: VIGILANCIA | D80: Masculino | E80: 15000 | F80: 0 | G80: 15000 | H80: 0 | I80: 0 | J80: 0 | K80: 0 | L80: 0 | M80: =+G80-L80 -> 15000
A81: FRANKLIN ROSARIO LUPERON | B81: SEGURIDAD | C81: VIGILANCIA | D81: Masculino | E81: 15000 | F81: 0 | G81: 15000 | H81: 0 | I81: 0 | J81: 0 | K81: 0 | L81: 0 | M81: =+G81-L81 -> 15000
A82: ROBERTO RIVERA | B82: SEGURIDAD | C82: VIGILANCIA | D82: Masculino | E82: 15000 | F82: 0 | G82: 15000 | H82: 0 | I82: 0 | J82: 0 | K82: 0 | L82: 0 | M82: =+G82-L82 -> 15000
A83: JUAN PEÑA REYES | B83: SEGURIDAD | C83: VIGILANCIA | D83: Masculino | E83: 15000 | F83: 0 | G83: 15000 | H83: 0 | I83: 0 | J83: 0 | K83: 0 | L83: 0 | M83: =+G83-L83 -> 15000
... A91: LISARYS MARTINEZ BELTRE | B91: SEGURIDAD | C91: VIGILANCIA | D91: Femenino | E91: 15000 | F91: 0 | G91: 15000 | H91: 0 | I91: 0 | J91: 0 | K91: 0 | L91: 0 | M91: =+G91-L91 -> 15000
C92: 20 | E92: =SUM(E72:E91) -> 500000 | F92: =SUM(F72:F91) -> 0 | G92: =SUM(G72:G91) -> 500000 | H92: =SUM(H72:H91) -> 0 | I92: =SUM(I72:I91) -> 27677.37 | J92: =SUM(J72:J91) -> 0 | K92: =SUM(K72:K91) -> 14837.15 | L92: =SUM(L72:L91) -> 42514.52 | M92: =SUM(M72:M91) -> 457485.48
A94: CENTRO DE REGULACION DE URGENCIAS Y EMERGENCIAS HATO MAYOR DEL REY- DAEH
A95: NOMBRE | B95: FUNCION | C95: ESTATUS | D95: GENERO | E95: SDO.BRUTO | F95: OTROS INGR. | G95: TOTAL INGR. | H95: AFP | I95: ISR | J95: SFS | K95: OTROS DESC. | L95: TOTAL DESC. | M95: NETO
A96: RAMON ANTONIO SANTANA MORLA | B96: SUPERVISOR DE SEGURIDAD | C96: VIGILANCIA | D96: Masculino | E96: 35000 | F96: 0 | G96: 35000 | H96: 0 | I96: 47.25 | J96: 0 | K96: 0 | L96: 47.25 | M96: =+G96-L96 -> 34952.75
A97: JULIO YONEJIL MORA JAQUEZ | B97: SEGURIDAD | C97: VIGILANCIA | D97: Masculino | E97: 15000 | F97: 0 | G97: 15000 | H97: 0 | I97: 0 | J97: 0 | K97: 0 | L97: 0 | M97: =+G97-L97 -> 15000
A98: JOSE MIGUEL SANTOS MATEO | B98: SEGURIDAD | C98: VIGILANCIA | D98: Masculino | E98: 15000 | F98: 0 | G98: 15000 | H98: 0 | I98: 0 | J98: 0 | K98: 0 | L98: 0 | M98: =+G98-L98 -> 15000
A99: EFRAILIN SANTANA MOTA | B99: SEGURIDAD | C99: VIGILANCIA | D99: Masculino | E99: 15000 | F99: 0 | G99: 15000 | H99: 0 | I99: 0 | J99: 0 | K99: 0 | L99: 0 | M99: =+G99-L99 -> 15000
C100: 4 | E100: =SUM(E96:E99) -> 80000 | F100: =SUM(F96:F99) -> 0 | G100: =SUM(G96:G99) -> 80000 | H100: =SUM(H96:H99) -> 0 | I100: =SUM(I96:I99) -> 47.25 | J100: =SUM(J96:J99) -> 0 | K100: =SUM(K96:K99) -> 0 | L100: =SUM(L96:L99) -> 47.25 | M100: =SUM(M96:M99) -> 79952.75
A102: CENTRO DE REGULACION DE URGENCIAS Y EMERGENCIAS HERMANAS MIRABAL- DAEH
A103: NOMBRE | B103: FUNCION | C103: ESTATUS | D103: GENERO | E103: SDO.BRUTO | F103: OTROS INGR. | G103: TOTAL INGR. | H103: AFP | I103: ISR | J103: SFS | K103: OTROS DESC. | L103: TOTAL DESC. | M103: NETO
A104: AMAURIS MARIA FRIAS | B104: SEGURIDAD | C104: VIGILANCIA | D104: Masculino | E104: 15000 | F104: 0 | G104: 15000 | H104: 0 | I104: 0 | J104: 0 | K104: 0 | L104: 0 | M104: =+G104-L104 -> 15000
A105: SILVIO PERDOMO AQUINO | B105: SEGURIDAD | C105: VIGILANCIA | D105: Masculino | E105: 15000 | F105: 0 | G105: 15000 | H105: 0 | I105: 0 | J105: 0 | K105: 0 | L105: 0 | M105: =+G105-L105 -> 15000
C106: 2 | E106: =SUM(E104:E105) -> 30000 | F106: =SUM(F104:F105) -> 0 | G106: =SUM(G104:G105) -> 30000 | H106: =SUM(H104:H105) -> 0 | I106: =SUM(I104:I105) -> 0 | J106: =SUM(J104:J105) -> 0 | K106: =SUM(K104:K105) -> 0 | L106: =SUM(L104:L105) -> 0 | M106: =SUM(M104:M105) -> 30000
A108: CENTRO DE REGULACION DE URGENCIAS Y EMERGENCIAS LA ALTAGRACIA - DAEH
A109: NOMBRE | B109: FUNCION | C109: ESTATUS | D109: GENERO | E109: SDO.BRUTO | F109: OTROS INGR. | G109: TOTAL INGR. | H109: AFP | I109: ISR | J109: SFS | K109: OTROS DESC. | L109: TOTAL DESC. | M109: NETO
A110: OSCAR OVERTO BENITEZ | B110: SEGURIDAD | C110: VIGILANCIA | D110: Femenino | E110: 15000 | F110: 0 | G110: 15000 | H110: 0 | I110: 0 | J110: 0 | K110: 0 | L110: 0 | M110: =+G110-L110 -> 15000
C111: 1 | E111: =SUM(E110) -> 15000 | F111: =SUM(F110) -> 0 | G111: =SUM(G110) -> 15000 | H111: =SUM(H110) -> 0 | I111: =SUM(I110) -> 0 | J111: =SUM(J110) -> 0 | K111: =SUM(K110) -> 0 | L111: =SUM(L110) -> 0 | M111: =SUM(M110) -> 15000
A113: CENTRO DE REGULACION DE URGENCIAS Y EMERGENCIAS LA ROMANA- DAEH
A114: NOMBRE | B114: FUNCION | C114: ESTATUS | D114: GENERO | E114: SDO.BRUTO | F114: OTROS INGR. | G114: TOTAL INGR. | H114: AFP | I114: ISR | J114: SFS | K114: OTROS DESC. | L114: TOTAL DESC. | M114: NETO
A115: CESAR ALEXANDER LEONARDO RIVERAS | B115: SEGURIDAD | C115: VIGILANCIA | D115: Masculino | E115: 15000 | F115: 0 | G115: 15000 | H115: 0 | I115: 0 | J115: 0 | K115: 0 | L115: 0 | M115: =+G115-L115 -> 15000
A116: AUGUSTO ALEXANDER GUILLEN SANTANA | B116: SEGURIDAD | C116: VIGILANCIA | D116: Masculino | E116: 15000 | F116: 0 | G116: 15000 | H116: 0 | I116: 0 | J116: 0 | K116: 0 | L116: 0 | M116: =+G116-L116 -> 15000
C117: 2 | E117: =SUM(E115:E116) -> 30000 | F117: =SUM(F115:F116) -> 0 | G117: =SUM(G115:G116) -> 30000 | H117: =SUM(H115:H116) -> 0 | I117: =SUM(I115:I116) -> 0 | J117: =SUM(J115:J116) -> 0 | K117: =SUM(K115:K116) -> 0 | L117: =SUM(L115:L116) -> 0 | M117: =SUM(M115:M116) -> 30000
A119: CENTRO DE REGULACION DE URGENCIAS Y EMERGENCIAS LA VEGA-DAEH
A120: NOMBRE | B120: FUNCION | C120: ESTATUS | D120: GENERO | E120: SDO.BRUTO | F120: OTROS INGR. | G120: TOTAL INGR. | H120: AFP | I120: ISR | J120: SFS | K120: OTROS DESC. | L120: TOTAL DESC. | M120: NETO
A121: LUIS ENRIQUE DIAZ SANCHEZ | B121: SEGURIDAD | C121: VIGILANCIA | D121: Masculino | E121: 15000 | F121: 0 | G121: 15000 | H121: 0 | I121: 0 | J121: 0 | K121: 6178.47 | L121: 6178.47 | M121: =+G121-L121 -> 8821.53
A122: JOSE ANGEL ABREU ALCANTARA | B122: SEGURIDAD | C122: VIGILANCIA | D122: Masculino | E122: 15000 | F122: 0 | G122: 15000 | H122: 0 | I122: 0 | J122: 0 | K122: 0 | L122: 0 | M122: =+G122-L122 -> 15000
A123: JHON LUIS ESPINOSA NUÑEZ | B123: SEGURIDAD | C123: VIGILANCIA | D123: Masculino | E123: 15000 | F123: 0 | G123: 15000 | H123: 0 | I123: 0 | J123: 0 | K123: 0 | L123: 0 | M123: =+G123-L123 -> 15000
A124: SAMUEL CASTILLO DE LOS SANTOS | B124: SEGURIDAD | C124: VIGILANCIA | D124: Masculino | E124: 15000 | F124: 0 | G124: 15000 | H124: 0 | I124: 0 | J124: 0 | K124: 0 | L124: 0 | M124: =+G124-L124 -> 15000
A125: ADONYS ALMONTE GERMOSEN | B125: SEGURIDAD | C125: VIGILANCIA | D125: Masculino | E125: 15000 | F125: 0 | G125: 15000 | H125: 0 | I125: 0 | J125: 0 | K125: 0 | L125: 0 | M125: =+G125-L125 -> 15000
C126: 5 | E126: =SUM(E121:E125) -> 75000 | F126: =SUM(F121:F125) -> 0 | G126: =SUM(G121:G125) -> 75000 | H126: =SUM(H121:H125) -> 0 | I126: =SUM(I121:I125) -> 0 | J126: =SUM(J121:J125) -> 0 | K126: =SUM(K121:K125) -> 6178.47 | L126: =SUM(L121:L125) -> 6178.47 | M126: =SUM(M121:M125) -> 68821.53
A128: CENTRO DE REGULACION DE URGENCIAS Y EMERGENCIAS MARIA TRINIDAD SANCHEZ- DAEH
A129: NOMBRE | B129: FUNCION | C129: ESTATUS | D129: GENERO | E129: SDO.BRUTO | F129: OTROS INGR. | G129: TOTAL INGR. | H129: AFP | I129: ISR | J129: SFS | K129: OTROS DESC. | L129: TOTAL DESC. | M129: NETO
A130: YOHANSEL GOMEZ | B130: SEGURIDAD | C130: VIGILANCIA | D130: Masculino | E130: 15000 | F130: 0 | G130: 15000 | H130: 0 | I130: 0 | J130: 0 | K130: 0 | L130: 0 | M130: =+G130-L130 -> 15000
...

Sheet Hoja1
A4: =+reportedefinitivomilitar!E408 -> 8065000 | B4: =+reportedefinitivomilitar!F408 -> 0 | C4: =+reportedefinitivomilitar!G408 -> 8065000 | D4: =+reportedefinitivomilitar!H408 -> 0 | E4: =+reportedefinitivomilitar!I408 -> 402648.49 | F4: =+reportedefinitivomilitar!J408 -> 0 | G4: =+reportedefinitivomilitar!K408 -> 109846.69 | H4: =+reportedefinitivomilitar!L408 -> 512495.18 | I4: =+reportedefinitivomilitar!M408 -> 7552504.8
A7: 8065000 | B7: 0 | C7: 8065000 | D7: 0 | E7: 402648.49 | F7: 0 | G7: 109846.69 | H7: 512495.18 | I7: 7552504.8
A10: =+A7-A4 -> 0 | B10: =+B7-B4 -> 0 | C10: =+C7-C4 -> 0 | D10: =+D7-D4 -> 0 | E10: =+E7-E4 -> 0 | F10: =+F7-F4 -> 0 | G10: =+G7-G4 -> 0 | H10: =+H7-H4 -> 0 | I10: =+I7-I4 -> 0
