Workbook

Sheet reportedefinitivomilitar
B3: DIRECCION DE SERVICIOS DE ATENCION A EMERGENCIAS EXTRA HOSPITALARIA (DAEH)
B4: NOMINA PERSONAL DE VIGILANCIA MES DE OCTUBRE 2025
A7: DIRECCION DE SERVICIOS DE ATENCION A EMERGENCIAS EXTRA HOSPITALARIA
A8: NOMBRE | B8: FUNCION | C8: ESTATUS | D8: GENERO | E8: SDO.BRUTO | F8: OTROS INGR. | G8: TOTAL INGR. | H8: AFP | I8: ISR | J8: SFS | K8: OTROS DESC. | L8: TOTAL DESC. | M8: NETO
A9: BIENVENIDO ENMANUEL RODRIGUEZ | B9: ASESOR | C9: VIGILANCIA | D9: Masculino | E9: 150000 | F9: 0 | G9: 150000 | H9: 0 | I9: 26082.87 | J9: 0 | K9: 0 | L9: 26082.87 | M9: =+G9-L9 -> 123917.13
C10: 1 | E10: =SUM(E9) -> 150000 | F10: =SUM(F9) -> 0 | G10: =SUM(G9) -> 150000 | H10: =SUM(H9) -> 0 | I10: =SUM(I9) -> 26082.87 | J10: =SUM(J9) -> 0 | K10: =SUM(K9) -> 0 | L10: =SUM(L9) -> 26082.87 | M10: =SUM(M9) -> 123917.13
A12: DEPARTAMENTO DE TECNOLOGIAS DE LA INFORMACION Y COMUNICACION- DAEH
A13: NOMBRE | B13: FUNCION | C13: ESTATUS | D13: GENERO | E13: SDO.BRUTO | F13: OTROS INGR. | G13: TOTAL INGR. | H13: AFP | I13: ISR | J13: SFS | K13: OTROS DESC. | L13: TOTAL DESC. | M13: NETO
A14: TOMAS GARCIA | B14: SUPERVISOR(A) | C14: VIGILANCIA | D14: Masculino | E14: 150000 | F14: 0 | G14: 150000 | H14: 0 | I14: 26082.87 | J14: 0 | K14: 0 | L14: 26082.87 | M14: =+G14-L14 -> 123917.13
C15: 1 | E15: =SUM(E14) -> 150000 | F15: =SUM(F14) -> 0 | G15: =SUM(G14) -> 150000 | H15: =SUM(H14) -> 0 | I15: =SUM(I14) -> 26082.87 | J15: =SUM(J14) -> 0 | K15: =SUM(K14) -> 0 | L15: =SUM(L14) -> 26082.87 | M15: =SUM(M14) -> 123917.13
A17: DIVISION DE FISCALIZACION - DAEH
A18: NOMBRE | B18: FUNCION | C18: ESTATUS | D18: GENERO | E18: SDO.BRUTO | F18: OTROS INGR. | G18: TOTAL INGR. | H18: AFP | I18: ISR | J18: SFS | K18: OTROS DESC. | L18: TOTAL DESC. | M18: NETO
A19: ROSA ELENA LAURENCIO BRITO | B19: ENCARGADO | C19: VIGILANCIA | D19: Femenino | E19: 128000 | F19: 0 | G19: 128000 | H19: 0 | I19: 20582.87 | J19: 0 | K19: 0 | L19: 20582.87 | M19: =+G19-L19 -> 107417.13
A20: ANDREA TAPIA TAVERAS DE NIN | B20: SEGURIDAD | C20: VIGILANCIA | D20: Femenino | E20: 76000 | F20: 0 | G20: 76000 | H20: 0 | I20: 7582.87 | J20: 0 | K20: 0 | L20: 7582.87 | M20: =+G20-L20 -> 68417.13
C21: 2 | E21: =SUM(E19:E20) -> 204000 | F21: =SUM(F19:F20) -> 0 | G21: =SUM(G19:G20) -> 204000 | H21: =SUM(H19:H20) -> 0 | I21: =SUM(I19:I20) -> 28165.74 | J21: =SUM(J19:J20) -> 0 | K21: =SUM(K19:K20) -> 0 | L21: =SUM(L19:L20) -> 28165.74 | M21: =SUM(M19:M20) -> 175834.26
A24: DEPARTAMENTO ADMINISTRATIVO FINANCIERO- DAEH
A25: NOMBRE | B25: FUNCION | C25: ESTATUS | D25: GENERO | E25: SDO.BRUTO | F25: OTROS INGR. | G25: TOTAL INGR. | H25: AFP | I25: ISR | J25: SFS | K25: OTROS DESC. | L25: TOTAL DESC. | M25: NETO
A26: JUAN MANUEL VICENTE LUCIANO | B26: ENCARGADO | C26: VIGILANCIA | D26: Masculino | E26: 150000 | F26: 0 | G26: 150000 | H26: 0 | I26: 26082.87 | J26: 0 | K26: 0 | L26: 26082.87 | M26: =+G26-L26 -> 123917.13
A27: JAZMIN ALEXANDRA ENCARNACION DE LOS | B27: COORDINADORA | C27: VIGILANCIA | D27: Femenino | E27: 105000 | F27: 0 | G27: 105000 | H27: 0 | I27: 14832.87 | J27: 0 | K27: 0 | L27: 14832.87 | M27: =+G27-L27 -> 90167.13
C28: 2 | E28: =SUM(E26:E27) -> 255000 | F28: =SUM(F26:F27) -> 0 | G28: =SUM(G26:G27) -> 255000 | H28: =SUM(H26:H27) -> 0 | I28: =SUM(I26:I27) -> 40915.74 | J28: =SUM(J26:J27) -> 0 | K28: =SUM(K26:K27) -> 0 | L28: =SUM(L26:L27) -> 40915.74 | M28: =SUM(M26:M27) -> 214084.26
A30: DIVISION DE ALMACEN Y SUMINISTRO -DAEH
A31: NOMBRE | B31: FUNCION | C31: ESTATUS | D31: GENERO | E31: SDO.BRUTO | F31: OTROS INGR. | G31: TOTAL INGR. | H31: AFP | I31: ISR | J31: SFS | K31: OTROS DESC. | L31: TOTAL DESC. | M31: NETO
A32: VICTORIANO CONSTANZA ALCANTARA | B32: ENCARGADO | C32: VIGILANCIA | D32: Masculino | E32: 128000 | F32: 0 | G32: 128000 | H32: 0 | I32: 20582.87 | J32: 0 | K32: 0 | L32: 20582.87 | M32: =+G32-L32 -> 107417.13
C33: 1 | E33: =SUM(E32) -> 128000 | F33: =SUM(F32) -> 0 | G33: =SUM(G32) -> 128000 | H33: =SUM(H32) -> 0 | I33: =SUM(I32) -> 20582.87 | J33: =SUM(J32) -> 0 | K33: =SUM(K32) -> 0 | L33: =SUM(L32) -> 20582.87 | M33: =SUM(M32) -> 107417.13
A35: DIVISION DE COMPRAS Y CONTRATACIONES- DAEH
A36: NOMBRE | B36: FUNCION | C36: ESTATUS | D36: GENERO | E36: SDO.BRUTO | F36: OTROS INGR. | G36: TOTAL INGR. | H36: AFP | I36: ISR | J36: SFS | K36: OTROS DESC. | L36: TOTAL DESC. | M36: NETO
A37: ALTAGRACIA SURIEL SOSA DE GONZALEZ | B37: ENCARGADO | C37: VIGILANCIA | D37: Femenino | E37: 128000 | F37: 0 | G37: 128000 | H37: 0 | I37: 20582.87 | J37: 0 | K37: 0 | L37: 20582.87 | M37: =+G37-L37 -> 107417.13
C38: 1 | E38: =SUM(E37) -> 128000 | F38: =SUM(F37) -> 0 | G38: =SUM(G37) -> 128000 | H38: =SUM(H37) -> 0 | I38: =SUM(I37) -> 20582.87 | J38: =SUM(J37) -> 0 | K38: =SUM(K37) -> 0 | L38: =SUM(L37) -> 20582.87 | M38: =SUM(M37) -> 107417.13
A41: CENTRO DE REGULACION DE URGENCIAS Y EMERGENCIAS AZUA DE COMPOSTELA- DAEH
A42: NOMBRE | B42: FUNCION | C42: ESTATUS | D42: GENERO | E42: SDO.BRUTO | F42: OTROS INGR. | G42: TOTAL INGR. | H42: AFP | I42: ISR | J42: SFS | K42: OTROS DESC. | L42: TOTAL DESC. | M42: NETO
A43: ESTALIN BATISTA MORILLO | B43: SEGURIDAD | C43: VIGILANCIA | D43: Masculino | E43: 15000 | F43: 0 | G43: 15000 | H43: 0 | I43: 0 | J43: 0 | K43: 0 | L43: =+H43+I43+J43+K43 -> 0 | M43: =+G43-L43 -> 15000
A44: SANTO MONTAÑO VARGAS | B44: SEGURIDAD | C44: VIGILANCIA | D44: Masculino | E44: 15000 | F44: 0 | G44: 15000 | H44: 0 | I44: 0 | J44: 0 | K44: 0 | L44: 0 | M44: =+G44-L44 -> 15000
A45: ISMAEL CORDERO BELTRE | B45: SEGURIDAD | C45: VIGILANCIA | D45: Masculino | E45: 15000 | F45: 0 | G45: 15000 | H45: 0 | I45: 0 | J45: 0 | K45: 0 | L45: 0 | M45: =+G45-L45 -> 15000
C46: 3 | E46: =SUM(E43:E45) -> 45000 | F46: =SUM(F43:F45) -> 0 | G46: =SUM(G43:G45) -> 45000 | H46: =SUM(H43:H45) -> 0 | I46: =SUM(I43:I45) -> 0 | J46: =SUM(J43:J45) -> 0 | K46: =SUM(K43:K45) -> 0 | L46: =SUM(L43:L45) -> 0 | M46: =SUM(M43:M45) -> 45000
A48: CENTRO DE REGULACION DE URGENCIAS Y EMERGENCIAS BARAHONA- DAEH
A49: NOMBRE | B49: FUNCION | C49: ESTATUS | D49: GENERO | E49: SDO.BRUTO | F49: OTROS INGR. | G49: TOTAL INGR. | H49: AFP | I49: ISR | J49: SFS | K49: OTROS DESC. | L49: TOTAL DESC. | M49: NETO
A50: JAVEL ALINSON ALCANTARA RODRIGUEZ | B50: SUPERVISOR DE SEGURIDAD | C50: VIGILANCIA | D50: Masculino | E50: 35000 | F50: 0 | G50: 35000 | H50: 0 | I50: 47.25 | J50: 0 | K50: 0 | L50: 47.25 | M50: =+G50-L50 -> 34952.75
C51: 1 | E51: =SUM(E50) -> 35000 | F51: =SUM(F50) -> 0 | G51: =SUM(G50) -> 35000 | H51: =SUM(H50) -> 0 | I51: =SUM(I50) -> 47.25 | J51: =SUM(J50) -> 0 | K51: =SUM(K50) -> 0 | L51: =SUM(L50) -> 47.25 | M51: =SUM(M50) -> 34952.75
A53: CENTRO DE REGULACION DE URGENCIAS Y EMERGENCIAS DUARTE- DAEH
A54: NOMBRE | B54: FUNCION | C54: ESTATUS | D54: GENERO | E54: SDO.BRUTO | F54: OTROS INGR. | G54: TOTAL INGR. | H54: AFP | I54: ISR | J54: SFS | K54: OTROS DESC. | L54: TOTAL DESC. | M54: NETO
...

Sheet Hoja1
A4: =+reportedefinitivomilitar!E408 -> 8065000 | B4: =+reportedefinitivomilitar!F408 -> 0 | C4: =+reportedefinitivomilitar!G408 -> 8065000 | D4: =+reportedefinitivomilitar!H408 -> 0 | E4: =+reportedefinitivomilitar!I408 -> 402648.49 | F4: =+reportedefinitivomilitar!J408 -> 0 | G4: =+reportedefinitivomilitar!K408 -> 109846.69 | H4: =+reportedefinitivomilitar!L408 -> 512495.18 | I4: =+reportedefinitivomilitar!M408 -> 7552504.8
A7: 8065000 | B7: 0 | C7: 8065000 | D7: 0 | E7: 402648.49 | F7: 0 | G7: 109846.69 | H7: 512495.18 | I7: 7552504.8
A10: =+A7-A4 -> 0 | B10: =+B7-B4 -> 0 | C10: =+C7-C4 -> 0 | D10: =+D7-D4 -> 0 | E10: =+E7-E4 -> 0 | F10: =+F7-F4 -> 0 | G10: =+G7-G4 -> 0 | H10: =+H7-H4 -> 0 | I10: =+I7-I4 -> 0
